BEGIN:VCALENDAR
VERSION:2.0
PRODID:-//Department of History, UC Santa Barbara - ECPv6.15.12.1//NONSGML v1.0//EN
CALSCALE:GREGORIAN
METHOD:PUBLISH
X-WR-CALNAME:Department of History, UC Santa Barbara
X-ORIGINAL-URL:https://www.history.ucsb.edu
X-WR-CALDESC:Events for Department of History, UC Santa Barbara
REFRESH-INTERVAL;VALUE=DURATION:PT1H
X-Robots-Tag:noindex
X-PUBLISHED-TTL:PT1H
BEGIN:VTIMEZONE
TZID:America/Los_Angeles
BEGIN:DAYLIGHT
TZOFFSETFROM:-0800
TZOFFSETTO:-0700
TZNAME:PDT
DTSTART:20150308T100000
END:DAYLIGHT
BEGIN:STANDARD
TZOFFSETFROM:-0700
TZOFFSETTO:-0800
TZNAME:PST
DTSTART:20151101T090000
END:STANDARD
BEGIN:DAYLIGHT
TZOFFSETFROM:-0800
TZOFFSETTO:-0700
TZNAME:PDT
DTSTART:20160313T100000
END:DAYLIGHT
BEGIN:STANDARD
TZOFFSETFROM:-0700
TZOFFSETTO:-0800
TZNAME:PST
DTSTART:20161106T090000
END:STANDARD
BEGIN:DAYLIGHT
TZOFFSETFROM:-0800
TZOFFSETTO:-0700
TZNAME:PDT
DTSTART:20170312T100000
END:DAYLIGHT
BEGIN:STANDARD
TZOFFSETFROM:-0700
TZOFFSETTO:-0800
TZNAME:PST
DTSTART:20171105T090000
END:STANDARD
BEGIN:DAYLIGHT
TZOFFSETFROM:-0800
TZOFFSETTO:-0700
TZNAME:PDT
DTSTART:20180311T100000
END:DAYLIGHT
BEGIN:STANDARD
TZOFFSETFROM:-0700
TZOFFSETTO:-0800
TZNAME:PST
DTSTART:20181104T090000
END:STANDARD
BEGIN:DAYLIGHT
TZOFFSETFROM:-0800
TZOFFSETTO:-0700
TZNAME:PDT
DTSTART:20190310T100000
END:DAYLIGHT
BEGIN:STANDARD
TZOFFSETFROM:-0700
TZOFFSETTO:-0800
TZNAME:PST
DTSTART:20191103T090000
END:STANDARD
BEGIN:DAYLIGHT
TZOFFSETFROM:-0800
TZOFFSETTO:-0700
TZNAME:PDT
DTSTART:20200308T100000
END:DAYLIGHT
BEGIN:STANDARD
TZOFFSETFROM:-0700
TZOFFSETTO:-0800
TZNAME:PST
DTSTART:20201101T090000
END:STANDARD
BEGIN:DAYLIGHT
TZOFFSETFROM:-0800
TZOFFSETTO:-0700
TZNAME:PDT
DTSTART:20210314T100000
END:DAYLIGHT
BEGIN:STANDARD
TZOFFSETFROM:-0700
TZOFFSETTO:-0800
TZNAME:PST
DTSTART:20211107T090000
END:STANDARD
BEGIN:DAYLIGHT
TZOFFSETFROM:-0800
TZOFFSETTO:-0700
TZNAME:PDT
DTSTART:20220313T100000
END:DAYLIGHT
BEGIN:STANDARD
TZOFFSETFROM:-0700
TZOFFSETTO:-0800
TZNAME:PST
DTSTART:20221106T090000
END:STANDARD
BEGIN:DAYLIGHT
TZOFFSETFROM:-0800
TZOFFSETTO:-0700
TZNAME:PDT
DTSTART:20230312T100000
END:DAYLIGHT
BEGIN:STANDARD
TZOFFSETFROM:-0700
TZOFFSETTO:-0800
TZNAME:PST
DTSTART:20231105T090000
END:STANDARD
BEGIN:DAYLIGHT
TZOFFSETFROM:-0800
TZOFFSETTO:-0700
TZNAME:PDT
DTSTART:20240310T100000
END:DAYLIGHT
BEGIN:STANDARD
TZOFFSETFROM:-0700
TZOFFSETTO:-0800
TZNAME:PST
DTSTART:20241103T090000
END:STANDARD
END:VTIMEZONE
BEGIN:VEVENT
DTSTART;TZID=America/Los_Angeles:20230519T120000
DTEND;TZID=America/Los_Angeles:20230519T133000
DTSTAMP:20260417T221924
CREATED:20230405T215243Z
LAST-MODIFIED:20230515T214728Z
UID:10002942-1684497600-1684503000@www.history.ucsb.edu
SUMMARY:History and Political Economy Colloquium with Prof. Adam Sabra
DESCRIPTION:The colloquium offers a forum for open\, substantive discussions on how to approach political economy from a historical perspective; how to grapple with and benefit from the epistemological diversity surrounding political economy; and how a historical take on political economy can help contextualize and address urgent contemporary issues– at UCSB\, in Santa Barbara/Southern California\, in the U.S.\, and around the world – ranging from rent\, inflation\, and student debt to deepening\, racialized inequality. For that purpose\, we will center our own research and put our work into conversation across geographical\, chronological\, and field boundaries.  \nAt our sixth meeting\, we will discuss “Local Power\, Empire\, and Political Economy ” with Professor Adam Sabra. \nPlease note that this session will take place in HSSB 4065.  \nIn preparation for the meeting\, please contact Professor Manuel Covo for the materials. Everyone is welcome. Light refreshments will be served. 
URL:https://www.history.ucsb.edu/events/history-and-political-economy-colloquium-with-prof-adam-sabra/
LOCATION:HSSB 4065\, 4065 Humanities and Social Sciences Building\, UC Santa Barbara\, Santa Barbara\, CA\, 93106\, United States
CATEGORIES:Academic Calendar,Colloquium Event
ATTACH;FMTTYPE=application/pdf:https://www.history.ucsb.edu/wp-content/uploads/Flyer-6-Sabra.pdf
GEO:34.4139629;-119.848947
X-APPLE-STRUCTURED-LOCATION;VALUE=URI;X-ADDRESS=HSSB 4065 4065 Humanities and Social Sciences Building UC Santa Barbara Santa Barbara CA 93106 United States;X-APPLE-RADIUS=500;X-TITLE=4065 Humanities and Social Sciences Building\, UC Santa Barbara:geo:-119.848947,34.4139629
END:VEVENT
BEGIN:VEVENT
DTSTART;TZID=America/Los_Angeles:20200220T153000
DTEND;TZID=America/Los_Angeles:20200220T153000
DTSTAMP:20260417T221924
CREATED:20200114T065436Z
LAST-MODIFIED:20200114T065436Z
UID:10002284-1582212600-1582212600@www.history.ucsb.edu
SUMMARY:Gender Studies Paper Workshop: Kristen Thomas-McGill’s "'Even His Lungs Were Affected': Aubrey Beardsley\, Earnestness\, and the Artistic Politics of Interiority"
DESCRIPTION:Join the Gender and Sexualities Research Cluster for a paper workshop on Kristen Thomas-McGill‘s “‘Even His Lungs Were Affected’: Aubrey Beardsley\, Earnestness\, and the Artistic Politics of Interiority.” The event will take place in HSSB 4065 on Thursday\, February 20 at 3:30. To obtain the paper in advance\, email Jarett Henderson at jhenderson@history.ucsb.edu.
URL:https://www.history.ucsb.edu/events/gender-studies-paper-workshop-kristen-thomas-mcgills-even-his-lungs-were-affected-aubrey-beardsley-earnestness-and-the-artistic-politics-of-interiority/
LOCATION:HSSB 4065\, 4065 Humanities and Social Sciences Building\, UC Santa Barbara\, Santa Barbara\, CA\, 93106\, United States
CATEGORIES:Paper Workshop
ATTACH;FMTTYPE=image/jpeg:https://www.history.ucsb.edu/wp-content/uploads/Gender-Cluster-Workshop-Thomas-McGill.jpg
GEO:34.4139629;-119.848947
X-APPLE-STRUCTURED-LOCATION;VALUE=URI;X-ADDRESS=HSSB 4065 4065 Humanities and Social Sciences Building UC Santa Barbara Santa Barbara CA 93106 United States;X-APPLE-RADIUS=500;X-TITLE=4065 Humanities and Social Sciences Building\, UC Santa Barbara:geo:-119.848947,34.4139629
END:VEVENT
BEGIN:VEVENT
DTSTART;TZID=America/Los_Angeles:20200130T153000
DTEND;TZID=America/Los_Angeles:20200130T153000
DTSTAMP:20260417T221924
CREATED:20200114T064444Z
LAST-MODIFIED:20200130T221953Z
UID:10002282-1580398200-1580398200@www.history.ucsb.edu
SUMMARY:Gender Studies Paper Workshop: Jarett Henderson's "The 'Turton Job' and the Sexual Politics of the Durham Administration in Britain and British North America"
DESCRIPTION:Join the Gender and Sexualities Research Cluster for a paper workshop on Jarett Henderson‘s “The ‘Turton Job’ and the Sexual Politics of the Durham Administration in Britain and British North America.” The event will take place in HSSB 4065 on Thursday\, January 30 at 3:30. To obtain the paper in advance\, email Jarett Henderson at jhenderson@history.ucsb.edu.
URL:https://www.history.ucsb.edu/events/gender-studies-paper-workshop-jarett-hendersons-the-turton-job-and-the-sexual-politics-of-the-durham-administration-in-briatin-and-british-north-america/
LOCATION:HSSB 4065\, 4065 Humanities and Social Sciences Building\, UC Santa Barbara\, Santa Barbara\, CA\, 93106\, United States
CATEGORIES:Paper Workshop
ATTACH;FMTTYPE=image/jpeg:https://www.history.ucsb.edu/wp-content/uploads/Gender-Cluster-Workshop-Henderson.jpg
GEO:34.4139629;-119.848947
X-APPLE-STRUCTURED-LOCATION;VALUE=URI;X-ADDRESS=HSSB 4065 4065 Humanities and Social Sciences Building UC Santa Barbara Santa Barbara CA 93106 United States;X-APPLE-RADIUS=500;X-TITLE=4065 Humanities and Social Sciences Building\, UC Santa Barbara:geo:-119.848947,34.4139629
END:VEVENT
BEGIN:VEVENT
DTSTART;TZID=America/Los_Angeles:20161103T120000
DTEND;TZID=America/Los_Angeles:20161103T130000
DTSTAMP:20260417T221924
CREATED:20161026T194013Z
LAST-MODIFIED:20161026T194013Z
UID:10002456-1478174400-1478178000@www.history.ucsb.edu
SUMMARY:Giuliana Perrone Speaks on Reconstruction-Era Courts and Legacies of Slavery
DESCRIPTION:Giuliana Perrone\, new Assistant Professor in the History Department\, will give a talk at the IHC on the role the courts played in (re)constructing the lives of black families. Perrone will discuss the problems and possibilities Reconstruction-era courts presented to former slaves and the legal system in “Slaves into Citizens: Legitimizing Black Domestic Relationships in Reconstruction-Era State Courts” This talk is one of a series of lectures put together by the IHC’s Research Focus Group (RFG) on Slavery\, Captivity\, and the Meaning of Freedom. Perrone’s larger current project\,”Litigating Emancipation: Slavery’s Legal Afterlife\, 1865-1877\,” explores the ways that slavery and the court system remained relevant after emancipation and how concepts of race shaped legal and political identities over time. \n 
URL:https://www.history.ucsb.edu/events/giuliana-perrone-speaks-reconstruction-era-courts-legacies-slavery/
LOCATION:HSSB 4065\, 4065 Humanities and Social Sciences Building\, UC Santa Barbara\, Santa Barbara\, CA\, 93106\, United States
GEO:34.4139629;-119.848947
X-APPLE-STRUCTURED-LOCATION;VALUE=URI;X-ADDRESS=HSSB 4065 4065 Humanities and Social Sciences Building UC Santa Barbara Santa Barbara CA 93106 United States;X-APPLE-RADIUS=500;X-TITLE=4065 Humanities and Social Sciences Building\, UC Santa Barbara:geo:-119.848947,34.4139629
END:VEVENT
BEGIN:VEVENT
DTSTART;TZID=America/Los_Angeles:20160115T090000
DTEND;TZID=America/Los_Angeles:20160115T230000
DTSTAMP:20260417T221924
CREATED:20160114T061618Z
LAST-MODIFIED:20160114T061618Z
UID:10002410-1452848400-1452898800@www.history.ucsb.edu
SUMMARY:Grant-Writing Workshop for Graduate Students
DESCRIPTION:The Graduate Finance Committee will hold a workshop to help graduate students familiarize themselves with the process of applying for funding within and outside UCSB. Students should bring drafts of grant proposals for discussion\, if possible. The workshop will begin with a discussion of applying for central funding and move on to outside applications. \nThis workshop will be sponsored by the Graduate Financial Aid Committee\, but the participation of other colleagues with a variety of areas of specialization is welcomed.
URL:https://www.history.ucsb.edu/events/grant-writing-workshop-for-graduate-students/
LOCATION:HSSB 4065\, 4065 Humanities and Social Sciences Building\, UC Santa Barbara\, Santa Barbara\, CA\, 93106\, United States
GEO:34.4139629;-119.848947
X-APPLE-STRUCTURED-LOCATION;VALUE=URI;X-ADDRESS=HSSB 4065 4065 Humanities and Social Sciences Building UC Santa Barbara Santa Barbara CA 93106 United States;X-APPLE-RADIUS=500;X-TITLE=4065 Humanities and Social Sciences Building\, UC Santa Barbara:geo:-119.848947,34.4139629
END:VEVENT
END:VCALENDAR