BEGIN:VCALENDAR
VERSION:2.0
PRODID:-//Department of History, UC Santa Barbara - ECPv6.15.12.1//NONSGML v1.0//EN
CALSCALE:GREGORIAN
METHOD:PUBLISH
X-WR-CALNAME:Department of History, UC Santa Barbara
X-ORIGINAL-URL:https://www.history.ucsb.edu
X-WR-CALDESC:Events for Department of History, UC Santa Barbara
REFRESH-INTERVAL;VALUE=DURATION:PT1H
X-Robots-Tag:noindex
X-PUBLISHED-TTL:PT1H
BEGIN:VTIMEZONE
TZID:America/Los_Angeles
BEGIN:DAYLIGHT
TZOFFSETFROM:-0800
TZOFFSETTO:-0700
TZNAME:PDT
DTSTART:20220313T100000
END:DAYLIGHT
BEGIN:STANDARD
TZOFFSETFROM:-0700
TZOFFSETTO:-0800
TZNAME:PST
DTSTART:20221106T090000
END:STANDARD
BEGIN:DAYLIGHT
TZOFFSETFROM:-0800
TZOFFSETTO:-0700
TZNAME:PDT
DTSTART:20230312T100000
END:DAYLIGHT
BEGIN:STANDARD
TZOFFSETFROM:-0700
TZOFFSETTO:-0800
TZNAME:PST
DTSTART:20231105T090000
END:STANDARD
BEGIN:DAYLIGHT
TZOFFSETFROM:-0800
TZOFFSETTO:-0700
TZNAME:PDT
DTSTART:20240310T100000
END:DAYLIGHT
BEGIN:STANDARD
TZOFFSETFROM:-0700
TZOFFSETTO:-0800
TZNAME:PST
DTSTART:20241103T090000
END:STANDARD
BEGIN:DAYLIGHT
TZOFFSETFROM:-0800
TZOFFSETTO:-0700
TZNAME:PDT
DTSTART:20250309T100000
END:DAYLIGHT
BEGIN:STANDARD
TZOFFSETFROM:-0700
TZOFFSETTO:-0800
TZNAME:PST
DTSTART:20251102T090000
END:STANDARD
BEGIN:DAYLIGHT
TZOFFSETFROM:-0800
TZOFFSETTO:-0700
TZNAME:PDT
DTSTART:20260308T100000
END:DAYLIGHT
BEGIN:STANDARD
TZOFFSETFROM:-0700
TZOFFSETTO:-0800
TZNAME:PST
DTSTART:20261101T090000
END:STANDARD
END:VTIMEZONE
BEGIN:VEVENT
DTSTART;TZID=America/Los_Angeles:20250123T173000
DTEND;TZID=America/Los_Angeles:20250123T190000
DTSTAMP:20260421T115203
CREATED:20250111T004056Z
LAST-MODIFIED:20250111T004057Z
UID:10003005-1737653400-1737658800@www.history.ucsb.edu
SUMMARY:Sergey Saluschev\, "Reluctant Abolitionists: Slavery and Abolition in the Nineteenth-Century Caucasus\, 1801-1914"
DESCRIPTION:
URL:https://www.history.ucsb.edu/events/sergey-saluschev-reluctant-abolitionists-slavery-and-abolition-in-the-nineteenth-century-caucasus-1801-1914/
LOCATION:HSSB 4020
CATEGORIES:Academic Calendar,Graduate Program,Public Lecture
END:VEVENT
BEGIN:VEVENT
DTSTART;TZID=America/Los_Angeles:20230303T090000
DTEND;TZID=America/Los_Angeles:20230303T170000
DTSTAMP:20260421T115203
CREATED:20230202T193533Z
LAST-MODIFIED:20230228T180112Z
UID:10002917-1677834000-1677862800@www.history.ucsb.edu
SUMMARY:Graduate Recruitment Day
DESCRIPTION:Admitted graduate students are invited to visit the Department of History and get to know its faculty and current graduate students.  Panels\, roundtables and social events will introduce prospective grad students to our department. \nDownload the program and schedule here: \n2023 Recruitment Day Schedule
URL:https://www.history.ucsb.edu/events/graduate-recruitment-day/
LOCATION:HSSB 4020
END:VEVENT
END:VCALENDAR