BEGIN:VCALENDAR
VERSION:2.0
PRODID:-//Department of History, UC Santa Barbara - ECPv6.15.12.1//NONSGML v1.0//EN
CALSCALE:GREGORIAN
METHOD:PUBLISH
X-WR-CALNAME:Department of History, UC Santa Barbara
X-ORIGINAL-URL:https://www.history.ucsb.edu
X-WR-CALDESC:Events for Department of History, UC Santa Barbara
REFRESH-INTERVAL;VALUE=DURATION:PT1H
X-Robots-Tag:noindex
X-PUBLISHED-TTL:PT1H
BEGIN:VTIMEZONE
TZID:America/Los_Angeles
BEGIN:DAYLIGHT
TZOFFSETFROM:-0800
TZOFFSETTO:-0700
TZNAME:PDT
DTSTART:20160313T100000
END:DAYLIGHT
BEGIN:STANDARD
TZOFFSETFROM:-0700
TZOFFSETTO:-0800
TZNAME:PST
DTSTART:20161106T090000
END:STANDARD
BEGIN:DAYLIGHT
TZOFFSETFROM:-0800
TZOFFSETTO:-0700
TZNAME:PDT
DTSTART:20170312T100000
END:DAYLIGHT
BEGIN:STANDARD
TZOFFSETFROM:-0700
TZOFFSETTO:-0800
TZNAME:PST
DTSTART:20171105T090000
END:STANDARD
BEGIN:DAYLIGHT
TZOFFSETFROM:-0800
TZOFFSETTO:-0700
TZNAME:PDT
DTSTART:20180311T100000
END:DAYLIGHT
BEGIN:STANDARD
TZOFFSETFROM:-0700
TZOFFSETTO:-0800
TZNAME:PST
DTSTART:20181104T090000
END:STANDARD
BEGIN:DAYLIGHT
TZOFFSETFROM:-0800
TZOFFSETTO:-0700
TZNAME:PDT
DTSTART:20190310T100000
END:DAYLIGHT
BEGIN:STANDARD
TZOFFSETFROM:-0700
TZOFFSETTO:-0800
TZNAME:PST
DTSTART:20191103T090000
END:STANDARD
END:VTIMEZONE
BEGIN:VEVENT
DTSTART;TZID=America/Los_Angeles:20180518T093000
DTEND;TZID=America/Los_Angeles:20180518T150000
DTSTAMP:20260419T193822
CREATED:20180516T055105Z
LAST-MODIFIED:20180516T164803Z
UID:10002552-1526635800-1526655600@www.history.ucsb.edu
SUMMARY:Senior Honors Thesis Colloquium
DESCRIPTION:Honors Student and Mentor with Thesis Poster\nThis Friday from 9:30am to 2:45pm nine students from the 2017-18 History Senior Honors Seminar will present the results of their research in a conference-panel format\, with professors commenting afterwards. Everyone is invited! \nProgram: \nPanel 1\, 9:30-11am: Public Policies’ Effects on People’s Lives \n\nHalley Thiel\, “’There is Power in the Blood:’ The Growth of the California Oil Industry and Its Resistance to Standard Oil”\nMentor: Dr. Graves; comment by Dr. Martin\nPenelope Fergison\, “Head for the Hills: Race and Property Value in Oakland”\nMentor: Prof. Perrone; comment by Prof Lichtenstein\nSasha Bates\, “Ignoring Atrocities: The Reagan Administration Funding the Salvadoran Government\, 1981-1984”\nMentor: Prof. Yaqub; comment by Prof. Bergstrom\n\nPanel 2\, 11:15-12:45: Individual Agency in Policy Formation \n\nMilo Schaberg\, “Nuclear Semiotics: Thomas Sebeok and the ‘Atomic Priesthood’”\nMentor: Prof. Aronova; comment by Prof. McCray\nAvery Barboza\, “A Sixteenth Century Cold War: England\, Spain\, and John Hawkins”\nMentor: Prof. McGee; comment by Prof. Covo\nAmanda Krstic\, “Age of Quarrel: Slavery and Diplomacy in Maryland in the\nAge of Atlantic Revolutions”\nMentor: Prof. Covo; comment by Prof. Perrone\n\nLunch break\, 12:45-1:15 (will be provided for all participants) \nPanel 3\, 1:15-2:45: Culture’s Effects on Life and Politics \n\nMegan Lucas\, “Bluestockings on Campus: Women at Smith College and Vassar College in the Nineteenth Century”\nMentor: Dr. Case; comment by Prof. Chavez-Garcia\nJessica Kanter\, “Historiographies of Colonial Rule: Italian Fascists in Libya and the British in Zimbabwe”\nMentor: Prof. Chikowero; comment by Ross Melczer\nZingha Foma\, “The Origin of Dutch African Prints: Tracing African Culture\, Politics and History through Textile and Dress Practices”\nMentor: Prof. Spickard; comment by Prof. Miescher
URL:https://www.history.ucsb.edu/events/senior-honors-thesis-colloquium/
LOCATION:HSSB 4020\, University of California Santa Barbara\, Santa Barbara\, CA\, 93106\, United States
CATEGORIES:Conference,Public Lecture,Student Presentations
GEO:34.4139629;-119.848947
X-APPLE-STRUCTURED-LOCATION;VALUE=URI;X-ADDRESS=HSSB 4020 University of California Santa Barbara Santa Barbara CA 93106 United States;X-APPLE-RADIUS=500;X-TITLE=University of California Santa Barbara:geo:-119.848947,34.4139629
END:VEVENT
BEGIN:VEVENT
DTSTART;TZID=America/Los_Angeles:20180313T160000
DTEND;TZID=America/Los_Angeles:20180313T180000
DTSTAMP:20260419T193822
CREATED:20180306T210658Z
LAST-MODIFIED:20180306T210658Z
UID:10002198-1520956800-1520964000@www.history.ucsb.edu
SUMMARY:Talk by Deborah Coen (Yale)\, "Climate Science in the Age of Empire"
DESCRIPTION:
URL:https://www.history.ucsb.edu/events/talk-by-deborah-coen-yale-climate-science-in-the-age-of-empire/
LOCATION:HSSB 4020\, University of California Santa Barbara\, Santa Barbara\, CA\, 93106\, United States
CATEGORIES:Book Talk,Public Lecture
GEO:34.4139629;-119.848947
X-APPLE-STRUCTURED-LOCATION;VALUE=URI;X-ADDRESS=HSSB 4020 University of California Santa Barbara Santa Barbara CA 93106 United States;X-APPLE-RADIUS=500;X-TITLE=University of California Santa Barbara:geo:-119.848947,34.4139629
END:VEVENT
BEGIN:VEVENT
DTSTART;TZID=America/Los_Angeles:20170929T110000
DTEND;TZID=America/Los_Angeles:20170929T120000
DTSTAMP:20260419T193822
CREATED:20170920T143339Z
LAST-MODIFIED:20170920T143339Z
UID:10002507-1506682800-1506686400@www.history.ucsb.edu
SUMMARY:"U.S.-Russian Relations: Crisis without End\," with Michael Kimmage
DESCRIPTION:Kimmage_flyer
URL:https://www.history.ucsb.edu/events/u-s-russian-relations-crisis-without-end-with-michael-kimmage/
LOCATION:HSSB 4020\, University of California Santa Barbara\, Santa Barbara\, CA\, 93106\, United States
GEO:34.4139629;-119.848947
X-APPLE-STRUCTURED-LOCATION;VALUE=URI;X-ADDRESS=HSSB 4020 University of California Santa Barbara Santa Barbara CA 93106 United States;X-APPLE-RADIUS=500;X-TITLE=University of California Santa Barbara:geo:-119.848947,34.4139629
END:VEVENT
BEGIN:VEVENT
DTSTART;TZID=America/Los_Angeles:20170526T150000
DTEND;TZID=America/Los_Angeles:20170526T173000
DTSTAMP:20260419T193822
CREATED:20170525T042419Z
LAST-MODIFIED:20170525T042419Z
UID:10002497-1495810800-1495819800@www.history.ucsb.edu
SUMMARY:Graduate Student Colloquium: Isabella Gabrovsky on "Rethinking Britain" and Mario Tumen on "Decolonization of Taxation in Peru"
DESCRIPTION:The Workshop on Theoretical Perspectives on War\, Political Violence\, Nationalism and the State (History 291)  is pleased to invite you to its final open presentation and discussion this Friday May 26 from 3:00 to 5:30 pm  in HSSB 4020.  Two graduate students\, Isabella Gabrovsky and Mario Tumen\, will be presenting their work in progress on Britain and Peru. Please\, join the conversation. Their papers can be downloaded from the links below.  Everybody is welcome! \n“Rethinking Britain: An English identity Crisis in the Era of Devolution.” \nBy Isabella Gabrovsky. PhD student\, Political Science Department\, UCSB. \nThis paper (Gabrovsky Rethinking Britain rev) seeks to explore the rise of nationalist movements in the UK\, how they differfrom the global rise of the far-right\, and what changes in Westminster we might expect as a result. While the leftist Scottish National Party surged to become the second largest party in the UK\, there has been a rise of right-wing nationalist groups in England such as the UK Independence Party. Analysis of historical context will shed light on how these two diametrically opposed political ideologies expanded simultaneously. This is seen in the psephological maps of the 2015 General Election and the Brexit referendum. The current political climate in the UK\, where two separate nationalist movements are in power\, is unprecedented and more importantly\, unsustainable. The policies that arise during this time will determine not only what role the UK will play on a global stage\, but also\, if the UK will exist as a unitary state in the near future. There is a significant gap in the current political literature deconstructing the motivations behind these nationalist movements. This paper will address that void\, asses the potential political ramifications\, and provide possible policy prescriptions. Isabella Gabrovsky currently is a PhD student at UCSB in the Political Science department. She has previously worked in the Scottish Parliament. \n  \n“Decolonization of Taxation: Indigenous Peasants and the Civil War of 1895 in Peru” \nBy Mario Tumen. PhD student\, History Department\, UCSB \nBy looking at the civil war\, or the “Revolution of 1895” as it happened in the department of Ancash\, Peru\, this essay ( Tumen\, Decolonization of Taxation) analyzes the role indigenous peasants played in the abolition of the contribución personal\, a tax they had paid since colonial times. Through war\, they exercised their citizenship and influenced the distribution of power within the state. Yet\, the largest peasant insurrection of the nineteenth century\, the Atusparia Rebellion\, had shaken social order in the department ten years before. I argue that resilient efforts to abolish the contribución personal in 8 Ancash date back to 1885 and continued in the period leading up to Revolution of 1895. \nEverybody is welcome\, please spread the word! \n* * Coffee will be served. \nFor questions or comments\, please contact prof. Cecilia Méndez at mendez@history.ucsb.edu
URL:https://www.history.ucsb.edu/events/graduate-student-colloquium-isabella-gabrovsky-on-rethinking-britain-and-mario-tumen-on-decolonization-of-taxation-in-peru/
LOCATION:HSSB 4020\, University of California Santa Barbara\, Santa Barbara\, CA\, 93106\, United States
CATEGORIES:Academic Calendar,Panel Discussion,Paper Workshop,Public Lecture
ATTACH;FMTTYPE=image/jpeg:https://www.history.ucsb.edu/wp-content/uploads/Flyer-Mario-and-Isabella-final.jpg
GEO:34.4139629;-119.848947
X-APPLE-STRUCTURED-LOCATION;VALUE=URI;X-ADDRESS=HSSB 4020 University of California Santa Barbara Santa Barbara CA 93106 United States;X-APPLE-RADIUS=500;X-TITLE=University of California Santa Barbara:geo:-119.848947,34.4139629
END:VEVENT
BEGIN:VEVENT
DTSTART;TZID=America/Los_Angeles:20170508T120000
DTEND;TZID=America/Los_Angeles:20170508T140000
DTSTAMP:20260419T193822
CREATED:20170425T161548Z
LAST-MODIFIED:20170425T161548Z
UID:10002149-1494244800-1494252000@www.history.ucsb.edu
SUMMARY:Gender and Sexualities Brown Bag: Sasha Coles
DESCRIPTION:The Gender and Sexuality Research Cluster will meet periodically throughout the year for brown bag lunches to read and workshop works-in-progress from members of the research cluster. \nOn May 8\, Sasha Coles will discuss “A Nation’s Wealth Surrounds a Worm”: Mormonism\, Consumer Politics\, and Utah’s Silk Industry\, 1860s-1906.” \nDraft papers will be distributed before the event\, and all participants will be invited to offer feedback to the author. Contact history-gender-cluster(at)history.ucsb.edu for more information or to join the Gender and Sexualities Research Cluster.
URL:https://www.history.ucsb.edu/events/gender-and-sexualities-brown-bag-sasha-coles/
LOCATION:HSSB 4020\, University of California Santa Barbara\, Santa Barbara\, CA\, 93106\, United States
CATEGORIES:workshop/brown bag/practicum
ATTACH;FMTTYPE=image/png:https://www.history.ucsb.edu/wp-content/uploads/1897-Parade-Silk-Float.png
GEO:34.4139629;-119.848947
X-APPLE-STRUCTURED-LOCATION;VALUE=URI;X-ADDRESS=HSSB 4020 University of California Santa Barbara Santa Barbara CA 93106 United States;X-APPLE-RADIUS=500;X-TITLE=University of California Santa Barbara:geo:-119.848947,34.4139629
END:VEVENT
BEGIN:VEVENT
DTSTART;TZID=America/Los_Angeles:20170420T170000
DTEND;TZID=America/Los_Angeles:20170420T183000
DTSTAMP:20260419T193822
CREATED:20170420T151732Z
LAST-MODIFIED:20170420T151732Z
UID:10002493-1492707600-1492713000@www.history.ucsb.edu
SUMMARY:A talk by Sarah Bridger (Cal Poly\, San Luis Obispo) on "STEM Feminists\, Social Constructivists\, and Well-Meaning War Criminals: Redefining American Science in the 1970s”
DESCRIPTION:Bridger flyer-fin
URL:https://www.history.ucsb.edu/events/a-talk-by-sarah-bridger-cal-poly-san-luis-obispo-on-stem-feminists-social-constructivists-and-well-meaning-war-criminals-redefining-american-science-in-the-1970s/
LOCATION:HSSB 4020\, University of California Santa Barbara\, Santa Barbara\, CA\, 93106\, United States
GEO:34.4139629;-119.848947
X-APPLE-STRUCTURED-LOCATION;VALUE=URI;X-ADDRESS=HSSB 4020 University of California Santa Barbara Santa Barbara CA 93106 United States;X-APPLE-RADIUS=500;X-TITLE=University of California Santa Barbara:geo:-119.848947,34.4139629
END:VEVENT
END:VCALENDAR