BEGIN:VCALENDAR
VERSION:2.0
PRODID:-//Department of History, UC Santa Barbara - ECPv6.15.12.1//NONSGML v1.0//EN
CALSCALE:GREGORIAN
METHOD:PUBLISH
X-WR-CALNAME:Department of History, UC Santa Barbara
X-ORIGINAL-URL:https://www.history.ucsb.edu
X-WR-CALDESC:Events for Department of History, UC Santa Barbara
REFRESH-INTERVAL;VALUE=DURATION:PT1H
X-Robots-Tag:noindex
X-PUBLISHED-TTL:PT1H
BEGIN:VTIMEZONE
TZID:America/Los_Angeles
BEGIN:DAYLIGHT
TZOFFSETFROM:-0800
TZOFFSETTO:-0700
TZNAME:PDT
DTSTART:20150308T100000
END:DAYLIGHT
BEGIN:STANDARD
TZOFFSETFROM:-0700
TZOFFSETTO:-0800
TZNAME:PST
DTSTART:20151101T090000
END:STANDARD
BEGIN:DAYLIGHT
TZOFFSETFROM:-0800
TZOFFSETTO:-0700
TZNAME:PDT
DTSTART:20160313T100000
END:DAYLIGHT
BEGIN:STANDARD
TZOFFSETFROM:-0700
TZOFFSETTO:-0800
TZNAME:PST
DTSTART:20161106T090000
END:STANDARD
BEGIN:DAYLIGHT
TZOFFSETFROM:-0800
TZOFFSETTO:-0700
TZNAME:PDT
DTSTART:20170312T100000
END:DAYLIGHT
BEGIN:STANDARD
TZOFFSETFROM:-0700
TZOFFSETTO:-0800
TZNAME:PST
DTSTART:20171105T090000
END:STANDARD
END:VTIMEZONE
BEGIN:VEVENT
DTSTART;TZID=America/Los_Angeles:20160223T190000
DTEND;TZID=America/Los_Angeles:20160223T200000
DTSTAMP:20260424T100732
CREATED:20160118T023625Z
LAST-MODIFIED:20160118T023625Z
UID:10002413-1456254000-1456257600@www.history.ucsb.edu
SUMMARY:Book Launch and Signing: James F. Brooks\, Mesa of Sorrows: A History of the Awat'ovi Massacre
DESCRIPTION:On Tuesday\, February 23\, 2016\, Chaucer Books in Santa Barbara will be hosted a book launch/signing for James F. Brooks’ new monograph\, Mesa of Sorrows: A History of the Awat’ovi Massacre. \n  \nFor additional information on Mesa of Sorrows\, please visit the following URL: http://books.wwnorton.com/books/Mesa-of-Sorrows/
URL:https://www.history.ucsb.edu/events/book-launch-and-signing-james-f-brooks-mesa-of-sorrows-a-history-of-the-awatovi-massacre/
LOCATION:Chaucer Books\, 3321 State Street\, Santa Barbara\, CA\, 93105\, United States
GEO:34.4403263;-119.7349172
X-APPLE-STRUCTURED-LOCATION;VALUE=URI;X-ADDRESS=Chaucer Books 3321 State Street Santa Barbara CA 93105 United States;X-APPLE-RADIUS=500;X-TITLE=3321 State Street:geo:-119.7349172,34.4403263
END:VEVENT
END:VCALENDAR