BEGIN:VCALENDAR
VERSION:2.0
PRODID:-//Department of History, UC Santa Barbara - ECPv6.15.12.1//NONSGML v1.0//EN
CALSCALE:GREGORIAN
METHOD:PUBLISH
X-ORIGINAL-URL:https://www.history.ucsb.edu
X-WR-CALDESC:Events for Department of History, UC Santa Barbara
REFRESH-INTERVAL;VALUE=DURATION:PT1H
X-Robots-Tag:noindex
X-PUBLISHED-TTL:PT1H
BEGIN:VTIMEZONE
TZID:America/Los_Angeles
BEGIN:DAYLIGHT
TZOFFSETFROM:-0800
TZOFFSETTO:-0700
TZNAME:PDT
DTSTART:20150308T100000
END:DAYLIGHT
BEGIN:STANDARD
TZOFFSETFROM:-0700
TZOFFSETTO:-0800
TZNAME:PST
DTSTART:20151101T090000
END:STANDARD
BEGIN:DAYLIGHT
TZOFFSETFROM:-0800
TZOFFSETTO:-0700
TZNAME:PDT
DTSTART:20160313T100000
END:DAYLIGHT
BEGIN:STANDARD
TZOFFSETFROM:-0700
TZOFFSETTO:-0800
TZNAME:PST
DTSTART:20161106T090000
END:STANDARD
BEGIN:DAYLIGHT
TZOFFSETFROM:-0800
TZOFFSETTO:-0700
TZNAME:PDT
DTSTART:20170312T100000
END:DAYLIGHT
BEGIN:STANDARD
TZOFFSETFROM:-0700
TZOFFSETTO:-0800
TZNAME:PST
DTSTART:20171105T090000
END:STANDARD
END:VTIMEZONE
BEGIN:VEVENT
DTSTART;TZID=America/Los_Angeles:20160404T170000
DTEND;TZID=America/Los_Angeles:20160404T183000
DTSTAMP:20260419T091428
CREATED:20160320T004728Z
LAST-MODIFIED:20160320T004728Z
UID:10002428-1459789200-1459794600@www.history.ucsb.edu
SUMMARY:“Crafting Gendered Notions of Intimacy: Indian ‘Coolie’ Households in British Malaya and the Colonial Construction of ‘Everyday Violence’
DESCRIPTION:Lecture by \nDr. Arunima Datta \nDr. Arunima Datta received her PhD in 2015 in Southeast Asian history from the National University of Singapore. She is currently a post-doctoral Fellow at the Asia Research Institute\, National University of Singapore and Assistant Editor of the Journal of Malayan Branch of the Asiatic Society. She has published several articles related to her dissertation\, “Life Beyond Dependency and Victimhood: Indian Coolie Women on Rubber Estates of Colonial Malaya (1900-1945)\, most recently in Women’s History Review. \n 
URL:https://www.history.ucsb.edu/events/crafting-gendered-notions-intimacy-indian-coolie-households-british-malaya-colonial-construction-everyday-violence/
LOCATION:HSSB 4020\, University of California Santa Barbara\, Santa Barbara\, CA\, 93106\, United States
CATEGORIES:Public Lecture
ATTACH;FMTTYPE=image/png:https://www.history.ucsb.edu/wp-content/uploads/Datta-lecture.png
ORGANIZER;CN="Erika Rappaport":MAILTO:rappaport@history.ucsb.edu
GEO:34.4139629;-119.848947
X-APPLE-STRUCTURED-LOCATION;VALUE=URI;X-ADDRESS=HSSB 4020 University of California Santa Barbara Santa Barbara CA 93106 United States;X-APPLE-RADIUS=500;X-TITLE=University of California Santa Barbara:geo:-119.848947,34.4139629
END:VEVENT
END:VCALENDAR