BEGIN:VCALENDAR
VERSION:2.0
PRODID:-//Department of History, UC Santa Barbara - ECPv6.15.12.1//NONSGML v1.0//EN
CALSCALE:GREGORIAN
METHOD:PUBLISH
X-WR-CALNAME:Department of History, UC Santa Barbara
X-ORIGINAL-URL:https://www.history.ucsb.edu
X-WR-CALDESC:Events for Department of History, UC Santa Barbara
REFRESH-INTERVAL;VALUE=DURATION:PT1H
X-Robots-Tag:noindex
X-PUBLISHED-TTL:PT1H
BEGIN:VTIMEZONE
TZID:America/Denver
BEGIN:DAYLIGHT
TZOFFSETFROM:-0700
TZOFFSETTO:-0600
TZNAME:MDT
DTSTART:20140309T090000
END:DAYLIGHT
BEGIN:STANDARD
TZOFFSETFROM:-0600
TZOFFSETTO:-0700
TZNAME:MST
DTSTART:20141102T080000
END:STANDARD
BEGIN:DAYLIGHT
TZOFFSETFROM:-0700
TZOFFSETTO:-0600
TZNAME:MDT
DTSTART:20150308T090000
END:DAYLIGHT
BEGIN:STANDARD
TZOFFSETFROM:-0600
TZOFFSETTO:-0700
TZNAME:MST
DTSTART:20151101T080000
END:STANDARD
BEGIN:DAYLIGHT
TZOFFSETFROM:-0700
TZOFFSETTO:-0600
TZNAME:MDT
DTSTART:20160313T090000
END:DAYLIGHT
BEGIN:STANDARD
TZOFFSETFROM:-0600
TZOFFSETTO:-0700
TZNAME:MST
DTSTART:20161106T080000
END:STANDARD
END:VTIMEZONE
BEGIN:VEVENT
DTSTART;TZID=America/Denver:20151210T160000
DTEND;TZID=America/Denver:20151210T180000
DTSTAMP:20260419T064849
CREATED:20151109T204719Z
LAST-MODIFIED:20151109T205244Z
UID:10002401-1449763200-1449770400@www.history.ucsb.edu
SUMMARY:Jason M. Kelly: The Anthropocene's Great Divergence
DESCRIPTION:In the early years of this century\, the Nobel Prize winning chemist Paul Crutzen popularized the idea that humans had entered a new geological age\, the “Anthropocene.” This concept\, he argued\, captured the fact that over the past 250 years humans and their technologies had reshaped the planet\, permanently transforming its complex biophysical systems. His idea caught fire across the disciplines\, and in 2015\, entire academic journals are devoted to the Anthropocene. \n\nJason M. Kelly’s talk\, “The Anthropocene’s Great Divergence\,” will examine the development of multiple\, competing cultures of knowledge about the Anthropocene over the last several decades. Focusing on disciplinary orientations and theoretical models in the sciences\, social sciences\, humanities\, and arts\, it argues that underlying discussions about the Anthropocene are conflicting historical narratives. The historical narratives that scientists and policy makers ultimately integrate into their models may have profound global socio-political implications\, especially given the centrality of the Anthropocene to contemporary discussions about environmental policy. \n\nFor information on Dr. Kelly’s collaborative project\, Rivers of the Anthropocene\, please visit the following URL: http://rivers.iupui.edu/cms/
URL:https://www.history.ucsb.edu/events/jason-m-kelly-the-anthropocenes-great-divergence/
LOCATION:McCune Conference Room (HSSB 6020)\, Humanities and Social Sciences Bldg\, Santa Barbara\, CA\, 93106\, United States
CATEGORIES:Public Lecture
ATTACH;FMTTYPE=image/jpeg:https://www.history.ucsb.edu/wp-content/uploads/Jason-M.-Kelly.jpg
GEO:34.4139682;-119.8503034
X-APPLE-STRUCTURED-LOCATION;VALUE=URI;X-ADDRESS=McCune Conference Room (HSSB 6020) Humanities and Social Sciences Bldg Santa Barbara CA 93106 United States;X-APPLE-RADIUS=500;X-TITLE=Humanities and Social Sciences Bldg:geo:-119.8503034,34.4139682
END:VEVENT
END:VCALENDAR