BEGIN:VCALENDAR
VERSION:2.0
PRODID:-//Department of History, UC Santa Barbara - ECPv6.15.12.1//NONSGML v1.0//EN
CALSCALE:GREGORIAN
METHOD:PUBLISH
X-WR-CALNAME:Department of History, UC Santa Barbara
X-ORIGINAL-URL:https://www.history.ucsb.edu
X-WR-CALDESC:Events for Department of History, UC Santa Barbara
REFRESH-INTERVAL;VALUE=DURATION:PT1H
X-Robots-Tag:noindex
X-PUBLISHED-TTL:PT1H
BEGIN:VTIMEZONE
TZID:America/Denver
BEGIN:DAYLIGHT
TZOFFSETFROM:-0700
TZOFFSETTO:-0600
TZNAME:MDT
DTSTART:20120311T090000
END:DAYLIGHT
BEGIN:STANDARD
TZOFFSETFROM:-0600
TZOFFSETTO:-0700
TZNAME:MST
DTSTART:20121104T080000
END:STANDARD
BEGIN:DAYLIGHT
TZOFFSETFROM:-0700
TZOFFSETTO:-0600
TZNAME:MDT
DTSTART:20130310T090000
END:DAYLIGHT
BEGIN:STANDARD
TZOFFSETFROM:-0600
TZOFFSETTO:-0700
TZNAME:MST
DTSTART:20131103T080000
END:STANDARD
BEGIN:DAYLIGHT
TZOFFSETFROM:-0700
TZOFFSETTO:-0600
TZNAME:MDT
DTSTART:20140309T090000
END:DAYLIGHT
BEGIN:STANDARD
TZOFFSETFROM:-0600
TZOFFSETTO:-0700
TZNAME:MST
DTSTART:20141102T080000
END:STANDARD
END:VTIMEZONE
BEGIN:VEVENT
DTSTART;TZID=America/Denver:20130604T000000
DTEND;TZID=America/Denver:20130604T000000
DTSTAMP:20260419T115751
CREATED:20150928T112849Z
LAST-MODIFIED:20150928T112849Z
UID:10002163-1370304000-1370304000@www.history.ucsb.edu
SUMMARY:History Department Awards Ceremony
DESCRIPTION:Please join History Department students and faculty as this year’s honors and awards are distributed. \nhm 5/11/13
URL:https://www.history.ucsb.edu/events/history-department-awards-ceremony-2/
LOCATION:CA
END:VEVENT
BEGIN:VEVENT
DTSTART;TZID=America/Denver:20130608T000000
DTEND;TZID=America/Denver:20130608T000000
DTSTAMP:20260419T115751
CREATED:20150928T112850Z
LAST-MODIFIED:20150928T112850Z
UID:10002168-1370649600-1370649600@www.history.ucsb.edu
SUMMARY:Hacienda de Quimichis and the Bard Family\, 1909-1935
DESCRIPTION:Professor Verónica Castillo-Muñoz will be the featured speaker at the Friends of the Bard Mansion Quarterly Dinner on the grounds of the Bard family’s historic home and gardens in Port Hueneme.\nShe will share the fruits of her research for her second book\, about the people who worked on a 75\,000 acre ranch\, Hacienda de Quimichis\, on the west coast of Mexico\, that was owned by Bard and other Ventura County investors early in the twentieth century.  Thanks to Professor Castillo-Muñoz’s efforts\, the Mexican National Museum of Anthropology in Tepic will share an exhibition on the history of the Hacienda de Quimichis with the Ventura County Museum. \nFor more information\, visit the Berylwood Historic Home and Gardens web site. \njwil 23.v.2013
URL:https://www.history.ucsb.edu/events/hacienda-de-quimichis-and-the-bard-family-1909-1935/
LOCATION:CA
END:VEVENT
END:VCALENDAR