BEGIN:VCALENDAR
VERSION:2.0
PRODID:-//Department of History, UC Santa Barbara - ECPv6.15.12.1//NONSGML v1.0//EN
CALSCALE:GREGORIAN
METHOD:PUBLISH
X-WR-CALNAME:Department of History, UC Santa Barbara
X-ORIGINAL-URL:https://www.history.ucsb.edu
X-WR-CALDESC:Events for Department of History, UC Santa Barbara
REFRESH-INTERVAL;VALUE=DURATION:PT1H
X-Robots-Tag:noindex
X-PUBLISHED-TTL:PT1H
BEGIN:VTIMEZONE
TZID:America/Denver
BEGIN:DAYLIGHT
TZOFFSETFROM:-0700
TZOFFSETTO:-0600
TZNAME:MDT
DTSTART:20090308T090000
END:DAYLIGHT
BEGIN:STANDARD
TZOFFSETFROM:-0600
TZOFFSETTO:-0700
TZNAME:MST
DTSTART:20091101T080000
END:STANDARD
BEGIN:DAYLIGHT
TZOFFSETFROM:-0700
TZOFFSETTO:-0600
TZNAME:MDT
DTSTART:20100314T090000
END:DAYLIGHT
BEGIN:STANDARD
TZOFFSETFROM:-0600
TZOFFSETTO:-0700
TZNAME:MST
DTSTART:20101107T080000
END:STANDARD
BEGIN:DAYLIGHT
TZOFFSETFROM:-0700
TZOFFSETTO:-0600
TZNAME:MDT
DTSTART:20110313T090000
END:DAYLIGHT
BEGIN:STANDARD
TZOFFSETFROM:-0600
TZOFFSETTO:-0700
TZNAME:MST
DTSTART:20111106T080000
END:STANDARD
END:VTIMEZONE
BEGIN:VEVENT
DTSTART;TZID=America/Denver:20101026T000000
DTEND;TZID=America/Denver:20101026T000000
DTSTAMP:20260425T132928
CREATED:20150928T112821Z
LAST-MODIFIED:20150928T112821Z
UID:10001879-1288051200-1288051200@www.history.ucsb.edu
SUMMARY:A Boy of Heart Mountain and Hello\, Maggie!
DESCRIPTION:Please join us next Tuesday\, October 26\, for a talk by Shigeru “Shig” Yabu\, a Japanese American who was interned at the Heart Mountain Concentration Camp from 1942-1945. He is the author of 2 books\, A Boy of Heart Mountain and Hello\, Maggie!\,  both of which describe his experience at the camp as a young boy.\nAsian American Studies Conference Room\nHSSB 5024  \nPlease bring your brown bag lunch\, light refreshments will be available.  \nhm 10/20/10
URL:https://www.history.ucsb.edu/events/a-boy-of-heart-mountain-and-hello-maggie/
LOCATION:CA
END:VEVENT
BEGIN:VEVENT
DTSTART;TZID=America/Denver:20101028T000000
DTEND;TZID=America/Denver:20101028T000000
DTSTAMP:20260425T132928
CREATED:20150928T112821Z
LAST-MODIFIED:20150928T112821Z
UID:10001877-1288224000-1288224000@www.history.ucsb.edu
SUMMARY:The American Friends of the Middle East: The CIA\, Arabism\, and Anti-Zionism in Cold War America
DESCRIPTION:This talk is about an American Arabist organization that received clandestine support from the CIA.\nIn 1967\, it was revealed that the CIA had secretly funded the American Friends of the Middle East\, an apparently private group of pro-Arab\, anti-Zionist U.S. citizens.  In this talk\, Professor Wilford reveals the hitherto hidden history of the American Friends of the Middle East\, relating it to the larger story of the rise and fall of Cold War American “Arabism.” \nHugh Wilford is Professor of U.S. history at California State University\, Long Beach.  He is the author of several books on Cold War American culture and politics\, including THE MIGHTY WURLITZER: HOW THE CIA PLAYED AMERICA (Harvard\, 2008).  He is now writing a book on the American Friends of the Middle East. \nThe talk is sponsored by the Center for Cold War Studies and International History (CCWS) and cosponsored by the Center for Middle East Studies and the  Department of History. \nThe event is free and open to the public.  A brief reception will follow Prof. Wilford’s presentation.  Please join us for this exciting  event! \nhm 10/20/10
URL:https://www.history.ucsb.edu/events/the-american-friends-of-the-middle-east-the-cia-arabism-and-anti-zionism-in-cold-war-america/
LOCATION:CA
END:VEVENT
BEGIN:VEVENT
DTSTART;TZID=America/Denver:20101028T000000
DTEND;TZID=America/Denver:20101028T000000
DTSTAMP:20260425T132928
CREATED:20150928T112821Z
LAST-MODIFIED:20150928T112821Z
UID:10001880-1288224000-1288224000@www.history.ucsb.edu
SUMMARY:God Made Marriage but the White Man Made the Law': Slavery and Marriage in the Nineteenth Century
DESCRIPTION:Critical Issues in America\n“‘God Made Marriage but the White Man Made the Law’: Slavery and Marriage in the Nineteenth Century”  \nTera Hunter\, Professor of History and African-American Studies\, Princeton University  \nHull Lecture\, co-sponsored by UCSB New Racial Studies\, Women’s Center\, and the Departments of Black Studies and History  \nWhat did it mean for a nation to hold dear the institutions of marriage and slavery at the same time that marriage granted no legal standing for the enslaved? Hunter’s talk will look at the dilemmas and entanglements produced for slave\, free black\, and ex-slave intimate relationships throughout the nineteenth century.  \nClasses welcome  \nhm 10/26/10
URL:https://www.history.ucsb.edu/events/god-made-marriage-but-the-white-man-made-the-law-slavery-and-marriage-in-the-nineteenth-century/
LOCATION:CA
END:VEVENT
BEGIN:VEVENT
DTSTART;TZID=America/Denver:20101028T000000
DTEND;TZID=America/Denver:20101028T000000
DTSTAMP:20260425T132928
CREATED:20150928T112822Z
LAST-MODIFIED:20150928T112822Z
UID:10001881-1288224000-1288224000@www.history.ucsb.edu
SUMMARY:Usable Pasts: Memory and Self-craft Through History\, Song and Clothwork in Zimbabwe and among the Ainu of Japan
DESCRIPTION:The African Studies Research Focus Group will hold its first research seminar for the 2010-2011 academic year on October 28 in HSSB 6020 (McCune Conference Room)\, focused on the theme of Usable Pasts: Memory and Self-Craft Through History\, Song and Clothwork in Zimbabwe and among the Ainu (Japan).\nPresenters will include:\nMhoze Chikowero (Assistant Professor\, Department of History)\nAnn-Elise Lewallen (Assistant Professor\, Department of East Asian Languages & Cultures) \nThe presenters will circulate papers beforehand.  For more information or to obtain copies of the papers\, please contact Mhoze Chikowero (chikowero(at)history.ucsb.edu) or Peter Bloom (pbloom(at)mediandfilm.ucsb.edu). \njwil 26.x.2010
URL:https://www.history.ucsb.edu/events/usable-pasts-memory-and-self-craft-through-history-song-and-clothwork-in-zimbabwe-and-among-the-ainu-of-japan/
LOCATION:CA
END:VEVENT
BEGIN:VEVENT
DTSTART;TZID=America/Denver:20101029T000000
DTEND;TZID=America/Denver:20101029T000000
DTSTAMP:20260425T132928
CREATED:20150928T112821Z
LAST-MODIFIED:20150928T112821Z
UID:10001867-1288310400-1288310400@www.history.ucsb.edu
SUMMARY:The Dynamics of Social Movement Unionism: Local Union Involvement in Immigrants Rights Movements in Los Angeles
DESCRIPTION:Please join us for a talk by Cassandra Engeman on “The Dynamics of Social Movement Unionism: Local Union Involvement in Immigrants’ Rights Movements in Los Angeles.” Engeman is a Ph.D. candidate in the Department of Sociology.  Her work focuses on social movements and social movement outcomes\, union-community coalitions in the United States\, and union strategy.  She has recently presented her work at the American Sociological Association’s annual meeting and the UCLA IRLE “Strategic Decision-Making in Labor and Social Movements” conference. Engeman has long been active in UAW Local 2865\, the union for Readers\, Tutors\, and TAs in the UC system.\nThe talk\, and subsequent discussion\, is part of the History 294: Colloquium in Work\, Labor\, and Political Economy\, 2010-2011 lecture series. \nThe Colloquium meets on Friday\, October 29 at 1 p.m. in 4041 Humanities and Social Science Building.  \njmj 10/11/2010
URL:https://www.history.ucsb.edu/events/the-dynamics-of-social-movement-unionism-local-union-involvement-in-immigrants-rights-movements-in-los-angeles/
LOCATION:CA
END:VEVENT
BEGIN:VEVENT
DTSTART;TZID=America/Denver:20101029T000000
DTEND;TZID=America/Denver:20101029T000000
DTSTAMP:20260425T132928
CREATED:20150928T112821Z
LAST-MODIFIED:20150928T112821Z
UID:10001873-1288310400-1288310400@www.history.ucsb.edu
SUMMARY:Lessons of Hiroshima: Past and Present
DESCRIPTION:Prof. Hasegawa’s Faculty Research Lecture will be on Friday\, Oct. 29 at 3:30 pm at the McCune Conference Room (6th floor HSSB).  A reception will follow.  The Faculty Research Lectureship is the highest honor the UCSB Academic Senate gives to one of its members.\nAn expert in modern Russian/Soviet history and the Cold War\, Hasegawa has two main research interests: the Russian Revolution of 1917\, and foreign relations between Russia\, Japan\, and the United States. He is the recipient of dozens of research grants and fellowships\, and has authored or edited 15 books\, and has published more than 250 articles\, essays\, and book chapters\, written in English\, Russian\, and Japanese. He has also published numerous analyses of Soviet military and nuclear strategies; Perestroika and the role of Gorbachev in that process; and reforms in other Communist enclaves. \nIn 2005\, Belknap Press published Hasegawa’s ground-breaking work\, Racing the Enemy: Stalin\, Truman\, and the Surrender of Japan.  Researched in archives in Japan\, Russia\, and the United States\, the award-winning book suggests that it was fear and a real threat of the Soviet Union’s military might –– not the dropping of atomic bombs –– that led to Japan’s surrender at the end of World War II. Acclaimed both here and in Japan\, the book has influenced the work of Russian and other European scholars. \nMore recently\, Hasegawa published East Asia’s Haunted Present\, which explores the bitter historical memories that have resurfaced in recent years and led to contentious issues between Japan and its neighbors. \n“Dr. Hasegawa’s scholarly achievements extend beyond his own discipline of history\,” said Howard Giles\, professor of communication and a member of the 2010 Faculty Research Lecturer Committee. “Writing in the English\, Japanese\, and Russian languages\, he has challenged established ways of explaining important historical events. He has radically changed the way global history is now cast and has made extraordinary contributions to our understanding of civilization.” \nHasegawa earned his Ph.D. from the University of Washington and completed his postdoctoral work at Columbia University. Before joining the faculty at UCSB in 1990\, he served on the faculties of the State University of New York at Oswego\, and at the Slavic Research Center at Hokkaido University. The center is the only research institute in Japan that specializes in Soviet and East European affairs. \nhm 10/11/10; jwil 14.x.10
URL:https://www.history.ucsb.edu/events/lessons-of-hiroshima-past-and-present/
LOCATION:CA
END:VEVENT
BEGIN:VEVENT
DTSTART;TZID=America/Denver:20101029T000000
DTEND;TZID=America/Denver:20101029T000000
DTSTAMP:20260425T132928
CREATED:20150928T112822Z
LAST-MODIFIED:20150928T112822Z
UID:10001882-1288310400-1288310400@www.history.ucsb.edu
SUMMARY:What is a Feminist Classroom?
DESCRIPTION:What are some effective practices of feminist pedagogy?What is your teaching metaphor?\nWhat are some difficulties or obstacles facing instructors who advocate feminisms? \nPlease come with examples of difficult situations that you manage in classrooms\, strategies you implement to build feminist classrooms\, and any other tools and techniques you use as an instructor. \nSuggested reading:\nEllen C. Carillo (2007): “’Feminist’ Teaching:  Teaching ‘Feminism’” \nAvailable from ahendley@umail.uscb.edu or sarahwatkins@umail.ucsb.edu \nhm 10/26/10
URL:https://www.history.ucsb.edu/events/what-is-a-feminist-classroom/
LOCATION:CA
END:VEVENT
END:VCALENDAR