BEGIN:VCALENDAR
VERSION:2.0
PRODID:-//Department of History, UC Santa Barbara - ECPv6.15.12.1//NONSGML v1.0//EN
CALSCALE:GREGORIAN
METHOD:PUBLISH
X-WR-CALNAME:Department of History, UC Santa Barbara
X-ORIGINAL-URL:https://www.history.ucsb.edu
X-WR-CALDESC:Events for Department of History, UC Santa Barbara
REFRESH-INTERVAL;VALUE=DURATION:PT1H
X-Robots-Tag:noindex
X-PUBLISHED-TTL:PT1H
BEGIN:VTIMEZONE
TZID:America/Denver
BEGIN:DAYLIGHT
TZOFFSETFROM:-0700
TZOFFSETTO:-0600
TZNAME:MDT
DTSTART:20090308T090000
END:DAYLIGHT
BEGIN:STANDARD
TZOFFSETFROM:-0600
TZOFFSETTO:-0700
TZNAME:MST
DTSTART:20091101T080000
END:STANDARD
BEGIN:DAYLIGHT
TZOFFSETFROM:-0700
TZOFFSETTO:-0600
TZNAME:MDT
DTSTART:20100314T090000
END:DAYLIGHT
BEGIN:STANDARD
TZOFFSETFROM:-0600
TZOFFSETTO:-0700
TZNAME:MST
DTSTART:20101107T080000
END:STANDARD
BEGIN:DAYLIGHT
TZOFFSETFROM:-0700
TZOFFSETTO:-0600
TZNAME:MDT
DTSTART:20110313T090000
END:DAYLIGHT
BEGIN:STANDARD
TZOFFSETFROM:-0600
TZOFFSETTO:-0700
TZNAME:MST
DTSTART:20111106T080000
END:STANDARD
END:VTIMEZONE
BEGIN:VEVENT
DTSTART;TZID=America/Denver:20101004T000000
DTEND;TZID=America/Denver:20101004T000000
DTSTAMP:20260425T132929
CREATED:20150928T112820Z
LAST-MODIFIED:20150928T112820Z
UID:10001858-1286150400-1286150400@www.history.ucsb.edu
SUMMARY:The Social Uses of Hot Springs in Mexico
DESCRIPTION:This paper presents some initial research and reflections on the social use of hot springs in Mexico and California\, and suggests that cultures of water at hot springs offer possibilities of managing water demand that could be useful for dealing with the current water crisis. Walsh discusses the cultural dimensions of the water crisis\, and the proposal that the solution must be one of governance. The prevailing ideas about the management of water have moved from increasing supply to include reducing demand. Water demand management usually centers on pricing and cost recovery\, although efforts to cultivate sustainable cultures of water have been made\, usually through educational programs. Walsh argue that programs to create a: new water culture” should consider one of the most common pleasurable contacts most people have with water: bathing.\nCasey Walsh is Associate Professor of Anthropology at UCSB. \nhm 9/30/10; jwil 02.x.10
URL:https://www.history.ucsb.edu/events/the-social-uses-of-hot-springs-in-mexico/
LOCATION:CA
END:VEVENT
BEGIN:VEVENT
DTSTART;TZID=America/Denver:20101004T000000
DTEND;TZID=America/Denver:20101004T000000
DTSTAMP:20260425T132929
CREATED:20150928T112820Z
LAST-MODIFIED:20150928T112820Z
UID:10001855-1286150400-1286150400@www.history.ucsb.edu
SUMMARY:Phi Alpha Theta/UCSB History Club First Meeting
DESCRIPTION:Do you love history?\nDoes thinking about Julius Caesar crossing the Rubicon or the Siege of Boston give you goose bumps? \nCome check us out! \nThe club is open to both history and non history majors.  \nSome of the activities we do are:trivia nights\nmovie nights\nguest speakers\nfield trips\nstudy sessions \nQuestions? Email Celina. \nhm 9/27/10
URL:https://www.history.ucsb.edu/events/phi-alpha-thetaucsb-history-club-first-meeting/
LOCATION:CA
END:VEVENT
BEGIN:VEVENT
DTSTART;TZID=America/Denver:20101005T000000
DTEND;TZID=America/Denver:20101005T000000
DTSTAMP:20260425T132929
CREATED:20150928T112819Z
LAST-MODIFIED:20150928T112819Z
UID:10001678-1286236800-1286236800@www.history.ucsb.edu
SUMMARY:A Study of Florida's Earliest Shipwreck
DESCRIPTION:Exploring Tristán de Luna’s Lost Galleon\nDiscovery of a well-preserved early Spanish shipwreck in Pensacola Bay\, Florida\, has reopened a long forgotten chapter of Latin-American history.  Assembled by the Viceroy of New Spain\, a fleet of eleven ships under the command of Tristán de Luna embarked from Mexico in 1559 to establish a colony on the shores of La Florida.  Aboard the ships were more than 1\,500 soldiers\, settlers\, and servants equipped with livestock\, agricultural and construction tools. The colonists disembarked at Pensacola\, only to suffer a hurricane that destroyed all but three of the ships anchored in the harbor\, some of which had not yet been unloaded.  The catastrophe doomed the Luna colony\, which was eventually abandoned in 1561. \nDuring a survey of shipwrecks in Pensacola Bay\, underwater archaeologists from the Florida Bureau of Archaeological Research have discovered the remains one of the larger galleons in Luna’s fleet buried beneath a shallow sandbar.  Two campaigns of careful excavation have revealed a surprisingly well-preserved array of colonial artifacts\, as well as faunal and botanical specimens\, that present a fascinating portrait of Spain’s ill-fated attempt to secure a foothold on the frontier of its American empire.  Follow the archaeologists as they explore Florida’s earliest shipwreck. \nRoger C. Smith is the State Underwater Archaeologist with the Florida Division of Historical Resources in Tallahassee.  He received his doctorate from Texas A&M University\, and has taught at Florida State University and the University of West Florida. \nDr. Smith has directed a number of underwater surveys and excavations throughout Florida\, and has worked extensively in the Caribbean\, Mexico\, the Bahamas\, Bermuda\, and Africa.  He has published widely in the field of nautical archaeology\, and is the author of three books and many professional journal and popular magazine articles. \nDr. Smith’s underwater archaeology team has been active in the establishment of eleven shipwreck preserves throughout Florida.  Nominated by local coastal communities\, these shipwreck parks are developed through partnerships between public and private organizations to interpret the natural and cultural features of each site.  The preserves include a Spanish galleon in the Florida Keys\, a sunken steamboat in the Suwannee River\, and the battleship USS Massachusetts off Pensacola.   \nIn the 1990s\, Dr. Smith’s team located the site of another Spanish galleon during a survey of shipwrecks in Pensacola Bay.  The shipwreck—which is the earliest to be discovered in Florida—was one of the larger vessels in the fleet of Tristán de Luna\, which sank during a hurricane in 1559. The remains of the ship are well preserved in shallow water under a sand bar.  More than 5\,000 artifacts and field specimens have been collected from the site; many are on display in a special exhibit in Pensacola’s historic district that recently was visited by the King and Queen of Spain. \nThis lecture is sponsored by the Santa Barbara Society of the Archaeological Institute of America.  A modest reception will follow Dr. Smith’s lecture. \njwil 29.vii.2010\, hm 10/3
URL:https://www.history.ucsb.edu/events/a-study-of-floridas-earliest-shipwreck/
LOCATION:CA
END:VEVENT
BEGIN:VEVENT
DTSTART;TZID=America/Denver:20101007T000000
DTEND;TZID=America/Denver:20101007T000000
DTSTAMP:20260425T132929
CREATED:20150928T112820Z
LAST-MODIFIED:20150928T112820Z
UID:10001857-1286409600-1286409600@www.history.ucsb.edu
SUMMARY:The Big Blowup: Fire's American Century
DESCRIPTION:STEPHEN PYNE is the world’s foremost historian of fire.\nA Regents’ Professor at Arizona State University\, and the author of twenty books on environmental history and the histories of science and exploration\, Pyne is a brilliant and irreverent commentator on the role of fire in societies around the world. \nOn October 7th\, from 3:30-4:45 PM\, in Buchanan 1930\, he will offer his insights from more than three decades of research and writing on the history\, geography\, ecology\, politics\, and culture of wildfire.  His talk will begin with the Big Blowup of August 1910\, a fire that almost exactly a century ago altered the course of U.S. history. \nThis lecture is sponsored by the UCSB Department of History’s Center for Science and Society and the UCSB Department of Geography. \njwil 29.ix.2010
URL:https://www.history.ucsb.edu/events/the-big-blowup-fires-american-century/
LOCATION:CA
END:VEVENT
BEGIN:VEVENT
DTSTART;TZID=America/Denver:20101007T000000
DTEND;TZID=America/Denver:20101007T000000
DTSTAMP:20260425T132929
CREATED:20150928T112821Z
LAST-MODIFIED:20150928T112821Z
UID:10001862-1286409600-1286409600@www.history.ucsb.edu
SUMMARY:Rethink UC: Defend Public Education
DESCRIPTION:The historic actions\, protests and strikes of last fall and spring showed our state and the nation that students\, teachers\, staff\, and our communities are determined to fight against the cuts\, layoffs\, fee hikes\, and the shrinking access to public education and services. However\, our fight is far from over. On October 7th\,  supporters of public education plan to unite and demand accessible\, affordable and quality education for all. \nhm 10/1/10
URL:https://www.history.ucsb.edu/events/rethink-uc-defend-public-education/
LOCATION:CA
END:VEVENT
BEGIN:VEVENT
DTSTART;TZID=America/Denver:20101008T000000
DTEND;TZID=America/Denver:20101008T000000
DTSTAMP:20260425T132929
CREATED:20150928T112820Z
LAST-MODIFIED:20150928T112820Z
UID:10001853-1286496000-1286496000@www.history.ucsb.edu
SUMMARY:Caesar Chavez\, the UFW Boycott\, and Why the Union Failed to Realize its Potential
DESCRIPTION:Matthew Garcia is Associate Professor of American Civilization\, Ethnic Studies and History at Brown University.\nPart of the History 294: Colloquium in Work\, Labor\, and Political Economy\, 2010-2011 lecture series. \nhm 9/9/10; jwil 14.ix.10
URL:https://www.history.ucsb.edu/events/caesar-chavez-the-ufw-boycott-and-why-the-union-failed-to-realize-its-potential/
LOCATION:CA
END:VEVENT
BEGIN:VEVENT
DTSTART;TZID=America/Denver:20101009T000000
DTEND;TZID=America/Denver:20101009T000000
DTSTAMP:20260425T132929
CREATED:20150928T112820Z
LAST-MODIFIED:20150928T112820Z
UID:10001854-1286582400-1286582400@www.history.ucsb.edu
SUMMARY:UCSB History Associates 2010-2011 Kickoff Event
DESCRIPTION:Say “Lompoc” and most people think of Vandenberg Air Force Base and flower farms\, or maybe the prison. But our neighbor to the north has a fascinating history\, preserved in its many Victorian houses and murals. We will assemble at the city parking lot at Ocean Ave. and I Street at 10:15 (parking is free)\, then walk to the nearby Fabing-McKay-Spanne House\, a restored Victorian that now houses the Lompoc Historical Society\, for a private tour. Lunch follows at Lompoc’s famous Penelope’s tea house\, where you will have your choice of an Elegant Afternoon Tea (featuring a starter course\, finger sandwiches\, a warm scone\, lemon curd\, jam and English Double Devon Cream\, with three sweets)\, a Ploughman’s Lunch of fresh bread\, cheeses\, Branston pickle\, pickled onion\, fruit\, tea and dessert\, or fresh Quiche\, soup or salad\, tea and dessert. After lunch\, our own Cathy Rudolph will lead us on a walking tour of nearby murals.\nFor more information or to reserve your spot\, call (805) 617-0998. \nThis event is sponsored by UCSB’s History Associates.\nSince 1987\, UCSB History Associates has brought together community members and UCSB faculty through an annual program of history-focused lectures\, lunches\, and tours.  The History Associates raise money to support graduate training in History at UCSB.  Support from the History Associates makes an essential contribution to the success of our graduate students. \njwil 14.ix.2010
URL:https://www.history.ucsb.edu/events/ucsb-history-associates-2010-2011-kickoff-event/
LOCATION:CA
END:VEVENT
END:VCALENDAR