BEGIN:VCALENDAR
VERSION:2.0
PRODID:-//Department of History, UC Santa Barbara - ECPv6.15.12.1//NONSGML v1.0//EN
CALSCALE:GREGORIAN
METHOD:PUBLISH
X-ORIGINAL-URL:https://www.history.ucsb.edu
X-WR-CALDESC:Events for Department of History, UC Santa Barbara
REFRESH-INTERVAL;VALUE=DURATION:PT1H
X-Robots-Tag:noindex
X-PUBLISHED-TTL:PT1H
BEGIN:VTIMEZONE
TZID:America/Denver
BEGIN:DAYLIGHT
TZOFFSETFROM:-0700
TZOFFSETTO:-0600
TZNAME:MDT
DTSTART:20090308T090000
END:DAYLIGHT
BEGIN:STANDARD
TZOFFSETFROM:-0600
TZOFFSETTO:-0700
TZNAME:MST
DTSTART:20091101T080000
END:STANDARD
BEGIN:DAYLIGHT
TZOFFSETFROM:-0700
TZOFFSETTO:-0600
TZNAME:MDT
DTSTART:20100314T090000
END:DAYLIGHT
BEGIN:STANDARD
TZOFFSETFROM:-0600
TZOFFSETTO:-0700
TZNAME:MST
DTSTART:20101107T080000
END:STANDARD
BEGIN:DAYLIGHT
TZOFFSETFROM:-0700
TZOFFSETTO:-0600
TZNAME:MDT
DTSTART:20110313T090000
END:DAYLIGHT
BEGIN:STANDARD
TZOFFSETFROM:-0600
TZOFFSETTO:-0700
TZNAME:MST
DTSTART:20111106T080000
END:STANDARD
END:VTIMEZONE
BEGIN:VEVENT
DTSTART;TZID=America/Denver:20100128T000000
DTEND;TZID=America/Denver:20100128T000000
DTSTAMP:20260422T143618
CREATED:20150928T112813Z
LAST-MODIFIED:20150928T112813Z
UID:10001786-1264636800-1264636800@www.history.ucsb.edu
SUMMARY:The Methodological Challenges of Researching Postcolonial  African Histories
DESCRIPTION:Within the field of African history\, scholars have just begun to  historicize Africa’s postcolonial era\, roughly marked by the  independence of Ghana in 1957 to the present. This new endeavor  presents significant methodological challenges\, since African states  have not always had the means nor the political will to maintain state archives. This scenario has prompted scholars to ask whether a history  of postcolonial Africa needs to explore alternative archives located outside of official state institutions\, such as non-government  agencies\, popular culture productions\, and orality.\nStephan Miescher  will lead a discussion about these issues in the context of the  African Studies RFG’s 2009-10 theme of “Performance\, Orality\, and the  Postcolonial State.” \nSponsored by the IHC’s African Studies RFG. \nhm 1/20/10
URL:https://www.history.ucsb.edu/events/the-methodological-challenges-of-researching-postcolonial-african-histories/
LOCATION:CA
END:VEVENT
BEGIN:VEVENT
DTSTART;TZID=America/Denver:20100129T000000
DTEND;TZID=America/Denver:20100129T000000
DTSTAMP:20260422T143618
CREATED:20150928T112812Z
LAST-MODIFIED:20150928T112812Z
UID:10001756-1264723200-1264723200@www.history.ucsb.edu
SUMMARY:The Importance of Hubert Harrison (1883-1927): The Voice of Harlem Radicalism and an Intellectual/Activist Ahead of His Time
DESCRIPTION:Perry is a long-time union activist and editor for the National Postal Mail Handlers Union. He is the author of Hubert Harrison: The Voice of Harlem Radicalism\, 1883-1918 (2008). He edited Theodore  W. Allen’s Class Struggle and the Origin of Racial Slavery: The Invention of the White Race (2006).\nSponsored by the Center for the Study of Work\, Labor\, and Democracy.  \njwil 28.xii.2009
URL:https://www.history.ucsb.edu/events/the-importance-of-hubert-harrison-1883-1927-the-voice-of-harlem-radicalism-and-an-intellectualactivist-ahead-of-his-time/
LOCATION:CA
END:VEVENT
END:VCALENDAR