BEGIN:VCALENDAR
VERSION:2.0
PRODID:-//Department of History, UC Santa Barbara - ECPv6.15.12.1//NONSGML v1.0//EN
CALSCALE:GREGORIAN
METHOD:PUBLISH
X-ORIGINAL-URL:https://www.history.ucsb.edu
X-WR-CALDESC:Events for Department of History, UC Santa Barbara
REFRESH-INTERVAL;VALUE=DURATION:PT1H
X-Robots-Tag:noindex
X-PUBLISHED-TTL:PT1H
BEGIN:VTIMEZONE
TZID:America/Denver
BEGIN:DAYLIGHT
TZOFFSETFROM:-0700
TZOFFSETTO:-0600
TZNAME:MDT
DTSTART:20080309T090000
END:DAYLIGHT
BEGIN:STANDARD
TZOFFSETFROM:-0600
TZOFFSETTO:-0700
TZNAME:MST
DTSTART:20081102T080000
END:STANDARD
BEGIN:DAYLIGHT
TZOFFSETFROM:-0700
TZOFFSETTO:-0600
TZNAME:MDT
DTSTART:20090308T090000
END:DAYLIGHT
BEGIN:STANDARD
TZOFFSETFROM:-0600
TZOFFSETTO:-0700
TZNAME:MST
DTSTART:20091101T080000
END:STANDARD
BEGIN:DAYLIGHT
TZOFFSETFROM:-0700
TZOFFSETTO:-0600
TZNAME:MDT
DTSTART:20100314T090000
END:DAYLIGHT
BEGIN:STANDARD
TZOFFSETFROM:-0600
TZOFFSETTO:-0700
TZNAME:MST
DTSTART:20101107T080000
END:STANDARD
END:VTIMEZONE
BEGIN:VEVENT
DTSTART;TZID=America/Denver:20091014T000000
DTEND;TZID=America/Denver:20091014T000000
DTSTAMP:20260420T072026
CREATED:20150928T112809Z
LAST-MODIFIED:20150928T112809Z
UID:10001717-1255478400-1255478400@www.history.ucsb.edu
SUMMARY:Campuswide Teach-In on UC Budget Crisis
DESCRIPTION:This teach-in explores the origins and character of the current crisis at the University of California. The program is as follows; for more information see the Keep California’s Promise website. \n2:30 p.m. Welcome from the Campbell Hall Steps\nReginald Archer\, President\, Graduate Student Association\, UCSB\nJessie Bernal\, Student Member of UC Regents\nAmanda Wallner\, Campus Democrats\, UCSB \n3:05 p.m. Student Voices\nErica Stenz\, Exercise and Sports Studies Campaign\nNayra Pacheco\, IDEAS (Improving Dreams\, Equality\, Access\, & Success)\nJoel Mardujano\, Associated Students Legislative Council Representative \n3:25 p.m. Meaning of the Teach-In\nDean David Marshall\, UCSB\nNelson Lichtenstein\, Professor of History\, UCSB: Clark Kerr’s forgotten legacy \n3:40 p.m. The Crisis at the University of California\nChair: Michael Brown\, UCSB\, Gevirtz School of Education (invited)\nStan Glantz\, Professor of Medicine\, UC San Francisco\, past chair of UC Committee on Planning and Budget: UC’s budget blunders\nRobert Samuels\, President\, UC-American Federation of Teachers: Why the furloughs are unnecessary\nChristine Petit\, President\, UAW Local 2865\, (The union for TAs\, readers and tutors): The teaching experience under stress\nRobert Meister\, Professor of Political Science\, UC Santa Cruz\, President\, UC Faculty Associations: What is faculty governance? \n5:30 p.m. California Politics: What Reforms Do We Need?\nChair: Aranye Fradenburg\, Professor of English\, UCSB\nLenny Goldberg\, California Tax Reform Association 25\nRuth Gilmore\, Professor of Ethnicity and Geography\, University of Southern California: The Budget-draining prison complex\nKent Wong\, Director\, UCLA Labor Center: A “Dream Act” for Undocumented students\nSharde Davis\, UCSB: Stop rising fees! \n7:00 p.m. Breakout Workshops and Panels at Various Locations on Campus.\nA light dinner will be available outside of Campbell. See program for location of workshops and panels in nearby classroom buildings \n8:30 p.m. Where Do We Go From Here?\nChair: Hannah Beth Jackson\, former South Coast Assemblywoman\nJanelle Mungo\, Human Rights Coalition\, UCSB: What students can do.\nLoni Hancock\, Chair\, Elections\, Reapportionment\, and Constitutional Amendments Committee\, California State Senate: Ending the Sacramento deadlock\nGeorge Lakoff\, Professor of Linguistics\, UC Berkeley: Framing the issues \nOpen Mike\n——————————— \nThe Sept. 14  UC Budget Crisis Teach-In at UC Berkeley is available on Youtube: See this playlist of 5 presentions (they are each 12-19 mins. long).   \nhm 8/31/09\, 9/22\, 10/5\, 10/8\, 10/9
URL:https://www.history.ucsb.edu/events/campuswide-teach-in-on-uc-budget-crisis/
LOCATION:CA
END:VEVENT
END:VCALENDAR