BEGIN:VCALENDAR
VERSION:2.0
PRODID:-//Department of History, UC Santa Barbara - ECPv6.15.12.1//NONSGML v1.0//EN
CALSCALE:GREGORIAN
METHOD:PUBLISH
X-WR-CALNAME:Department of History, UC Santa Barbara
X-ORIGINAL-URL:https://www.history.ucsb.edu
X-WR-CALDESC:Events for Department of History, UC Santa Barbara
REFRESH-INTERVAL;VALUE=DURATION:PT1H
X-Robots-Tag:noindex
X-PUBLISHED-TTL:PT1H
BEGIN:VTIMEZONE
TZID:America/Denver
BEGIN:DAYLIGHT
TZOFFSETFROM:-0700
TZOFFSETTO:-0600
TZNAME:MDT
DTSTART:20070311T090000
END:DAYLIGHT
BEGIN:STANDARD
TZOFFSETFROM:-0600
TZOFFSETTO:-0700
TZNAME:MST
DTSTART:20071104T080000
END:STANDARD
BEGIN:DAYLIGHT
TZOFFSETFROM:-0700
TZOFFSETTO:-0600
TZNAME:MDT
DTSTART:20080309T090000
END:DAYLIGHT
BEGIN:STANDARD
TZOFFSETFROM:-0600
TZOFFSETTO:-0700
TZNAME:MST
DTSTART:20081102T080000
END:STANDARD
BEGIN:DAYLIGHT
TZOFFSETFROM:-0700
TZOFFSETTO:-0600
TZNAME:MDT
DTSTART:20090308T090000
END:DAYLIGHT
BEGIN:STANDARD
TZOFFSETFROM:-0600
TZOFFSETTO:-0700
TZNAME:MST
DTSTART:20091101T080000
END:STANDARD
END:VTIMEZONE
BEGIN:VEVENT
DTSTART;TZID=America/Denver:20081103T000000
DTEND;TZID=America/Denver:20081103T000000
DTSTAMP:20260420T031833
CREATED:20150928T112757Z
LAST-MODIFIED:20150928T112757Z
UID:10001495-1225670400-1225670400@www.history.ucsb.edu
SUMMARY:Politics of the Living Dead: Lords\, Adoption and Inheritance in Tokugawa Japan
DESCRIPTION:Monday\, November 3 / 12:00 PMHSSB 2252\nLuke Roberts will speak on keeping the deaths of daimyo officially secret for days or months at a time so as to engineer adoptions in the Tokugawa period.  Almost everyone is in the know but pretends the lord is alive.  This study helped Roberts figure out the why of the topic of his book\, which is to understand Tokugawa politics through Tokugawa-era concepts of omote (ritual performance of submission to hierarchy) and naishu (inside group-forming identity\, informal relations across groups).  Factions within lords’ households frequently competed over inheritance. Therefore in Tokugawa law daimyo lords had to be alive to personally name their heir or the house was forfeit.  Still daimyo frequently died suddenly and heirless.  The performance of submission to this rule and the civility necessary to engineer the inheritance of an officially alive but really dead daimyo lord helped prevent intra-house strife and warfare and helped maintain the Tokugawa great peace.\nSponsored by the IHC’s East Asian Cultures RFG. \nhm 10/22
URL:https://www.history.ucsb.edu/events/politics-of-the-living-dead-lords-adoption-and-inheritance-in-tokugawa-japan/
LOCATION:CA
END:VEVENT
BEGIN:VEVENT
DTSTART;TZID=America/Denver:20081105T000000
DTEND;TZID=America/Denver:20081105T000000
DTSTAMP:20260420T031833
CREATED:20150928T112758Z
LAST-MODIFIED:20150928T112758Z
UID:10001496-1225843200-1225843200@www.history.ucsb.edu
SUMMARY:Catolicos: Resistance and Affirmation in Chicano Catholic History
DESCRIPTION:Wednesday\, November 5 / 4:00 PMMcCune Conference Room\, 6020 HSSB \nThis book presentation and discussion will focus on Mario T. Garcia’s new book concerning the historic role that Chicano Catholicism has played in the resistance of Chicanos to cultural and identity repression and in affirming the cultural and identity integrity of Chicanos.  In addition to Prof. Garcia’s presentation\, analysis and reflections on the book will be offered by Rudy Busto and Jack Clark Robinson\, O.F.M.\, from the Dept. of Religious Studies.  Mario T. Garcia is the author of many texts on Chicano history\, including Chicano religious history. \nSponsored by the IHC’s Chicano/Latino Research Focus Group\, Catholic Studies\, the Department of Chicana and Chicano Studies; Chicano Studies Institute. \nhm 10/22
URL:https://www.history.ucsb.edu/events/catolicos-resistance-and-affirmation-in-chicano-catholic-history/
LOCATION:CA
END:VEVENT
BEGIN:VEVENT
DTSTART;TZID=America/Denver:20081105T000000
DTEND;TZID=America/Denver:20081105T000000
DTSTAMP:20260420T031833
CREATED:20150928T112758Z
LAST-MODIFIED:20150928T112758Z
UID:10001497-1225843200-1225843200@www.history.ucsb.edu
SUMMARY:An Evening with David Grossman
DESCRIPTION:Wednesday\, November 5 / 7:30 PMUCSB Campbell Hall\nIsraeli writer David Grossman is the author of some of the most controversial books in his country’s history\, including the award-winning The Yellow Wind\, observations collected over three months in the West Bank. The recipient of 21 international literary awards\, Grossman’s acclaimed body of works has been translated into more than 20 languages and often deals with Arab/Jewish relations (Death as a Way of Life) and Holocaust themes. Grossman will read and discuss work from his forthcoming collection of essays on literature and politics Writing in the Dark. Courtesy of Borders\, copies of his books will be available for purchase and signing.\nWebsite: http://www.ihc.ucsb.edu/events/endowed/taubman.html\nSponsored by the Herman P. and Sophia Taubman Foundation Endowed Symposia in Jewish Studies at UCSB\, a program of the Interdisciplinary Humanities Center\, co-sponsored by UCSB Arts & Lectures\, the Department of Religious Studies\, Congregation B’nai B’rith\, the Jewish Federation of Greater Santa Barbara\, and Santa Barbara Hillel.  Assistance provided by the Anti-Defamation League. \nhm 10/22
URL:https://www.history.ucsb.edu/events/an-evening-with-david-grossman/
LOCATION:CA
END:VEVENT
END:VCALENDAR