BEGIN:VCALENDAR
VERSION:2.0
PRODID:-//Department of History, UC Santa Barbara - ECPv6.15.12.1//NONSGML v1.0//EN
CALSCALE:GREGORIAN
METHOD:PUBLISH
X-ORIGINAL-URL:https://www.history.ucsb.edu
X-WR-CALDESC:Events for Department of History, UC Santa Barbara
REFRESH-INTERVAL;VALUE=DURATION:PT1H
X-Robots-Tag:noindex
X-PUBLISHED-TTL:PT1H
BEGIN:VTIMEZONE
TZID:America/Denver
BEGIN:DAYLIGHT
TZOFFSETFROM:-0700
TZOFFSETTO:-0600
TZNAME:MDT
DTSTART:20070311T090000
END:DAYLIGHT
BEGIN:STANDARD
TZOFFSETFROM:-0600
TZOFFSETTO:-0700
TZNAME:MST
DTSTART:20071104T080000
END:STANDARD
BEGIN:DAYLIGHT
TZOFFSETFROM:-0700
TZOFFSETTO:-0600
TZNAME:MDT
DTSTART:20080309T090000
END:DAYLIGHT
BEGIN:STANDARD
TZOFFSETFROM:-0600
TZOFFSETTO:-0700
TZNAME:MST
DTSTART:20081102T080000
END:STANDARD
BEGIN:DAYLIGHT
TZOFFSETFROM:-0700
TZOFFSETTO:-0600
TZNAME:MDT
DTSTART:20090308T090000
END:DAYLIGHT
BEGIN:STANDARD
TZOFFSETFROM:-0600
TZOFFSETTO:-0700
TZNAME:MST
DTSTART:20091101T080000
END:STANDARD
END:VTIMEZONE
BEGIN:VEVENT
DTSTART;TZID=America/Denver:20081028T000000
DTEND;TZID=America/Denver:20081028T000000
DTSTAMP:20260421T005121
CREATED:20150928T112757Z
LAST-MODIFIED:20150928T112757Z
UID:10001605-1225152000-1225152000@www.history.ucsb.edu
SUMMARY:Sir Thomas Browne\, the Laudian Moment\, and the Birth of Modernity
DESCRIPTION:UCSB Renaissance Studies presents the first talk in its new speaker series.  There will be a light reception after the talk.\nFor more information contact Stefania Tutino or Jim Kearney. \nhm 10/13/08
URL:https://www.history.ucsb.edu/events/sir-thomas-browne-the-laudian-moment-and-the-birth-of-modernity/
LOCATION:CA
END:VEVENT
BEGIN:VEVENT
DTSTART;TZID=America/Denver:20081029T000000
DTEND;TZID=America/Denver:20081029T000000
DTSTAMP:20260421T005121
CREATED:20150928T112757Z
LAST-MODIFIED:20150928T112757Z
UID:10001609-1225238400-1225238400@www.history.ucsb.edu
SUMMARY:In Cod We Trust
DESCRIPTION:Was John Cabot the first European after the Norse to set foot in North America? Brian Fagan takes us on a fascinating 1\,500-year archaeological and historical journey in search of the answer\, which is closely linked to the importance of fish like cod to Christian  doctrine. We begin with Christ’s 40-day fast in the wilderness\, with the symbolism of fish in Christian belief\, in a world of abstinence\, atonement\, fasting and penance. Within a few centuries\, enormous numbers of (now vanished) fish farms appeared throughout Europe. Soon afterward\, a huge international fish trade developed to satisfy an insatiable demand for fish on holy days and during Lent. This is a story of salt\, herrings and cod\, of busses\, doggers\, cogs\, and  caravels\, of fishers sailing the North Atlantic in mid-February for Lenten catches. The journey culminates in the discovery of the  Newfoundland cod fisheries and with the permanent settlement of New England well before the Pilgrims.  This lecture is the opening event of the IHC’s “Food Matters” series.Sponsored by the IHC; part of the “Food Matters” series. \nhm 10/22
URL:https://www.history.ucsb.edu/events/in-cod-we-trust/
LOCATION:CA
END:VEVENT
BEGIN:VEVENT
DTSTART;TZID=America/Denver:20081030T000000
DTEND;TZID=America/Denver:20081030T000000
DTSTAMP:20260421T005121
CREATED:20150928T112757Z
LAST-MODIFIED:20150928T112757Z
UID:10001493-1225324800-1225324800@www.history.ucsb.edu
SUMMARY:FILM SCREENING: Food for the Ancestors
DESCRIPTION:Dias de los Muertos event\nThursday\, October 30 / 5:30 PM\nMcCune Conference Room\, HSSB 6020\nAs part of its Food Matters series\, the IHC will celebrate the Days of the Dead with a screening of the PBS film Food for the Ancestors. Food for the Ancestors is a culinary-history exploration of Days of the Dead and Mexican traditions\, set in the state of Puebla. \nSponsored by the IHC; part of the “Food Matters” series. \nhm 10/22
URL:https://www.history.ucsb.edu/events/film-screening-food-for-the-ancestors/
LOCATION:CA
END:VEVENT
BEGIN:VEVENT
DTSTART;TZID=America/Denver:20081030T000000
DTEND;TZID=America/Denver:20081030T000000
DTSTAMP:20260421T005121
CREATED:20150928T112758Z
LAST-MODIFIED:20150928T112758Z
UID:10001499-1225324800-1225324800@www.history.ucsb.edu
SUMMARY:FILM Seven Days In May
DESCRIPTION:Presented by the CCWS Cold War film series.\nThe president of United States has just signed a treaty with the Soviet Union requiring both countries to destroy their nuclear weapons. The polls show the treaty to be unpopular. The charismatic Chairman of the Joint Chiefs of Staff believes that the Soviets will cheat and launch a nuclear surprise attack that would kill hundreds of millions and destroy the United States. To thwart the treaty\, he and a cadre of like-minded officers plot to seize control of the U.S. government. A vigilant colonel\, committed to the U.S. Constitution\, uncovers the scheme. But are the seven fateful days ahead enough time to derail a takeover? The clock is ticking. \nReleased the same year that ushered in Fail-Safe and Dr. Strangelove\, this John Frankenheimer (Manchurian Candidate) film explored another nightmare scenario of the Cold War – a right-wing military coup in the United States. The book and film were inspired by the disarmament debate at the end of the Eisenhower years and start of the Kennedy years. President John F. Kennedy admired the novel so much that he allowed Frankenheimer to film outside the White House in late 1963\, but the Department of Defense objected to the negative portrayal of the military and refused cooperation. Starring Burt Lancaster and Kirk Douglas\, the film is a fine example of Cold War psychological drama at its best. \nWikipedia Seven Daysfilm page \nhm 10/26
URL:https://www.history.ucsb.edu/events/film-seven-days-in-may/
LOCATION:CA
END:VEVENT
BEGIN:VEVENT
DTSTART;TZID=America/Denver:20081031T000000
DTEND;TZID=America/Denver:20081031T000000
DTSTAMP:20260421T005121
CREATED:20150928T112757Z
LAST-MODIFIED:20150928T112757Z
UID:10001494-1225411200-1225411200@www.history.ucsb.edu
SUMMARY:Democracy and Knowledge in Classical Athens
DESCRIPTION:In this colloquium\, Josiah Ober will draw on his recent book Democracy and Knowledge: Innovation and Learning in Classical Athens (Princeton University Press\, 2008) to discuss the institutional contexts of democratic knowledge management in classical Athens.\nJosiah Ober is Professor of Classics and Professor of Political Science at Stanford University\, and holds the Constantine Mitsotaki Chair in the School of Humanities and Sciences. \njwil 23.x.08
URL:https://www.history.ucsb.edu/events/democracy-and-knowledge-in-classical-athens/
LOCATION:CA
END:VEVENT
END:VCALENDAR