BEGIN:VCALENDAR
VERSION:2.0
PRODID:-//Department of History, UC Santa Barbara - ECPv6.15.12.1//NONSGML v1.0//EN
CALSCALE:GREGORIAN
METHOD:PUBLISH
X-ORIGINAL-URL:https://www.history.ucsb.edu
X-WR-CALDESC:Events for Department of History, UC Santa Barbara
REFRESH-INTERVAL;VALUE=DURATION:PT1H
X-Robots-Tag:noindex
X-PUBLISHED-TTL:PT1H
BEGIN:VTIMEZONE
TZID:America/Denver
BEGIN:DAYLIGHT
TZOFFSETFROM:-0700
TZOFFSETTO:-0600
TZNAME:MDT
DTSTART:20070311T090000
END:DAYLIGHT
BEGIN:STANDARD
TZOFFSETFROM:-0600
TZOFFSETTO:-0700
TZNAME:MST
DTSTART:20071104T080000
END:STANDARD
BEGIN:DAYLIGHT
TZOFFSETFROM:-0700
TZOFFSETTO:-0600
TZNAME:MDT
DTSTART:20080309T090000
END:DAYLIGHT
BEGIN:STANDARD
TZOFFSETFROM:-0600
TZOFFSETTO:-0700
TZNAME:MST
DTSTART:20081102T080000
END:STANDARD
BEGIN:DAYLIGHT
TZOFFSETFROM:-0700
TZOFFSETTO:-0600
TZNAME:MDT
DTSTART:20090308T090000
END:DAYLIGHT
BEGIN:STANDARD
TZOFFSETFROM:-0600
TZOFFSETTO:-0700
TZNAME:MST
DTSTART:20091101T080000
END:STANDARD
END:VTIMEZONE
BEGIN:VEVENT
DTSTART;TZID=America/Denver:20080407T000000
DTEND;TZID=America/Denver:20080407T000000
DTSTAMP:20260419T110756
CREATED:20150928T112751Z
LAST-MODIFIED:20150928T112751Z
UID:10001521-1207526400-1207526400@www.history.ucsb.edu
SUMMARY:Food fit for Pharaohs: Food and Drink in Ancient Egypt
DESCRIPTION:About this LectureThe annual Kress Lecture is sponsored by the Santa Barbara Society of the Archaeological Institute of America. \nDirections to the Santa Barbara Museum of Art may be found here. \nFor more information about the Archaeological Institute of America\, click here. \nAbout the Speaker\nDr. Salima Ikram\, a well known Egyptologist\, is an associate professor of Egyptology at the American University in Cairo\, a participant in many Egyptian archaeological projects\, the author of several books on Egyptian archaeology\, a contributor to various magazines\, and a frequent guest on television shows on the topic. Dr. Ikram studied Egyptology and archaeology at Bryn Mawr College\, Pennsylvania\, earning an A.B. in Classical and Near Eastern Archaeology and History. Continuing her studies at Cambridge University\, she earned her M.Phil. and Ph.D. in Egyptology and museum studies. While working for her Ph.D. she also trained in faunal analysis. Dr. Ikram now lives in Cairo and teaches Egyptology and archaeology at the American University in Cairo. She is the correspondent for KMT\, a popular Egyptological journal\, and a frequent contributor to Egypt Today. She is the co-director of the Animal Mummy Project at the Egyptian Museum. Since 2001\, Ikram has directed\, with Corinna Rossi\, the North Kharga Oasis Survey.
URL:https://www.history.ucsb.edu/events/food-fit-for-pharaohs-food-and-drink-in-ancient-egypt/
LOCATION:CA
END:VEVENT
BEGIN:VEVENT
DTSTART;TZID=America/Denver:20080410T000000
DTEND;TZID=America/Denver:20080410T000000
DTSTAMP:20260419T110756
CREATED:20150928T112754Z
LAST-MODIFIED:20150928T112754Z
UID:10001475-1207785600-1207785600@www.history.ucsb.edu
SUMMARY:Conspiracy: The 1942 Wannsee Conference
DESCRIPTION:On January 20\, 1942\, 15 high ranking German officers gathered in a villa on the outskirts of Berlin for a clandestine meeting that would ultimately seal the fate of the European Jewish population. Ninety minutes later\, the blueprint for Hitler’s Final Solution was in place. The Wannsee Protocol\, found in the files of the Reich’s Foreign Office\, is the only document where the details of Hitler’s maniacal plan were actually codified\, and serves as the basis for this intriguing film. Starring Kenneth Branagh\, Colin Firth and Stanley Tucci. (2001\, 112 min.)\nDirector Frank Pierson\, former president of the Academy of Motion Picture Arts and Sciences\, will introduce the film and answer audience questions following the screening. Pierson’s long list of distinguished credits includes co-authoring the screenplays for the Academy Award-nominated film Cool Hand Luke and the Academy Award-winning film Dog Day Afternoon; as well as directing the rock music film A Star is Born.  \nAfterwards Pierson will discuss the film with Profs. Marcuse (History)\, Holt (Film & Media Studies)\, and Hecht (Religious Studies).
URL:https://www.history.ucsb.edu/events/conspiracy-the-1942-wannsee-conference/
LOCATION:CA
END:VEVENT
BEGIN:VEVENT
DTSTART;TZID=America/Denver:20080410T000000
DTEND;TZID=America/Denver:20080410T000000
DTSTAMP:20260419T110756
CREATED:20150928T112754Z
LAST-MODIFIED:20150928T112754Z
UID:10001574-1207785600-1207785600@www.history.ucsb.edu
SUMMARY:Hegel\, Haiti and Universal History
DESCRIPTION:Professor Buck-Morss’ lecture entitled “Hegel\, Haiti and Universal History” connects Haiti’s revolution to political universality\, questioning the adequacy of multiculturalism and alternative modernities as approaches to historical scholarship today.\nSusan Buck-Morss is Professor of Political Philosophy and Social Theory in the Department of Government\, Cornell University\, and member of the graduate fields of Comparative Literature\, German Studies\, History of Art and Visual Studies\, and the School of Art\, Architecture and City and Regional Planning. Her books include Hegel\, Haiti\, and Universal History (Pittsburgh University Press\, 2008)\, Thinking Past Terror: Islamism and Critical Theory on the Left (Verso\, 2003); Dreamworld and Catastrophe: The Passing of Mass Utopia in East and West (MIT Press\, 2000); The Dialectics of Seeing: Walter Benjamin and the Arcades Project (MIT Press\, 1989); and The Origin of Negative Dialectics: Theodor W. Adorno\, Walter Benjamin\, and the Critical Theory of the Frankfurt School (Free Press\, 1977; 2nd ed.\, 2002). \nSponsored by the Series in Contemporary Literature\, the InterdisciplinaryHumanities Center\, the Center for Black Studies\, the College of Creative Studies\, the Comparative Literature Program\, the Departments of French and Italian\, Germanic\, Slavic\, and Semitic Studies\, and History.
URL:https://www.history.ucsb.edu/events/hegel-haiti-and-universal-history/
LOCATION:CA
END:VEVENT
BEGIN:VEVENT
DTSTART;TZID=America/Denver:20080411T000000
DTEND;TZID=America/Denver:20080411T000000
DTSTAMP:20260419T110756
CREATED:20150928T112754Z
LAST-MODIFIED:20150928T112754Z
UID:10001476-1207872000-1207872000@www.history.ucsb.edu
SUMMARY:Writing History and Lyric in Trilingual England
DESCRIPTION:Ralph Hanna\, Professor of Paleography and Fellow of Keble College\, Oxford University “The Matter of Fulk: Romance and History in Fourteenth-Century Shropshire” \nFouke le Fitz Waryn\, an Anglo-Norman prose text of c. 1325-30\, is the only surviving full rendition of a narrative retold at least three times\, in English and French\, during the period c.1260-c.1400.  Most of the text is devoted to Fulk III’s quite historical revolt against King John in 1201-3.  But the text has always appeared problematic\, since the tale of Fulk’s disobedience has acquired a patina of ‘romance’ materials very far from plausible\, let alone historical.  The lecture examines aspects of this presentation\, far from limited to this text but ubiquitous in insular historical writing and romance. \nSeth Lerer\, Avalon Foundation Professor in Humanities\, Stanford University\n“The English Lyric in a Trilingual World” \nThrough looking at the lyrics of the famous Harley MS collection\, the paper explores the ways in which English\, French\, and Latin interact to challenge our modern notions of vernacularity and our historical sense of the vernacular short poem. The paper argues that the study of the English lyric has gone on in a radically de-historicized manner\, as we encounter them in anthologies and collections that efface the original manuscript contexts of the works. Restoring these poems to their original contexts helps us understand how English\, French\, and Latin constituted strata\, in effect\, of vernacular expression in lyric forms. It also helps us understand the ways in which these poems may be less the personal articulations of an emotive voice and more the literate performances or ventriloquisms of learned tropes and conventions. Finally\, the paper realigns the study of the medieval lyric away from the formalist appreciations of the Dronke tradition and towards a method that stresses distinctive histories of language\, manuscript production and reception\, and genre. \nFor more information\, contact Carol Pasternack. \nSponsored by Medieval Studies\, the Department of History\, and the Interdisciplinary Humanities Center.
URL:https://www.history.ucsb.edu/events/writing-history-and-lyric-in-trilingual-england/
LOCATION:CA
END:VEVENT
END:VCALENDAR