BEGIN:VCALENDAR
VERSION:2.0
PRODID:-//Department of History, UC Santa Barbara - ECPv6.15.12.1//NONSGML v1.0//EN
CALSCALE:GREGORIAN
METHOD:PUBLISH
X-ORIGINAL-URL:https://www.history.ucsb.edu
X-WR-CALDESC:Events for Department of History, UC Santa Barbara
REFRESH-INTERVAL;VALUE=DURATION:PT1H
X-Robots-Tag:noindex
X-PUBLISHED-TTL:PT1H
BEGIN:VTIMEZONE
TZID:America/Denver
BEGIN:DAYLIGHT
TZOFFSETFROM:-0700
TZOFFSETTO:-0600
TZNAME:MDT
DTSTART:20070311T090000
END:DAYLIGHT
BEGIN:STANDARD
TZOFFSETFROM:-0600
TZOFFSETTO:-0700
TZNAME:MST
DTSTART:20071104T080000
END:STANDARD
BEGIN:DAYLIGHT
TZOFFSETFROM:-0700
TZOFFSETTO:-0600
TZNAME:MDT
DTSTART:20080309T090000
END:DAYLIGHT
BEGIN:STANDARD
TZOFFSETFROM:-0600
TZOFFSETTO:-0700
TZNAME:MST
DTSTART:20081102T080000
END:STANDARD
BEGIN:DAYLIGHT
TZOFFSETFROM:-0700
TZOFFSETTO:-0600
TZNAME:MDT
DTSTART:20090308T090000
END:DAYLIGHT
BEGIN:STANDARD
TZOFFSETFROM:-0600
TZOFFSETTO:-0700
TZNAME:MST
DTSTART:20091101T080000
END:STANDARD
END:VTIMEZONE
BEGIN:VEVENT
DTSTART;TZID=America/Denver:20080211T000000
DTEND;TZID=America/Denver:20080211T000000
DTSTAMP:20260419T154645
CREATED:20150928T112752Z
LAST-MODIFIED:20150928T112752Z
UID:10001552-1202688000-1202688000@www.history.ucsb.edu
SUMMARY:Almost All Aliens: Immigration\, Race\, and Colonialism in American History and Identity
DESCRIPTION:UCSB History Professor Paul Spickard will read from and sign copies of his new book\, which revolutionizes our understanding of the place and meaning of immigration in US history.
URL:https://www.history.ucsb.edu/events/almost-all-aliens-immigration-race-and-colonialism-in-american-history-and-identity/
LOCATION:CA
END:VEVENT
BEGIN:VEVENT
DTSTART;TZID=America/Denver:20080211T000000
DTEND;TZID=America/Denver:20080211T000000
DTSTAMP:20260419T154645
CREATED:20150928T112753Z
LAST-MODIFIED:20150928T112753Z
UID:10001554-1202688000-1202688000@www.history.ucsb.edu
SUMMARY:Early Christianity and the Ancient Coastline of Ephesos
DESCRIPTION:Classical\, Hellenistic\, and Roman archaeological research in Greece and Turkey has traditionally been overwhelmingly weighted toward the excavation of monumental structures in urban centers.  This work has in turn been the focus of attempts to use archaeological evidence to describe the context of early Christianity.  The result has been a tendency to raise the social and economic status of the earliest Christians.  Geomorphological research in Ephesos has developed the first detailed outline of the ancient coastline during a period of rapid alluvial deposition in the Hellenistic and Roman periods\, identifying large expanses of new land near the harbor that became available for construction during the late Hellenistic period.  Remote sensing in this area has indicated structures that may provide a more promising location than monumentalized city centers for the social classes from which the first Christian converts were drawn.\nEducated in Classics and Ancient History at the University of Minnesota and the Eberhardt-Karls Universität\, in Tübingen\, Germany\, Christine M. Thomas took a Ph.D. in the Study of Religion at Harvard University in 1995. After a junior fellowship with the Society of Fellows at Harvard (1993-96)\, she joined the Religious Studies Department at the University of California\, Santa Barbara\, where she is an Associate Professor. A veteran of annual archaeological campaigns in Turkey since 1991\, she currently directs excavation projects in Ephesos and Metropolis near Smyrna (Izmir). She has written extensively on ancient Christian literature and on the religions of Asia Minor. \nThis talk is sponsored by the IHC Research Focus Group in Archaeology.
URL:https://www.history.ucsb.edu/events/early-christianity-and-the-ancient-coastline-of-ephesos/
LOCATION:CA
END:VEVENT
BEGIN:VEVENT
DTSTART;TZID=America/Denver:20080212T000000
DTEND;TZID=America/Denver:20080212T000000
DTSTAMP:20260419T154645
CREATED:20150928T112751Z
LAST-MODIFIED:20150928T112751Z
UID:10001516-1202774400-1202774400@www.history.ucsb.edu
SUMMARY:Charles Darwin\, Then and Now
DESCRIPTION:Professor Mike Osborne lectures on the life\, ideas and legacy of Charles Darwin.  Darwin is almost 200 years old and his most popular work\, The Origin of Species of 1859\, is still talked about and still causing controversy.  Come and find out why Darwin still matters\, and join us afterwards for birthday cake to celebrate Darwin’s 199th birthday.\nSanta Barbara Museum of Natural History\, Fleischmann Auditorium\, 2559 Puesta del Sol Road\, Santa Barbara.
URL:https://www.history.ucsb.edu/events/charles-darwin-then-and-now/
LOCATION:CA
END:VEVENT
BEGIN:VEVENT
DTSTART;TZID=America/Denver:20080215T000000
DTEND;TZID=America/Denver:20080215T000000
DTSTAMP:20260419T154645
CREATED:20150928T112751Z
LAST-MODIFIED:20150928T112751Z
UID:10001527-1203033600-1203033600@www.history.ucsb.edu
SUMMARY:Sweet Land of Liberty: The Unfinished Struggle for Racial Equality in the North
DESCRIPTION:Tom Sugrue is best known for his highly influential The Origins of the Urban Crisis (1996)\, which won the Bancroft Prize in History\, among other awards. He has also written important essays and books on W.E.B. DuBois\, affirmative action\, deindustrialization\, and 20th century unionism.\nSponsored by the Program in Work\, Labor and Political Economy and the Policy History Program.
URL:https://www.history.ucsb.edu/events/sweet-land-of-liberty-the-unfinished-struggle-for-racial-equality-in-the-north/
LOCATION:CA
END:VEVENT
END:VCALENDAR