BEGIN:VCALENDAR
VERSION:2.0
PRODID:-//Department of History, UC Santa Barbara - ECPv6.15.12.1//NONSGML v1.0//EN
CALSCALE:GREGORIAN
METHOD:PUBLISH
X-ORIGINAL-URL:https://www.history.ucsb.edu
X-WR-CALDESC:Events for Department of History, UC Santa Barbara
REFRESH-INTERVAL;VALUE=DURATION:PT1H
X-Robots-Tag:noindex
X-PUBLISHED-TTL:PT1H
BEGIN:VTIMEZONE
TZID:America/Denver
BEGIN:DAYLIGHT
TZOFFSETFROM:-0700
TZOFFSETTO:-0600
TZNAME:MDT
DTSTART:20070311T090000
END:DAYLIGHT
BEGIN:STANDARD
TZOFFSETFROM:-0600
TZOFFSETTO:-0700
TZNAME:MST
DTSTART:20071104T080000
END:STANDARD
BEGIN:DAYLIGHT
TZOFFSETFROM:-0700
TZOFFSETTO:-0600
TZNAME:MDT
DTSTART:20080309T090000
END:DAYLIGHT
BEGIN:STANDARD
TZOFFSETFROM:-0600
TZOFFSETTO:-0700
TZNAME:MST
DTSTART:20081102T080000
END:STANDARD
BEGIN:DAYLIGHT
TZOFFSETFROM:-0700
TZOFFSETTO:-0600
TZNAME:MDT
DTSTART:20090308T090000
END:DAYLIGHT
BEGIN:STANDARD
TZOFFSETFROM:-0600
TZOFFSETTO:-0700
TZNAME:MST
DTSTART:20091101T080000
END:STANDARD
END:VTIMEZONE
BEGIN:VEVENT
DTSTART;TZID=America/Denver:20080128T000000
DTEND;TZID=America/Denver:20080128T000000
DTSTAMP:20260419T154638
CREATED:20150928T112752Z
LAST-MODIFIED:20150928T112752Z
UID:10001544-1201478400-1201478400@www.history.ucsb.edu
SUMMARY:German Women Recall the Third Reich
DESCRIPTION:This illustrated talk will focus on what a wide variety of women who lived during the Third Reich — from righteous Gentiles to Nazi party members\, from countesses to Hausfrauen\, from farm women to anti-aircraft gunners — disclosed about their personal experiences in recollections offered decades later. Their reactions — both during the Third Reich and later — raise a number of vexing questions. Why did they behave in such varied ways? How truthful were they when giving oral testimony about their pasts? Do their responses have any relevance to the way in which we react to injustice today?\nAlison Owings is the author of FRAUEN: German Women Recall the Third Reich\, a New York Times “Notable Book of the Year.” This poignant collection of interviews was described by the Los Angeles Times Book Review as “a remarkable work of history that stands out from the vast library of World War II studies for its sheer intimacy and its sometimes startling perspectives. . . .” \nat the Bronfman Family Jewish Community Center\n524 Chapala St.\, Santa Barbara
URL:https://www.history.ucsb.edu/events/german-women-recall-the-third-reich/
LOCATION:CA
END:VEVENT
BEGIN:VEVENT
DTSTART;TZID=America/Denver:20080201T000000
DTEND;TZID=America/Denver:20080201T000000
DTSTAMP:20260419T154638
CREATED:20150928T112751Z
LAST-MODIFIED:20150928T112751Z
UID:10001517-1201824000-1201824000@www.history.ucsb.edu
SUMMARY:The Reagan Revolution Reconsidered: How Conservatives Governed When They Finally Achieved Power
DESCRIPTION:Meg Jacobs is the author of the prize-winning Pocketbook Politics: Economic Citizenship in Twentieth-Century America (2005); Julian Zelizer’s most recent book is On Capital Hill: The Struggle to Reform Congress and its Consequences\, 1948-2000 (2004). They are joint editors of The Democratic Experience: New Directions in American Political History (2003).\nSponsored by the Program in Work\, Labor and Political Economy and the Policy History Program.
URL:https://www.history.ucsb.edu/events/the-reagan-revolution-reconsidered-how-conservatives-governed-when-they-finally-achieved-power/
LOCATION:CA
END:VEVENT
END:VCALENDAR