BEGIN:VCALENDAR
VERSION:2.0
PRODID:-//Department of History, UC Santa Barbara - ECPv6.15.12.1//NONSGML v1.0//EN
CALSCALE:GREGORIAN
METHOD:PUBLISH
X-WR-CALNAME:Department of History, UC Santa Barbara
X-ORIGINAL-URL:https://www.history.ucsb.edu
X-WR-CALDESC:Events for Department of History, UC Santa Barbara
REFRESH-INTERVAL;VALUE=DURATION:PT1H
X-Robots-Tag:noindex
X-PUBLISHED-TTL:PT1H
BEGIN:VTIMEZONE
TZID:America/Denver
BEGIN:DAYLIGHT
TZOFFSETFROM:-0700
TZOFFSETTO:-0600
TZNAME:MDT
DTSTART:20070311T090000
END:DAYLIGHT
BEGIN:STANDARD
TZOFFSETFROM:-0600
TZOFFSETTO:-0700
TZNAME:MST
DTSTART:20071104T080000
END:STANDARD
BEGIN:DAYLIGHT
TZOFFSETFROM:-0700
TZOFFSETTO:-0600
TZNAME:MDT
DTSTART:20080309T090000
END:DAYLIGHT
BEGIN:STANDARD
TZOFFSETFROM:-0600
TZOFFSETTO:-0700
TZNAME:MST
DTSTART:20081102T080000
END:STANDARD
BEGIN:DAYLIGHT
TZOFFSETFROM:-0700
TZOFFSETTO:-0600
TZNAME:MDT
DTSTART:20090308T090000
END:DAYLIGHT
BEGIN:STANDARD
TZOFFSETFROM:-0600
TZOFFSETTO:-0700
TZNAME:MST
DTSTART:20091101T080000
END:STANDARD
END:VTIMEZONE
BEGIN:VEVENT
DTSTART;TZID=America/Denver:20080118T000000
DTEND;TZID=America/Denver:20080118T000000
DTSTAMP:20260421T120909
CREATED:20150928T112751Z
LAST-MODIFIED:20150928T112751Z
UID:10001519-1200614400-1200614400@www.history.ucsb.edu
SUMMARY:Dorothea Lange and Visual Democracy
DESCRIPTION:Linda Gordon is a founder and one of the foremost practitioners of feminist scholarship in the United States. She is the author of Women’s Body\, Women’s Right: The History of Birth Control in America\, Heroes of Their Own Lives: The History and Politics of Family Violence\, and The Great Arizona Orphan Abduction\, among many other  pioneering works. Sponsored by the Program in Work\, Labor and Political Economy and the Policy History Program.
URL:https://www.history.ucsb.edu/events/dorothea-lange-and-visual-democracy/
LOCATION:CA
END:VEVENT
END:VCALENDAR