BEGIN:VCALENDAR
VERSION:2.0
PRODID:-//Department of History, UC Santa Barbara - ECPv6.15.12.1//NONSGML v1.0//EN
CALSCALE:GREGORIAN
METHOD:PUBLISH
X-ORIGINAL-URL:https://www.history.ucsb.edu
X-WR-CALDESC:Events for Department of History, UC Santa Barbara
REFRESH-INTERVAL;VALUE=DURATION:PT1H
X-Robots-Tag:noindex
X-PUBLISHED-TTL:PT1H
BEGIN:VTIMEZONE
TZID:America/Denver
BEGIN:DAYLIGHT
TZOFFSETFROM:-0700
TZOFFSETTO:-0600
TZNAME:MDT
DTSTART:20070311T090000
END:DAYLIGHT
BEGIN:STANDARD
TZOFFSETFROM:-0600
TZOFFSETTO:-0700
TZNAME:MST
DTSTART:20071104T080000
END:STANDARD
BEGIN:DAYLIGHT
TZOFFSETFROM:-0700
TZOFFSETTO:-0600
TZNAME:MDT
DTSTART:20080309T090000
END:DAYLIGHT
BEGIN:STANDARD
TZOFFSETFROM:-0600
TZOFFSETTO:-0700
TZNAME:MST
DTSTART:20081102T080000
END:STANDARD
BEGIN:DAYLIGHT
TZOFFSETFROM:-0700
TZOFFSETTO:-0600
TZNAME:MDT
DTSTART:20090308T090000
END:DAYLIGHT
BEGIN:STANDARD
TZOFFSETFROM:-0600
TZOFFSETTO:-0700
TZNAME:MST
DTSTART:20091101T080000
END:STANDARD
END:VTIMEZONE
BEGIN:VEVENT
DTSTART;TZID=America/Denver:20080107T000000
DTEND;TZID=America/Denver:20080107T000000
DTSTAMP:20260420T074142
CREATED:20150928T112751Z
LAST-MODIFIED:20150928T112751Z
UID:10001524-1199664000-1199664000@www.history.ucsb.edu
SUMMARY:Biology and Ethics
DESCRIPTION:Historian Paul Farber of Oregon State University explores whether nature is a guide for human actions and if humans have an evolutionary ethic. Many biologists have been uneasy with seeking moral guidance from nature rather than from the more traditional disciplines that focus on ethics and morality. Professor Farber’s talk was part of UC Santa Barbara’s popular New Visions of Nature\, Science\, and Religion initiative.\nUCTV premiere date and time: January 7\, 2008 at 3:00 p.m.  The program will be on air until January 13.\nFor other air dates and times\, see the full UCTV schedule.
URL:https://www.history.ucsb.edu/events/biology-and-ethics/
LOCATION:CA
END:VEVENT
BEGIN:VEVENT
DTSTART;TZID=America/Denver:20080107T000000
DTEND;TZID=America/Denver:20080107T000000
DTSTAMP:20260420T074142
CREATED:20150928T112752Z
LAST-MODIFIED:20150928T112752Z
UID:10001548-1199664000-1199664000@www.history.ucsb.edu
SUMMARY:Regenerative Medicine in Historical Context: From Transplantation to Translation
DESCRIPTION:Historian Jane Maienschein of Arizona State University is a former Congressional Fellow and Senior Science Advisor. She debunks the common idea that stem cell science began in 1998 and maintains that stem cell science is actually nearly a century old.  History may provide lessons for researchers and the public concerned about the social\, political\, and religious status of the embryo.  Professor Maienschein’s talk was part of UC Santa Barbara’s popular New Visions of Nature\, Science\, and Religion initiative.\nUCTV premiere date and time: January 7\, 2008 at 7:00 p.m.  The program will be on air until January 13.\nFor other air dates and times\, check the full UCTV schedule.
URL:https://www.history.ucsb.edu/events/regenerative-medicine-in-historical-context-from-transplantation-to-translation/
LOCATION:CA
END:VEVENT
END:VCALENDAR