BEGIN:VCALENDAR
VERSION:2.0
PRODID:-//Department of History, UC Santa Barbara - ECPv6.15.12.1//NONSGML v1.0//EN
CALSCALE:GREGORIAN
METHOD:PUBLISH
X-WR-CALNAME:Department of History, UC Santa Barbara
X-ORIGINAL-URL:https://www.history.ucsb.edu
X-WR-CALDESC:Events for Department of History, UC Santa Barbara
REFRESH-INTERVAL;VALUE=DURATION:PT1H
X-Robots-Tag:noindex
X-PUBLISHED-TTL:PT1H
BEGIN:VTIMEZONE
TZID:America/Los_Angeles
BEGIN:DAYLIGHT
TZOFFSETFROM:-0800
TZOFFSETTO:-0700
TZNAME:PDT
DTSTART:20200308T100000
END:DAYLIGHT
BEGIN:STANDARD
TZOFFSETFROM:-0700
TZOFFSETTO:-0800
TZNAME:PST
DTSTART:20201101T090000
END:STANDARD
BEGIN:DAYLIGHT
TZOFFSETFROM:-0800
TZOFFSETTO:-0700
TZNAME:PDT
DTSTART:20210314T100000
END:DAYLIGHT
BEGIN:STANDARD
TZOFFSETFROM:-0700
TZOFFSETTO:-0800
TZNAME:PST
DTSTART:20211107T090000
END:STANDARD
BEGIN:DAYLIGHT
TZOFFSETFROM:-0800
TZOFFSETTO:-0700
TZNAME:PDT
DTSTART:20220313T100000
END:DAYLIGHT
BEGIN:STANDARD
TZOFFSETFROM:-0700
TZOFFSETTO:-0800
TZNAME:PST
DTSTART:20221106T090000
END:STANDARD
END:VTIMEZONE
BEGIN:VEVENT
DTSTART;TZID=America/Los_Angeles:20210604T120000
DTEND;TZID=America/Los_Angeles:20210604T133000
DTSTAMP:20260423T130813
CREATED:20210528T051334Z
LAST-MODIFIED:20230402T204048Z
UID:10002362-1622808000-1622813400@www.history.ucsb.edu
SUMMARY:Public History Colloquium Event–"Telling Diverse Stories: The National Park Service Women's History Initiative and Collaboration in Historic Preservation"
DESCRIPTION:Join the History Department’s Colloquium in Public History on Friday\, June 4 at noon for a Zoom talk by Christopher E. Johnson (National Park Service)\, Anne Lindsay (Public History\, CSU Sacramento)\, and Jenni Sorkin (History of Art and Architecture\, UCSB). \nThis presentation describes collaborative work completed under the Women’s History Initiative\, one of three national initiatives authorized by the Secretary of the Interior in 2011 to foster greater representation in NPS programs. \nJohnson will discuss the NPS initiatives\, while Profs. Sorkin and Lindsay share their experiences as scholars with a recent NPS collaborative project at Pond Farm Pottery\, the home and studio of Bauhaus ceramicist Marguerite Wildenhain. In addition to recognizing a nationally significant site associated with women’s contributions to American arts\, the project also provided valuable hands-on experience to undergraduate and graduate students pursuing careers in public history. \nRegister for this event at https://ucsb.zoom.us/webinar/register/WN_QWJsZ22GQtiyk3Lgqn7-pw \nRecommended web links: \nHeritage and History Initiatives – National Historic Landmarks (U.S. National Park Service) (nps.gov) \nWomen’s History (U.S. National Park Service) (nps.gov) \ncrm-v20n3.pdf (npshistory.com) \nExplore Suffragist Stories and Connections (arcgis.com) \nhttps://stewardscr.org/pond-farm-pottery/
URL:https://www.history.ucsb.edu/events/public-history-colloquium-event-telling-diverse-stories-the-national-park-service-womens-history-initiative-and-collaboration-in-historic-preservation/
LOCATION:Zoom\, CA
CATEGORIES:Colloquium Event
ATTACH;FMTTYPE=image/jpeg:https://www.history.ucsb.edu/wp-content/uploads/NPS-Public-History-session-June-4-page-001.jpg
END:VEVENT
END:VCALENDAR