BEGIN:VCALENDAR
VERSION:2.0
PRODID:-//Department of History, UC Santa Barbara - ECPv6.15.12.1//NONSGML v1.0//EN
CALSCALE:GREGORIAN
METHOD:PUBLISH
X-WR-CALNAME:Department of History, UC Santa Barbara
X-ORIGINAL-URL:https://www.history.ucsb.edu
X-WR-CALDESC:Events for Department of History, UC Santa Barbara
REFRESH-INTERVAL;VALUE=DURATION:PT1H
X-Robots-Tag:noindex
X-PUBLISHED-TTL:PT1H
BEGIN:VTIMEZONE
TZID:America/Los_Angeles
BEGIN:DAYLIGHT
TZOFFSETFROM:-0800
TZOFFSETTO:-0700
TZNAME:PDT
DTSTART:20240310T100000
END:DAYLIGHT
BEGIN:STANDARD
TZOFFSETFROM:-0700
TZOFFSETTO:-0800
TZNAME:PST
DTSTART:20241103T090000
END:STANDARD
BEGIN:DAYLIGHT
TZOFFSETFROM:-0800
TZOFFSETTO:-0700
TZNAME:PDT
DTSTART:20250309T100000
END:DAYLIGHT
BEGIN:STANDARD
TZOFFSETFROM:-0700
TZOFFSETTO:-0800
TZNAME:PST
DTSTART:20251102T090000
END:STANDARD
BEGIN:DAYLIGHT
TZOFFSETFROM:-0800
TZOFFSETTO:-0700
TZNAME:PDT
DTSTART:20260308T100000
END:DAYLIGHT
BEGIN:STANDARD
TZOFFSETFROM:-0700
TZOFFSETTO:-0800
TZNAME:PST
DTSTART:20261101T090000
END:STANDARD
END:VTIMEZONE
BEGIN:VEVENT
DTSTART;TZID=America/Los_Angeles:20250207T170000
DTEND;TZID=America/Los_Angeles:20250207T183000
DTSTAMP:20260420T132724
CREATED:20250123T205028Z
LAST-MODIFIED:20250131T204015Z
UID:10003010-1738947600-1738953000@www.history.ucsb.edu
SUMMARY:Juan Cobo Betancourt\, "The Coming of the Kingdom: The Muisca\, Catholic Reform\, and Spanish Colonialism in the New Kingdom of Granada
DESCRIPTION:Book Presentation: “The Coming of the Kingdom: The Muisca\, Catholic Reform\, and Spanish Colonialism in the New Kingdom of Granada” \nJuan Cobo Betancourt UC Santa Barbara | Associate Professor of History  \nCommentator: Yanna Yannakakis Emory University | Professor of History \nThe Coming of the Kingdom explores the experiences of the Indigenous Muisca peoples of the New Kingdom of Granada (Colombia) during the first century of Spanish colonial rule. Focusing on colonialism\, religious reform\, law\, language\, and historical writing\, Juan F. Cobo Betancourt examines the introduction and development of Christianity among the Muisca\, who from the 1530s found themselves at the center of the invaders’ efforts to transform them into tribute-paying Catholic subjects of the Spanish crown. The book explores how successive generations of missionaries and administrators approached the task of drawing the Muisca peoples to Catholicism at a time when it was undergoing profound changes\, and how successive generations of the Muisca interacted with the practices and ideas that the invaders attempted to impose\, variously rejecting or adopting them\, transforming and translating them\, and ultimately making them their own.
URL:https://www.history.ucsb.edu/events/juan-cobo-betancourt-the-coming-of-the-kingdom-the-muisca-catholic-reform-and-spanish-colonialism-in-the-new-kingdom-of-granada/
LOCATION:McCune Conference Room (HSSB 6020)\, Humanities and Social Sciences Bldg\, Santa Barbara\, CA\, 93106\, United States
CATEGORIES:Book Talk
ATTACH;FMTTYPE=image/png:https://www.history.ucsb.edu/wp-content/uploads/Screenshot-7-e1738355698725.png
GEO:34.4139682;-119.8503034
X-APPLE-STRUCTURED-LOCATION;VALUE=URI;X-ADDRESS=McCune Conference Room (HSSB 6020) Humanities and Social Sciences Bldg Santa Barbara CA 93106 United States;X-APPLE-RADIUS=500;X-TITLE=Humanities and Social Sciences Bldg:geo:-119.8503034,34.4139682
END:VEVENT
BEGIN:VEVENT
DTSTART;TZID=America/Los_Angeles:20250220T180000
DTEND;TZID=America/Los_Angeles:20250220T190000
DTSTAMP:20260420T132724
CREATED:20250131T203550Z
LAST-MODIFIED:20250220T173202Z
UID:10003013-1740074400-1740078000@www.history.ucsb.edu
SUMMARY:Juan Cobo Betancourt\, "Christianity\, Colonialism\, & the Muisca peoples of the Northern Andes"
DESCRIPTION:Public Lecture: Juan Cobo Betancourt\, “Christianity\, Colonialism\, & the Muisca peoples of the Northern Andes” \nAlhecama Theatre\, 215 E. Canon Perdido Street\, located in El Presidio de Santa Bárbara State Historic Park \nFree and open to the public. RSVP to historyassociates@ia.ucsb.edu \nHow does colonialism work without a strong colonial state? How does religious conversion work without an effective missionary project? How can historians work with an archive full of fictions? Taking the history of the Muisca peoples of the Northern Andes of what is now Colombia\, who from the 1530s found themselves at the centre of efforts by Europeans to transform them into Catholic\, tribute-paying vassals of the Spanish crown\, this talk explores the complex and contradictory ways in which Christianity\, Spanish colonialism\, and Indigenous politics came together to produce a new kind of society to the disappointment of everyone involved. \nJuan Cobo Betancourt is Associate Professor of History and Director\nof the Latin American and Iberian Studies Program and\nCenter for Latin American and Iberian Research at UC Santa\nBarbara. He has written three books on questions of religion\,\nrace\, law\, and language in colonial Latin America.
URL:https://www.history.ucsb.edu/events/juan-cobo-betancourt-christianity-colonialism-the-muisca-peoples-of-the-northern-andes/
LOCATION:Alhecama Theater\, 215 A East Canon Perdido Street\, Santa Barbara\, 93101\, United States
CATEGORIES:Academic Calendar,All Events,Public Lecture
ATTACH;FMTTYPE=image/png:https://www.history.ucsb.edu/wp-content/uploads/Screenshot-7-e1738355698725.png
END:VEVENT
BEGIN:VEVENT
DTSTART;TZID=America/Los_Angeles:20250224T160000
DTEND;TZID=America/Los_Angeles:20250224T173000
DTSTAMP:20260420T132724
CREATED:20250129T220720Z
LAST-MODIFIED:20250131T205049Z
UID:10003011-1740412800-1740418200@www.history.ucsb.edu
SUMMARY:Michael Cooperson (UCLA)\, "Towards a New Arabic Literary History"
DESCRIPTION:Towards a new Arabic literary history \nMichael Cooperson\, Professor of Arabic\, NELC\, UCLA\nWhat did pre-modern authors writing in Arabic have to say about their own literary history? Many things\, as it turns out\, most of them non-linear. In this respect\, their accounts differ from the rise-and-fall story later promulgated by European scholars––a story which has now become the dominant one even in the Arab world. \n \nWhat’s next? One way forward\, I propose\, is to draw on non-linear approaches\, both pre-modern and modern––including\, for example\, the late-nineteenth century notion of Kulturgeschichte as applied to the cultural history of Arabic-speaking societies. A new literary history of Arabic––or at least\, the one I am trying to write––should grant equal weight to all periods and regions; should foreground reception\, especially translation\, as a critical part of the story; and should embrace avowedly pedagogical elements such as commentary\, digression\, and above all\, visual explanation. \nThe talk will include a sneak preview of this work in progress; comments and criticism are welcome! I am also very interested in hearing from participants about the state of literary history in their fields of expertise.
URL:https://www.history.ucsb.edu/events/michael-cooperson-ucla-towards-a-new-arabic-literary-history/
LOCATION:HSSB 4020
CATEGORIES:All Events,Public Lecture
ATTACH;FMTTYPE=image/png:https://www.history.ucsb.edu/wp-content/uploads/Screenshot-8-e1738355892992.png
END:VEVENT
END:VCALENDAR