BEGIN:VCALENDAR
VERSION:2.0
PRODID:-//Department of History, UC Santa Barbara - ECPv6.15.12.1//NONSGML v1.0//EN
CALSCALE:GREGORIAN
METHOD:PUBLISH
X-WR-CALNAME:Department of History, UC Santa Barbara
X-ORIGINAL-URL:https://www.history.ucsb.edu
X-WR-CALDESC:Events for Department of History, UC Santa Barbara
REFRESH-INTERVAL;VALUE=DURATION:PT1H
X-Robots-Tag:noindex
X-PUBLISHED-TTL:PT1H
BEGIN:VTIMEZONE
TZID:America/Los_Angeles
BEGIN:DAYLIGHT
TZOFFSETFROM:-0800
TZOFFSETTO:-0700
TZNAME:PDT
DTSTART:20190310T100000
END:DAYLIGHT
BEGIN:STANDARD
TZOFFSETFROM:-0700
TZOFFSETTO:-0800
TZNAME:PST
DTSTART:20191103T090000
END:STANDARD
BEGIN:DAYLIGHT
TZOFFSETFROM:-0800
TZOFFSETTO:-0700
TZNAME:PDT
DTSTART:20200308T100000
END:DAYLIGHT
BEGIN:STANDARD
TZOFFSETFROM:-0700
TZOFFSETTO:-0800
TZNAME:PST
DTSTART:20201101T090000
END:STANDARD
BEGIN:DAYLIGHT
TZOFFSETFROM:-0800
TZOFFSETTO:-0700
TZNAME:PDT
DTSTART:20210314T100000
END:DAYLIGHT
BEGIN:STANDARD
TZOFFSETFROM:-0700
TZOFFSETTO:-0800
TZNAME:PST
DTSTART:20211107T090000
END:STANDARD
BEGIN:DAYLIGHT
TZOFFSETFROM:-0800
TZOFFSETTO:-0700
TZNAME:PDT
DTSTART:20220313T100000
END:DAYLIGHT
BEGIN:STANDARD
TZOFFSETFROM:-0700
TZOFFSETTO:-0800
TZNAME:PST
DTSTART:20221106T090000
END:STANDARD
BEGIN:DAYLIGHT
TZOFFSETFROM:-0800
TZOFFSETTO:-0700
TZNAME:PDT
DTSTART:20230312T100000
END:DAYLIGHT
BEGIN:STANDARD
TZOFFSETFROM:-0700
TZOFFSETTO:-0800
TZNAME:PST
DTSTART:20231105T090000
END:STANDARD
END:VTIMEZONE
BEGIN:VEVENT
DTSTART;TZID=America/Los_Angeles:20200221T130000
DTEND;TZID=America/Los_Angeles:20200221T150000
DTSTAMP:20260420T010011
CREATED:20200218T070347Z
LAST-MODIFIED:20200218T070347Z
UID:10002819-1582290000-1582297200@www.history.ucsb.edu
SUMMARY:Grace Peña Delgado\, "Mexico's New Slavery: A Critique of Neo-Abolitionism to Combat Human Trafficking"
DESCRIPTION:As part of the The Center for the Study of Work\, Labor\, and Democracy‘s Winter Quarter speaker series\, Grace Peña Delgado (History\, UC Santa Cruz) will present “Mexico’s New Slavery: A Critique of Neo-Abolitionism to Combat Human Trafficking.” Delgado is the author of Making the Chinese American: Global Migration\, Localism\, and Exclusion in the U.S.-Mexico Borderlands (2012) and co-author of Latino Immigrants in the United States (2011). Delgado participates in the Arts and Humanities Research Council’s Project on Trafficking\, Smuggling\, and Illicit Migration in Historical and Gendered Perspective. She is also a collaborator with Yale University’s Gilder Lehrman Center for the Study of Slavery\, Resistance\, and Abolition working group on modern day slavery. \nContact Nelson Lichtenstein for a copy of Professor Delgado’s papger. \nClick here to download the flyer for this event.
URL:https://www.history.ucsb.edu/events/grace-pena-delgado-mexicos-new-slavery-a-critique-of-neo-abolitionism-to-combat-human-trafficking/
LOCATION:HSSB 4041\, University of California Santa Barbara\, Santa Barbara\, CA\, 93106\, United States
CATEGORIES:Public Lecture
ATTACH;FMTTYPE=application/pdf:https://www.history.ucsb.edu/wp-content/uploads/Delgado-Flyer.pdf
GEO:34.4142953;-119.8474491
X-APPLE-STRUCTURED-LOCATION;VALUE=URI;X-ADDRESS=HSSB 4041 University of California Santa Barbara Santa Barbara CA 93106 United States;X-APPLE-RADIUS=500;X-TITLE=University of California Santa Barbara:geo:-119.8474491,34.4142953
END:VEVENT
BEGIN:VEVENT
DTSTART;TZID=America/Los_Angeles:20200627T160000
DTEND;TZID=America/Los_Angeles:20200627T173000
DTSTAMP:20260420T010011
CREATED:20200219T052158Z
LAST-MODIFIED:20200624T032613Z
UID:10002820-1593273600-1593279000@www.history.ucsb.edu
SUMMARY:Van Gelderen Graduate Student Lecture: Sergey Saluschev\, "Reluctant Abolitionists: Slavery\, the Slave Trade and Abolition in the 19th-Century Caucasus"
DESCRIPTION:History Associates presents the seventh annual Van Gelderen Graduate Student Lecture\, this year given by Sergey Saluschev. He will present on his dissertation topic\, “Reluctant Abolitionists: Slavery\, the Slave Trade and Abolition in the 19th-Century Caucasus.” \nThis talk will focus on the slave trade in the Russian-ruled Caucasus between 1801 and 1917 and draws upon such primary sources as letters\, petitions\, slave sale deeds\, and official correspondence. Although the tsarist state sought–at least rhetorically–to stamp out slavery in the empire’s peripheral regions\, it paradoxically upheld serfdom. The Caucasus nevertheless remained a crucial hub for slave markets serving the Middle East. The speaker will describe the geographic scope of the trade\, its variegated institutions\, and the attempts by Russian imperial authorities to reform it. He will present previously unknown stories of a number of individual slaves which reveal hidden and often poignant dimensions of slavery in the region. His conclusion demonstrates how the legacies of slavery in the Caucasus left a clearly legible mark on the political discourse about the future of slavery in the United States and on the American popular entertainment industry. \nThis year’s Van Gelderen Lecture will take place as a Zoom webinar. Join us for this exciting event at https://ucsb.zoom.us/j/97047834257.
URL:https://www.history.ucsb.edu/events/van-gelderen-graduate-student-lecture-sergey-saluschev-reluctant-abolitionists-slavery-the-slave-trade-and-abolition-in-the-19th-century-caucasus/
LOCATION:CA\, United States
CATEGORIES:History Associates
ATTACH;FMTTYPE=image/jpeg:https://www.history.ucsb.edu/wp-content/uploads/Saluschev-HA-Poster-Post-Covid-page-001-scaled.jpg
END:VEVENT
BEGIN:VEVENT
DTSTART;TZID=America/Los_Angeles:20201008T160000
DTEND;TZID=America/Los_Angeles:20201008T170000
DTSTAMP:20260420T010011
CREATED:20200914T201512Z
LAST-MODIFIED:20200914T201603Z
UID:10002834-1602172800-1602176400@www.history.ucsb.edu
SUMMARY:John Majewski\, Living Democracy in Capitalism's Shadow: Creative Labor\, Black Abolitionists\, and the Struggle to End Slavery
DESCRIPTION:REGISTER NOW \n\nFree to attend; registration required to receive Zoom webinar attendance link \nIn the two decades before the Civil War\, a new type of capitalism developed in the northern United States that stressed mass education\, widespread innovation\, and new markets for art and design. For Black abolitionists\, the changing northern economy presented new opportunities to highlight the evils of slavery. While continuing to attack slavery’s physical cruelty\, Black abolitionists in the 1840s and 1850s increasingly highlighted the “mental darkness” of slavery\, focusing on the systematic denial of literacy\, learning\, and creativity. Through their own creative labor\, Black abolitionists made a compelling case for racial equality. The fate of Black creative labor after the Civil War\, though\, demonstrated the limits of using creativity as a way of obtaining citizenship\, and raises important questions about how we in the 21st century “live democracy” in a society that valorizes creativity amidst growing inequality and systemic racism. Audience Q&A will follow. \nJohn Majewski is the Michael Douglas Dean of Humanities and Fine Arts and Professor in the Department of History. His areas of specialization include American economic\, social\, and legal history; Southern history; and the U.S. Civil War. He is the author of A House Dividing: Economic Development in Pennsylvania and Virginia Before the Civil War (Cambridge University Press\, 2000)\, Modernizing a Slave Economy: The Economic Imagination of the Confederate Nation (UNC Press\, 2009)\, and numerous articles\, reviews\, and book chapters. \nSponsored by the IHC’s Living Democracy series \nREGISTER NOW. ASL and Spanish interpretation will be available. To view ASL interpretation\, please attend the webinar on a desktop computer.
URL:https://www.history.ucsb.edu/events/john-majewski-living-democracy-in-capitalisms-shadow-creative-labor-black-abolitionists-and-the-struggle-to-end-slavery/
LOCATION:Zoom\, CA
CATEGORIES:Public Lecture
ATTACH;FMTTYPE=image/jpeg:https://www.history.ucsb.edu/wp-content/uploads/Majewski_Event-1.jpg
ORGANIZER;CN="IHC":MAILTO:events@ihc.ucsb.edu
END:VEVENT
BEGIN:VEVENT
DTSTART;TZID=America/Los_Angeles:20210205T120000
DTEND;TZID=America/Los_Angeles:20210205T133000
DTSTAMP:20260420T010011
CREATED:20210111T044047Z
LAST-MODIFIED:20230402T203947Z
UID:10002847-1612526400-1612531800@www.history.ucsb.edu
SUMMARY:Public History Colloquium Event–”Reinterpreting Slavery and the Emotional Labor of History”
DESCRIPTION:Join the History Department’s Colloquium in Public History on Friday\, February 5 at noon for a Zoom talk by Professor Hilary N. Green (University of Alabama). \nProfessor Green reflects on the powerful legacy of Jim Crow era efforts to erase the history of slavery from the landscape of her workplace\, the University of Alabama\, and shares a project she pursued to rewrite this historical narrative. She researched\, designed and implemented a campus tour to tell the actual history of slavery and enslaved workers in the University’s past. She collected oral tradition and pursued deep archival research\, to historicize “the experiences\, activism and collective memories of African American men\, women and children\,” and describes her efforts to get the campus community to rethink its understanding of the past\, even as an untenured member of the faculty. Her project exposed the racist structures undergirding the University Archives; it highlights the tenacity of older narratives and exposes some of the physical and psychological burdens of this sort of historical recuperation for the practitioner. All this unfolded in the larger social struggle over historical monuments and commemoration in recent months. As Green writes\, “when exploring the racial history of one’s employer\, the Jim Crow era archival project of white supremacy is no longer an abstract concept read about only in scholarship.” \nRegister for this Zoom event at https://ucsb.zoom.us/webinar/register/WN_yzLVlQ62QNGv7sZz1DenDA. \nTo download the flyer for this event\, click here. \nRecommended reading: \n• Hilary Green\, “The Hallowed Ground Tour: Revising and Reimagining Landscapes of Slavery at the University of Alabama\,” in-progress seminar paper.  \n• Hilary Green\, “The Burden of the University of Alabama’s Hallowed Grounds\,” The Public Historian 42: 4 (November 2020): 28-40.
URL:https://www.history.ucsb.edu/events/public-history-colloquium-event-reinterpreting-slavery-and-the-emotional-labor-of-history/
LOCATION:Zoom\, CA
CATEGORIES:Colloquium Event
ATTACH;FMTTYPE=image/png:https://www.history.ucsb.edu/wp-content/uploads/Green-Little-Round-House.png
END:VEVENT
BEGIN:VEVENT
DTSTART;TZID=America/Los_Angeles:20210219T130000
DTEND;TZID=America/Los_Angeles:20210219T130000
DTSTAMP:20260420T010011
CREATED:20210209T045049Z
LAST-MODIFIED:20230402T203958Z
UID:10002854-1613739600-1613739600@www.history.ucsb.edu
SUMMARY:FOCAL POINT Dialogues in History Webinar I: Sovereignty and the Political
DESCRIPTION:The History Department’s Colloquium Committee warmly invites you to attend the inaugural session of our FOCAL POINT Dialogues in History series.  Inspired by the History Department’s Statement on the George Floyd Uprising and its invocation to understand and interrogate our racialized past and the investments of disciplinary history within it\, the series brings together UCSB History faculty and graduate students who have volunteered to lead a dialogue on Black life\, race\, and antiblackness in history. The conversations will engage Herman Bennett’s African Kings and Black Slaves as a focal point to discuss themes like sovereignty\, empire\, and racial capitalism from different historical angles of vision. \nOur inaugural webinar will engage Prof. Herman Bennett’s emphasis on sovereignty and the importance of the political in understanding the history of race in the world. Registration for the webinar is required. Please click on the link below to register. \nDate: 19th February 2021 \nTime: 1:00 PM \nWebinar I: Sovereignty and the Political \nZoom registration: Please register in advance for this webinar using the link below.\nhttps://ucsb.zoom.us/webinar/register/WN_31FRU_q0QYiZ46ABcHCvkw \nFeaturing presentations by Juan Cobo Betancourt\, Elizabeth Digeser\, Adam Sabra and Sergey Saluschev.  \nComment by Hilary Bernstein. \n\n  \nJuan Cobo Betancourt is a historian of race\, language\, religion\, and law in colonial Latin America\, co-founder of Neogranadina\, and the author of Mestizos Heraldos de Dios (2012). \nElizabeth Digeser is a historian of religion\, philosophy\, Roman politics\, and conversion in Late Antiquity\, and the author of A Threat to Public Piety: Christians\, Platonists\, and the Great Persecution (2012). \nAdam Sabra is a historian of poverty\, charity\, aristocracy\, and Islam in medieval and early modern Egypt\, and the author of Poverty and Charity in Medieval Islam: Mamluk Egypt 1250-1517 (2000). \nSergey Salushchev is a historian of slavery and abolition in the nineteenth century Caucasus under Russian imperialism. His dissertation analyzes the region as a permanent borderland\, a site of cultural exchanges\, translational commercial networks\, contested memory\, and imperial rivalries. \nHilary Bernstein is a historian of urban culture and history in early modern France\, and the author of Historical Communities: Cities\, Erudition\, and National Identity in Early Modern France (2020).
URL:https://www.history.ucsb.edu/events/focal-point-dialogues-in-history-webinar-i-sovereignty-and-the-political/
LOCATION:Zoom\, CA
CATEGORIES:Colloquium Event
ATTACH;FMTTYPE=image/jpeg:https://www.history.ucsb.edu/wp-content/uploads/Webinar-I_Sovereignty-and-the-Political.jpg
END:VEVENT
BEGIN:VEVENT
DTSTART;TZID=America/Los_Angeles:20210312T130000
DTEND;TZID=America/Los_Angeles:20210312T130000
DTSTAMP:20260420T010011
CREATED:20210305T062717Z
LAST-MODIFIED:20230402T204018Z
UID:10002863-1615554000-1615554000@www.history.ucsb.edu
SUMMARY:FOCAL POINT Dialogues in History Webinar II: Empire and Liberation
DESCRIPTION:Building on the collective knowledge shared in our first webinar\, the History Department’s Colloquium Committee warmly invites you to attend the second session of our FOCAL POINT Dialogues in History series.  Inspired by the History Department’s Statement on the George Floyd Uprising and its invocation to understand and interrogate our racialized past and the investments of disciplinary history within it\, the series brings together UCSB History faculty and graduate students who have volunteered to lead a dialogue on Black life\, race\, and antiblackness in history. The conversations will engage Herman Bennett’s African Kings and Black Slaves\, as a focal point to discuss themes like sovereignty\, empire\, and racial capitalism from different historical angles of vision. \nOur second webinar will engage Prof. Herman Bennett’s emphasis on empire and colonialism in understanding Atlantic history and the politics of liberation from a wide diversity of scholarly standpoints. Registration for the webinar is required. Please click on the link below to register. \nDate: Mar 12\, 2021 \nTime: 1:00 PM Pacific Time (US and Canada) \nWebinar II: Empire and Liberation \nZoom registration: Please register in advance for this webinar using the link below. \nhttps://ucsb.zoom.us/webinar/register/WN_kI2R6miRRO2blZUh_62shQ \nFeaturing presentations by Anthony Greco\, Katie Moore\, Stephan Miescher\, and Ya Zuo \nComment by Evelyne Laurent-Perrault \n\nAnthony Greco is a historian of engineering and technology\, colonialism\, and science in the modern Middle East. His dissertation research examines Egypt’s long tradition of scientific knowledge and pedagogy. Before this\, he worked as a diesel mechanic\, plumber\, and carpenter which inspired his interest in builders and maintainers of public works. \nKatie Moore is a historian of early American political economy\, money\, debt\, and the Atlantic World\, and the author of the forthcoming A Revolutionary Currency. \nStephan Miescher is a historian of nineteenth and twentieth century Ghana\, masculinities\, and environmental history\, and the author of Making Men in Ghana (2005) and coeditor of Gender\, Imperialism\, and Global Exchanges (2015). \nYa Zuo is a historian of middle and late imperial China\, epistemology\, political philosophy\, ethics\, and emotions\, and the author of Shen Gua’s Empiricism (2018). \nEvelyne Laurent-Perrault is a historian of the African diaspora in colonial Latin America and the Caribbean\, the political imagination of enslaved women\, and the author of the forthcoming Claims of Dignity. 
URL:https://www.history.ucsb.edu/events/focal-point-dialogues-in-history-webinar-ii-empire-and-liberation/
LOCATION:Zoom\, CA
CATEGORIES:Colloquium Event
ATTACH;FMTTYPE=image/jpeg:https://www.history.ucsb.edu/wp-content/uploads/Webinar-II_Empire-and-Liberation.jpg
END:VEVENT
BEGIN:VEVENT
DTSTART;TZID=America/Los_Angeles:20210416T130000
DTEND;TZID=America/Los_Angeles:20210416T130000
DTSTAMP:20260420T010011
CREATED:20210408T215235Z
LAST-MODIFIED:20230402T204058Z
UID:10002868-1618578000-1618578000@www.history.ucsb.edu
SUMMARY:FOCAL POINT Dialogues in History Webinar III: Racial Capitalism and Liberalism
DESCRIPTION:Building on the collective knowledge shared in the two previous webinars\, the History Department’s Colloquium Committee warmly invites you to attend the third and final session of our FOCAL POINT Dialogues in History series.  Inspired by the History Department’s Statement on the George Floyd Uprising and its invocation to understand and interrogate our racialized past and the investments of disciplinary history within it\, the series brings together UCSB History faculty and graduate students who have volunteered to lead a dialogue on Black life\, race\, and antiblackness in history. The final webinar will engage Herman Bennett’s African Kings and Black Slaves\, as a focal point to discuss themes like racial capitalism and liberalism from different historical angles of vision. \nOur final webinar will transition into a Zoom meeting room format. Registration for the Zoom meeting is required. Please click on the link below to register\, after which you will receive a passcode and meeting link. You will need the passcode to enter the meeting. \nDate: April 16\, 2021 \nTime: 1:00 PM Pacific Time (US and Canada) \nWebinar III: Racial Capitalism and Liberalism \nZoom registration: Please register in advance for this webinar using the link below. \nhttps://ucsb.zoom.us/meeting/register/tZcud-yvrj4iE9O-rnuoC1Vo4oW2d61R6HzW \nFeaturing presentations by Alice O’Connor\, Manuel Covo\, Mattie Webb\, and Sherene Seikaly \nComment by Mhoze Chikowero \n\nAlice O’Connor is a historian of poverty\, capitalism\, inequality\, social science\, and public policy in the U.S. and the author of Poverty Knowledge (2001) and Social Science for What? (2007). \nManuel Covo is a historian of French imperialism\, the Atlantic World\, and the Haitian Revolution and the author of the forthcoming The Entrepot of Atlantic Revolutions. \nMattie Webb is a historian of U.S. foreign policy\, African History\, and comparative race and ethnicity. Mattie’s archival and oral-historical research combines social and diplomatic history to study the impact and awareness of the Sullivan Principles in South Africa during the apartheid era.  \nSherene Seikaly is a historian of political economy\, capitalism\, development\, race\, and dispossession in the modern Middle East and the author of Men of Capital (2016) and co-editor of A Critical Political Economy of the Middle East and North Africa (2021). \nMhoze Chikowero is a historian of music\, colonialism\, technology\, and urban space in Zimbabwe and southern Africa and the author of African Music\, Power\, and Being in Colonial Zimbabwe (2015).
URL:https://www.history.ucsb.edu/events/focal-point-dialogues-in-history-webinar-iii-racial-capitalism-and-liberalism/
LOCATION:Zoom\, CA
CATEGORIES:Colloquium Event
ATTACH;FMTTYPE=image/jpeg:https://www.history.ucsb.edu/wp-content/uploads/Webinar-III_Racial-Capitalism-and-Liberalism.jpg
END:VEVENT
BEGIN:VEVENT
DTSTART;TZID=America/Los_Angeles:20210420T160000
DTEND;TZID=America/Los_Angeles:20210420T160000
DTSTAMP:20260420T010011
CREATED:20210418T044525Z
LAST-MODIFIED:20230203T154742Z
UID:10002870-1618934400-1618934400@www.history.ucsb.edu
SUMMARY:ISRRAR Event–Dr. Vincent Brown\, "Tacky's Revolt: The Story of an Atlantic Slave War"
DESCRIPTION:Warfare migrates. This has never been more apparent than in the era when the violence of imperial expansion and enslavement transformed Europe\, Africa\, and the Americas\, as they interacted across the Atlantic Ocean. European imperial conflicts extended the dominion of capitalist agriculture. African battles fed captives to the transatlantic trade in slaves. Masters and their human property struggled with one another continuously. These clashes amounted to a borderless slave war: war to enslave\, war to expand slavery\, and war against slaves\, precipitating wars waged by the enslaved against slaveholders. In this sense\, Dr. Vincent Brown argues\, Tacky’s revolt was but a war within other wars\, which had diverging and overlapping provocations\, combat zones\, political alliances\, and enemy combatants. \nJoin this Zoom event at tinyurl.com/isrrarTalk \nThis event is part of the ISRRAR Spring Quarter series.
URL:https://www.history.ucsb.edu/events/isrrar-event-dr-vincent-brown-tackys-revolt-the-story-of-an-atlantic-slave-war/
LOCATION:Zoom\, CA
CATEGORIES:Colloquium Event,Graduate Program
ATTACH;FMTTYPE=image/png:https://www.history.ucsb.edu/wp-content/uploads/ISRRAR-Brown.png
END:VEVENT
BEGIN:VEVENT
DTSTART;TZID=America/Los_Angeles:20210521T130000
DTEND;TZID=America/Los_Angeles:20210521T130000
DTSTAMP:20260420T010011
CREATED:20210513T040752Z
LAST-MODIFIED:20230402T203916Z
UID:10002356-1621602000-1621602000@www.history.ucsb.edu
SUMMARY:FOCAL POINT Dialogues in History Keynote Lecture with Prof. Herman Bennett: "Body\, Soul & Subject: A History of Difference in the Early-Modern African Atlantic"
DESCRIPTION:The History Department’s Colloquium Committee warmly invites you to attend the keynote lecture of our FOCAL POINT Dialogues in History series. The lecture\, “Body\, Soul & Subject: A History of Difference in the Early-Modern African Atlantic\,” will be delivered by Prof. Herman L. Bennett. \nHerman L. Bennett is Professor at the Graduate Center at the City University of New York. A scholar of Latin American history and the African Diaspora\, Prof. Bennett’s previous books include Africans in Colonial Mexico: Absolutism\, Christianity\, and Afro-Creole Consciousness (2003)\, Colonial Blackness: A History of Afro-Mexico (2009)\, and the forthcoming The African Diaspora: A Very Short Introduction. His notable essays include “The Subject in the Plot: National Boundaries and the ‘History’ of the Black Atlantic\,” in African Studies Review (2000) and “Writing into a Void: Slavery\, History\, and Representing Blackness in Latin America” in Social Text (2007). He has been the recipient of fellowships from the National Endowment for Humanities\, the Andrew W. Mellon Foundation\, the Institute for Advanced Study at Princeton University\, and the American Council of Learned Societies. The American Historical Association recognized his mentorship of racially and ethnically underrepresented students in the historical discipline through the AHA Equity Award in 2012. Prof. Bennett has served on the editorial boards of the Hispanic American Historical Review\, Social Text\, The Americas\, the Blacks in the Diaspora series at Indiana University Press\, and the American Historical Review. \nProf. Bennett’s most recent book\, African Kings and Black Slaves: Sovereignty and Dispossession in the Early Modern Atlantic (2018) invites our attention to politics of sovereignty\, enslavement\, and power in the earliest Iberian and African interactions as a point of inquiry to critically rethink the ways in which liberalism has subsequently shaped analyses of culture\, economy\, and history. \nThe inaugural FOCAL POINT Dialogues in History series is inspired by the UCSB History Department’s Statement on the George Floyd Uprising and its invocation to understand and interrogate our racialized past and the investments of disciplinary history within it. Following three webinars led by History Department faculty and graduate students on topics like sovereignty\, the political\, liberation\, racial capitalism\, liberalism\, and empire\, from their own scholarly angles of vision\, the keynote lecture brings the series to a close and invites more conversations to be continued in the future. \nThe keynote lecture will use the Zoom webinar format. Prior registration is required. \nDate: Friday 21 May\, 2021 \nTime: 1:00 PM Pacific Time (US and Canada) \nKeynote Lecture: “Body\, Soul & Subject: A History of Difference in the Early-Modern African Atlantic” \nZoom registration: Please register in advance for this webinar using the link below: \nhttps://ucsb.zoom.us/webinar/register/WN_RbHCtjyoS8S-l6vbTiFEzw
URL:https://www.history.ucsb.edu/events/focal-point-dialogues-in-history-keynote-lecture-with-prof-herman-bennett-body-soul-subject-a-history-of-difference-in-the-early-modern-african-atlantic/
LOCATION:Zoom\, CA
CATEGORIES:Colloquium Event
ATTACH;FMTTYPE=image/jpeg:https://www.history.ucsb.edu/wp-content/uploads/Bennett-Keynote-Lecture-final.jpg
END:VEVENT
BEGIN:VEVENT
DTSTART;TZID=America/Los_Angeles:20220306T140000
DTEND;TZID=America/Los_Angeles:20220306T150000
DTSTAMP:20260420T010011
CREATED:20211015T210317Z
LAST-MODIFIED:20221101T185809Z
UID:10002886-1646575200-1646578800@www.history.ucsb.edu
SUMMARY:History Associates Talk: Giulianna Perrone | Back into the Days of Slavery: Abolition and the Free Black Family
DESCRIPTION:SUNDAY MARCH 6\, 2022 at 2:00 PM PST \nEast Side Library\n1102 E Montecito Street Santa Barbara\, CA 93103 \n\n\nThis event will be presented in-person and live-streamed via zoom. Click here to register and receive the zoom link. \nYou do not need to register if attending in-person.
URL:https://www.history.ucsb.edu/events/history-associates-talk-giulianna-perrone-on-why-us-slavery-and-abolition-still-matter/
LOCATION:East Side Library\, Montecito Street\, East Side Library\, 1102 E Montecito Street\, Santa Barbara\, CA\, 93103\, United States
CATEGORIES:History Associates,Public Lecture
END:VEVENT
END:VCALENDAR