BEGIN:VCALENDAR
VERSION:2.0
PRODID:-//Department of History, UC Santa Barbara - ECPv6.15.12.1//NONSGML v1.0//EN
CALSCALE:GREGORIAN
METHOD:PUBLISH
X-WR-CALNAME:Department of History, UC Santa Barbara
X-ORIGINAL-URL:https://www.history.ucsb.edu
X-WR-CALDESC:Events for Department of History, UC Santa Barbara
REFRESH-INTERVAL;VALUE=DURATION:PT1H
X-Robots-Tag:noindex
X-PUBLISHED-TTL:PT1H
BEGIN:VTIMEZONE
TZID:America/Los_Angeles
BEGIN:DAYLIGHT
TZOFFSETFROM:-0800
TZOFFSETTO:-0700
TZNAME:PDT
DTSTART:20190310T100000
END:DAYLIGHT
BEGIN:STANDARD
TZOFFSETFROM:-0700
TZOFFSETTO:-0800
TZNAME:PST
DTSTART:20191103T090000
END:STANDARD
BEGIN:DAYLIGHT
TZOFFSETFROM:-0800
TZOFFSETTO:-0700
TZNAME:PDT
DTSTART:20200308T100000
END:DAYLIGHT
BEGIN:STANDARD
TZOFFSETFROM:-0700
TZOFFSETTO:-0800
TZNAME:PST
DTSTART:20201101T090000
END:STANDARD
BEGIN:DAYLIGHT
TZOFFSETFROM:-0800
TZOFFSETTO:-0700
TZNAME:PDT
DTSTART:20210314T100000
END:DAYLIGHT
BEGIN:STANDARD
TZOFFSETFROM:-0700
TZOFFSETTO:-0800
TZNAME:PST
DTSTART:20211107T090000
END:STANDARD
BEGIN:DAYLIGHT
TZOFFSETFROM:-0800
TZOFFSETTO:-0700
TZNAME:PDT
DTSTART:20220313T100000
END:DAYLIGHT
BEGIN:STANDARD
TZOFFSETFROM:-0700
TZOFFSETTO:-0800
TZNAME:PST
DTSTART:20221106T090000
END:STANDARD
END:VTIMEZONE
BEGIN:VEVENT
DTSTART;TZID=America/Los_Angeles:20200922T130000
DTEND;TZID=America/Los_Angeles:20200922T130000
DTSTAMP:20260419T082516
CREATED:20200918T182700Z
LAST-MODIFIED:20200918T182700Z
UID:10002835-1600779600-1600779600@www.history.ucsb.edu
SUMMARY:Stuart Tyson Smith\, "Black Pharaohs? Egyptological Bias\, Racism\, and Egypt and Nubia as African Civilizations"
DESCRIPTION:Harvard University’s Hutchins Center for African & African American Research welcomes UCSB Professor of Anthropology (and History Department affiliate faculty member) Stuart Tyson Smith to the W.E.B. Du Bois Virtual Lecture Series. On Tuesday\, September 22 Professor Smith will present his Zoom lecture “Black Pharaohs? Egyptological Bias\, Racism\, and Egypt and Nubia as African Civilizations.” Register in advance for this free event here. Please note that the lecture begins at 4:00 Eastern/1:00 Pacific time. \nProfessor Smith’s research centers on the civilizations of ancient Egypt and Nubia with a theoretical focus on the social and ethnic dynamics of colonial encounters and the origins of the Napatan Kushite state\, whose rulers became Pharaohs of Egypt’s 25th Dynasty. He has published on the dynamics of Egyptian imperialism and royal ideology\, the use of sealings in administration\, death and burial in ancient Egypt and Nubia\, and the ethnic\, social and economic dynamics of intercultural interaction between ancient Egypt and Nubia.  He has also participated in and led archaeological expeditions to Egypt and since 1997 to Sudanese Nubia\, where he co-directs the UCSB-Purdue University Tombos expedition to the third cataract of the Nile. This research has been funded by multiple grants from the National Geographic Society and the National Science Foundation. In addition to fieldwork\, he is also engaged in a long-term study and write-up of the UCLA excavations conducted by the late Alexander Badawy at the fortress of Askut in Sudanese Nubia. In a new line of research\, Smith applies a postcolonial approach to modern scholarly and popular views of ancient Egypt as not truly African and Nubia as its subordinate\, confronting the intersection between racism and longstanding academic and political bias. In addition to numerous articles and book chapters\, Dr. Smith has published three books\, Askut in Nubia: The Economics and Ideology of Egyptian Imperialism in the Second Millennium BC\, Valley of the Kings (for children)\, and Wretched Kush: Ethnic Identities and Boundaries in Egypt’s Nubian Empire. In 1993\, he took a break from academia as Egyptological Consultant for the hit MGM movie Stargate\, commenting on the script and recreating spoken ancient Egyptian for the film. He returned to Hollywood consulting in 1998 and 2000 for the Universal remake of The Mummy and its sequel\, The Mummy Returns\, and most recently for 2018’s web production Stargate Origins: Catherine. Professor Smith holds a Ph.D. in Archaeology from the University of California\, Los Angeles.
URL:https://www.history.ucsb.edu/events/stuart-tyson-smith-black-pharaohs-egyptological-bias-racism-and-egypt-and-nubia-as-african-civilizations/
LOCATION:Zoom\, CA
CATEGORIES:Public Lecture
ATTACH;FMTTYPE=image/jpeg:https://www.history.ucsb.edu/wp-content/uploads/Smith-Black-Pharaohs.jpg
END:VEVENT
BEGIN:VEVENT
DTSTART;TZID=America/Los_Angeles:20210113T113000
DTEND;TZID=America/Los_Angeles:20210113T113000
DTSTAMP:20260419T082516
CREATED:20210109T001811Z
LAST-MODIFIED:20250127T170033Z
UID:10002331-1610537400-1610537400@www.history.ucsb.edu
SUMMARY:Job Talk: Taylor M. Moore's "Amulet Tales: Political and Spiritual Economies of Healing in Egypt"
DESCRIPTION:The History Department invites all to a job talk by Dr. Taylor M. Moore on January 13\, 2021. \nDr. Moore is a University of California President’s Postdoctoral Fellow in the History Department at UC Santa Barbara. Her research lies at the intersections of critical race studies\, decolonial/postcolonial histories of science\, and decolonial materiality studies with a geographical focus on Egypt and the late Ottoman world. Her manuscript-in-preparation\, Superstitious Women: Race\, Magic\, and Medicine in Egypt\, uses modern Egyptian amulets as an archive to reconstruct the magical and vernacular medical life-worlds of peasant women healers\, and their critical role developing medico-anthropological expertise in Egypt from 1875-1950. \nUpper Egyptian and Black African women healers\, and the amulets they wielded\, shaped robust spiritual and political economies of healing in Egypt’s long nineteenth century. Known as “old wives\,” these women stood at the center of a contest over power\, expertise and scientific authority. Despite repeated and overlapping imperial\, colonial\, and nationalist efforts by government officials and doctors to discredit their knowledge\, wise women controlled a widespread market in occult objects and services that were crucial to everyday life. By the 1920s\, the production of occult knowledge became intimately entangled with the internationalization of the social sciences. Egyptologists and anthropologists designated women healers and their magico-medical practice as\n“survivals” of ancient Egypt. As such\, these women were both objects of scientific inquiry and critical producers of medical and anthropological knowledge. \nDr. Moore’s job talk will take place on Zoom at this link. To download the flyer for this event\, click here.
URL:https://www.history.ucsb.edu/events/job-talk-taylor-m-moores-amulet-tales-political-and-spiritual-economies-of-healing-in-egypt/
LOCATION:Zoom\, CA
CATEGORIES:Job Talk
ATTACH;FMTTYPE=image/jpeg:https://www.history.ucsb.edu/wp-content/uploads/Moore-Job-Talk-Flyer-scaled.jpg
END:VEVENT
END:VCALENDAR