BEGIN:VCALENDAR
VERSION:2.0
PRODID:-//Department of History, UC Santa Barbara - ECPv6.15.12.1//NONSGML v1.0//EN
CALSCALE:GREGORIAN
METHOD:PUBLISH
X-ORIGINAL-URL:https://www.history.ucsb.edu
X-WR-CALDESC:Events for Department of History, UC Santa Barbara
REFRESH-INTERVAL;VALUE=DURATION:PT1H
X-Robots-Tag:noindex
X-PUBLISHED-TTL:PT1H
BEGIN:VTIMEZONE
TZID:America/Los_Angeles
BEGIN:DAYLIGHT
TZOFFSETFROM:-0800
TZOFFSETTO:-0700
TZNAME:PDT
DTSTART:20180311T100000
END:DAYLIGHT
BEGIN:STANDARD
TZOFFSETFROM:-0700
TZOFFSETTO:-0800
TZNAME:PST
DTSTART:20181104T090000
END:STANDARD
BEGIN:DAYLIGHT
TZOFFSETFROM:-0800
TZOFFSETTO:-0700
TZNAME:PDT
DTSTART:20190310T100000
END:DAYLIGHT
BEGIN:STANDARD
TZOFFSETFROM:-0700
TZOFFSETTO:-0800
TZNAME:PST
DTSTART:20191103T090000
END:STANDARD
BEGIN:DAYLIGHT
TZOFFSETFROM:-0800
TZOFFSETTO:-0700
TZNAME:PDT
DTSTART:20200308T100000
END:DAYLIGHT
BEGIN:STANDARD
TZOFFSETFROM:-0700
TZOFFSETTO:-0800
TZNAME:PST
DTSTART:20201101T090000
END:STANDARD
END:VTIMEZONE
BEGIN:VEVENT
DTSTART;TZID=America/Los_Angeles:20190404T190000
DTEND;TZID=America/Los_Angeles:20190404T210000
DTSTAMP:20260420T093127
CREATED:20190205T233739Z
LAST-MODIFIED:20190205T233928Z
UID:10002590-1554404400-1554411600@www.history.ucsb.edu
SUMMARY:History Club Weekly Meetings
DESCRIPTION:UCSB’s new and improved History Departmental club is for majors\, minors\, and anyone with a passion for the past! Meetings are held every Thursday at 7:00 PM in HSSB 4020. See flier below for information about upcoming events. Please email histclub.ucsb@gmail.com with any questions. 
URL:https://www.history.ucsb.edu/events/history-club-weekly-meetings/2019-04-04/
LOCATION:HSSB 4020
END:VEVENT
BEGIN:VEVENT
DTSTART;TZID=America/Los_Angeles:20190410T140000
DTEND;TZID=America/Los_Angeles:20190410T160000
DTSTAMP:20260420T093127
CREATED:20190411T022605Z
LAST-MODIFIED:20190411T022605Z
UID:10002781-1554904800-1554912000@www.history.ucsb.edu
SUMMARY:Career Diversity Event: Anne Petersen and Monica Orozco speak
DESCRIPTION:Anne Petersen\, executive director of the Santa Barbara Trust for Historic Preservation\, and Monica Orozco\, executive director at Mission Santa Barbara\, will come and speak about their experiences working at top California historic sites.
URL:https://www.history.ucsb.edu/events/career-diversity-event-anne-petersen-and-monica-orozco-speak/
LOCATION:University of California Santa Barbara\, Santa Barbara\, CA\, 93106\, United States
END:VEVENT
BEGIN:VEVENT
DTSTART;TZID=America/Los_Angeles:20190411T150000
DTEND;TZID=America/Los_Angeles:20190411T170000
DTSTAMP:20260420T093127
CREATED:20190411T022058Z
LAST-MODIFIED:20190411T022058Z
UID:10002264-1554994800-1555002000@www.history.ucsb.edu
SUMMARY:Career Diversity Event: Talk by Marianne Babal
DESCRIPTION:Senior historian and vice president at Wells Fargo Bank Marianne Babal will be coming to speak as part of our Career Diversity series. Marianne is a UCSB public history alumna and she will be speaking about how her skills as a historian have shaped her career.
URL:https://www.history.ucsb.edu/events/career-diversity-event-talk-by-marianne-babal/
LOCATION:University of California Santa Barbara\, Santa Barbara\, CA\, 93106\, United States
END:VEVENT
BEGIN:VEVENT
DTSTART;TZID=America/Los_Angeles:20190411T190000
DTEND;TZID=America/Los_Angeles:20190411T210000
DTSTAMP:20260420T093127
CREATED:20190205T233739Z
LAST-MODIFIED:20190205T233928Z
UID:10002591-1555009200-1555016400@www.history.ucsb.edu
SUMMARY:History Club Weekly Meetings
DESCRIPTION:UCSB’s new and improved History Departmental club is for majors\, minors\, and anyone with a passion for the past! Meetings are held every Thursday at 7:00 PM in HSSB 4020. See flier below for information about upcoming events. Please email histclub.ucsb@gmail.com with any questions. 
URL:https://www.history.ucsb.edu/events/history-club-weekly-meetings/2019-04-11/
LOCATION:HSSB 4020
END:VEVENT
BEGIN:VEVENT
DTSTART;TZID=America/Los_Angeles:20190412T130000
DTEND;TZID=America/Los_Angeles:20190412T150000
DTSTAMP:20260420T093127
CREATED:20190407T221536Z
LAST-MODIFIED:20190407T231505Z
UID:10002256-1555074000-1555081200@www.history.ucsb.edu
SUMMARY:Talk by Lily Geismer\, Claremont McKenna College. "'The Perfect Model for the 1990s': Community Development Banking\, Market-Based Solutions\, and Democratic Neoliberalism"
DESCRIPTION:Geismer is currently working on her second book\, Doing Good: the Democrats and Neoliberalism from the War on Poverty to the Clinton Foundation. She is co-editor of Shaped by the State: Toward a New Political History of the Twentieth Century (2019) and author of Don’t Blame Us: Suburban Liberals and the Transformation of the Democratic Party (2015) \nYou can find a copy of the paper Professor Geismer will present here.
URL:https://www.history.ucsb.edu/events/talk-by-lily-geismer-claremont-mckenna-college-the-perfect-model-for-the-1990s-community-development-banking-market-based-solutions-and-democratic-neoliberalism/
LOCATION:HSSB 4041
END:VEVENT
BEGIN:VEVENT
DTSTART;TZID=America/Los_Angeles:20190417T160000
DTEND;TZID=America/Los_Angeles:20190417T180000
DTSTAMP:20260420T093127
CREATED:20181207T194314Z
LAST-MODIFIED:20181207T194451Z
UID:10002560-1555516800-1555524000@www.history.ucsb.edu
SUMMARY:Lawrence Badash Memorial Lecture by Audra J. Wolfe: "Science\, Freedom\, and the Cold War: a Political History of Apolitical Science"
DESCRIPTION:As a part of the Lawrence Badash Memorial Lecture Series\, the Interdisciplinary Humanities Center presents Audra J. Wolfe on the development of so-called apolitical science. \nWhy do so many U.S. scientists continue to lean on the language of apolitical science\, even as political leaders display less and less interest in scientists’ claims to expertise\, or even the existence of facts? In a new book\, Freedom’s Laboratory: The Cold War Struggle for the Soul of Science\, historian Audra J. Wolfe suggests the answer lies in Cold war propaganda. \nFrom the late 1940s through the late 1960s\, the U.S. foreign policy establishment saw a particular way of thinking about scientific freedom as essential to winning the global Cold War. Throughout this period\, the engines of U.S. propaganda amplified\, circulated\, and\, in some cases\, produced a vision of science\, American style\, that highlighted scientists’ independence from outside interference and government control. Working (both overly and covertly\, wittingly and unwittingly) with governmental and private organizations\, U.S. scientists tried to come to terms with the meanings of “scientific freedom” and “U.S. ideology.” More often than not\, they ended up defining scientific values as the opposite of Communist science. \nScience\, in this view\, was apolitical. \nThe Cold War ended long ago\, but the language of science and freedom continues to shape public debates over the relationship between science and politics in the United States. \nAudra J. Wolfe\, Ph.D. is a Philadelphia-based writer\, editor\, and historian.  She is the author of Freedom’s Laboratory: The Cold War Struggle for the Soul of Science (2018) and Competing with the Soviets: Science\, Technology\, and the State in Cold War America (2013). Her articles have appeared in both scholarly and more popular venues\, including the Washington Post\, The Atlantic.com\, Slate\, and the popular podcast American History Tellers. \nWolfe holds a Ph.D. in the History and Sociology of Science from the University of Pennsylvania (2002). Previously\, she studied biochemistry and chemistry at Purdue University (B.S.\, 1997). She has taught courses on Cold War science as well as science and the media at the University of Pennsylvania. As a publishing professional\, Wolfe has worked at the University of Pennsylvania Press\, Rutgers University Press\, and the Chemical Heritage Foundation\, where she additionally served as executive producer for an award-winning podcast\, Distillations. Her editorial and publishing consulting company\, The Outside Reader\, supports the work of scholars and scholarly publishers.
URL:https://www.history.ucsb.edu/events/lawrence-badash-memorial-lecture-by-audra-j-wolfe-science-freedom-and-the-cold-war-a-political-history-of-apolitical-science/
LOCATION:HSSB 6020 (McCune Room)\, University of California Santa Barbara\, Santa Barbara\, CA\, 93106\, United States
CATEGORIES:Public Lecture
ATTACH;FMTTYPE=image/jpeg:https://www.history.ucsb.edu/wp-content/uploads/wolfe_book_profile.jpg
GEO:34.4142938;-119.8474306
X-APPLE-STRUCTURED-LOCATION;VALUE=URI;X-ADDRESS=HSSB 6020 (McCune Room) University of California Santa Barbara Santa Barbara CA 93106 United States;X-APPLE-RADIUS=500;X-TITLE=University of California Santa Barbara:geo:-119.8474306,34.4142938
END:VEVENT
BEGIN:VEVENT
DTSTART;TZID=America/Los_Angeles:20190418T190000
DTEND;TZID=America/Los_Angeles:20190418T210000
DTSTAMP:20260420T093127
CREATED:20190205T233739Z
LAST-MODIFIED:20190205T233928Z
UID:10002592-1555614000-1555621200@www.history.ucsb.edu
SUMMARY:History Club Weekly Meetings
DESCRIPTION:UCSB’s new and improved History Departmental club is for majors\, minors\, and anyone with a passion for the past! Meetings are held every Thursday at 7:00 PM in HSSB 4020. See flier below for information about upcoming events. Please email histclub.ucsb@gmail.com with any questions. 
URL:https://www.history.ucsb.edu/events/history-club-weekly-meetings/2019-04-18/
LOCATION:HSSB 4020
END:VEVENT
BEGIN:VEVENT
DTSTART;TZID=America/Los_Angeles:20190425T190000
DTEND;TZID=America/Los_Angeles:20190425T210000
DTSTAMP:20260420T093127
CREATED:20190205T233739Z
LAST-MODIFIED:20190205T233928Z
UID:10002593-1556218800-1556226000@www.history.ucsb.edu
SUMMARY:History Club Weekly Meetings
DESCRIPTION:UCSB’s new and improved History Departmental club is for majors\, minors\, and anyone with a passion for the past! Meetings are held every Thursday at 7:00 PM in HSSB 4020. See flier below for information about upcoming events. Please email histclub.ucsb@gmail.com with any questions. 
URL:https://www.history.ucsb.edu/events/history-club-weekly-meetings/2019-04-25/
LOCATION:HSSB 4020
END:VEVENT
BEGIN:VEVENT
DTSTART;TZID=America/Los_Angeles:20190427T120000
DTEND;TZID=America/Los_Angeles:20190427T140000
DTSTAMP:20260420T093127
CREATED:20190423T051752Z
LAST-MODIFIED:20190423T051752Z
UID:10002783-1556366400-1556373600@www.history.ucsb.edu
SUMMARY:History Department Alumni Career Panel and Luncheon
DESCRIPTION:Former History Majors are returning to UCSB to talk about their career paths and choices. \nPlease join us for the panel and lunch and mingle with faculty\, alumni and current majors.
URL:https://www.history.ucsb.edu/events/history-department-alumni-career-panel-and-luncheon/
LOCATION:HSSB 1173 and Couryard\, University of California Santa Barbara\, Santa Barbara\, CA\, 93106\, United States
ATTACH;FMTTYPE=image/jpeg:https://www.history.ucsb.edu/wp-content/uploads/History-Department_Group-Photo_1-1.jpg
END:VEVENT
END:VCALENDAR