BEGIN:VCALENDAR
VERSION:2.0
PRODID:-//Department of History, UC Santa Barbara - ECPv6.15.12.1//NONSGML v1.0//EN
CALSCALE:GREGORIAN
METHOD:PUBLISH
X-WR-CALNAME:Department of History, UC Santa Barbara
X-ORIGINAL-URL:https://www.history.ucsb.edu
X-WR-CALDESC:Events for Department of History, UC Santa Barbara
REFRESH-INTERVAL;VALUE=DURATION:PT1H
X-Robots-Tag:noindex
X-PUBLISHED-TTL:PT1H
BEGIN:VTIMEZONE
TZID:America/Denver
BEGIN:DAYLIGHT
TZOFFSETFROM:-0700
TZOFFSETTO:-0600
TZNAME:MDT
DTSTART:20120311T090000
END:DAYLIGHT
BEGIN:STANDARD
TZOFFSETFROM:-0600
TZOFFSETTO:-0700
TZNAME:MST
DTSTART:20121104T080000
END:STANDARD
BEGIN:DAYLIGHT
TZOFFSETFROM:-0700
TZOFFSETTO:-0600
TZNAME:MDT
DTSTART:20130310T090000
END:DAYLIGHT
BEGIN:STANDARD
TZOFFSETFROM:-0600
TZOFFSETTO:-0700
TZNAME:MST
DTSTART:20131103T080000
END:STANDARD
BEGIN:DAYLIGHT
TZOFFSETFROM:-0700
TZOFFSETTO:-0600
TZNAME:MDT
DTSTART:20140309T090000
END:DAYLIGHT
BEGIN:STANDARD
TZOFFSETFROM:-0600
TZOFFSETTO:-0700
TZNAME:MST
DTSTART:20141102T080000
END:STANDARD
END:VTIMEZONE
BEGIN:VEVENT
DTSTART;TZID=America/Denver:20131107T000000
DTEND;TZID=America/Denver:20131107T000000
DTSTAMP:20260417T181301
CREATED:20150928T112851Z
LAST-MODIFIED:20150928T112851Z
UID:10002177-1383782400-1383782400@www.history.ucsb.edu
SUMMARY:Arming Mother Nature: The Birth of Catastrophic Environmentalism
DESCRIPTION:You are invited to the annual Lawrence Badash Memorial Lecture. This year’s guest speaker will be Jacob Darwin Hamblin; his talk will be drawn from his new and acclaimed book Arming Mother Nature. A description of the talk and information about the speaker is below. The talk will be held November 7\, 2013 7:00 PM at the Loma Pelona Conference Center on the UCSB campus. Parking is available in Parking Lot 23 near the UCSB Faculty Club.\nWhen most Americans think of environmentalism\, they think of the political left\, of vegans dressed in organic-hemp fabric\, lofting protest signs. In reality\, the movement–and its dire predictions–owe more to the Pentagon than the counterculture. In his talk\,  Hamblin argues that military planning for World War III essentially created “catastrophic environmentalism”: the idea that human activity might cause global natural disasters. This awareness emerged out of dark ambitions\, as governments poured funds into environmental science after World War II\, searching for ways to harness natural processes–to kill millions of people. Hamblin explains the history of how the Cold War coincided with and catalyzed the birth of modern environmental science. Along the way\, we see how Cold War scientists\, driven initially by strategic imperatives\, learned to think globally and to grasp humanity’s power to alter the environment. \nAbout the Speaker:\nThe author of Arming Mother Nature and other books\, Jacob Darwin Hamblin writes about the history and politics of science\, technology\, and environmental issues.  He was born in Germany and grew up on or near American military bases\, before going to college and graduate school in California\, where he earned a Ph.D. in History at UC Santa Barbara. As an adult he has lived and worked in France\, England\, and several universities in the United States. His work has appeared in the New York Times\, Salon\, and many publications devoted to the history of science\, technology\, and the natural world. He currently resides in the American Pacific Northwest\, where he is an associate professor of history at Oregon State University.
URL:https://www.history.ucsb.edu/events/arming-mother-nature-the-birth-of-catastrophic-environmentalism/
LOCATION:CA
END:VEVENT
BEGIN:VEVENT
DTSTART;TZID=America/Denver:20131115T000000
DTEND;TZID=America/Denver:20131115T000000
DTSTAMP:20260417T181301
CREATED:20150928T112853Z
LAST-MODIFIED:20150928T112853Z
UID:10002205-1384473600-1384473600@www.history.ucsb.edu
SUMMARY:Fifty Years After the March: Civil Rights in Historical Memory
DESCRIPTION:A panel discussion featuring Martin Berger\, Professor\, History of Art and Visual Culture\, UC Santa Cruz as well as UC Santa Barbara Professors Gaye Johnson\, Black Studies; John S.W. Park\, Asian American Studies; and Jeffrey Stewart\, Black Studies. Moderated by Alice O’Connor\, History.
URL:https://www.history.ucsb.edu/events/fifty-years-after-the-march-civil-rights-in-historical-memory/
LOCATION:CA
END:VEVENT
BEGIN:VEVENT
DTSTART;TZID=America/Denver:20131121T000000
DTEND;TZID=America/Denver:20131121T000000
DTSTAMP:20260417T181301
CREATED:20150928T112852Z
LAST-MODIFIED:20150928T112852Z
UID:10002185-1384992000-1384992000@www.history.ucsb.edu
SUMMARY:So Rich\, So Poor: Why it’s so Hard to End Poverty in America
DESCRIPTION:Peter Edelman is a Professor of Law at Georgetown Law Center. During President Clinton’s first term he was Counselor to HHS Secretary Donna Shalala and then Assistant Secretary for Planning and Evaluation. Earlier in his career he was a Legislative Assistant to Senator Robert F. Kennedy and Issues Director for Senator Edward Kennedy’s 1980 Presidential campaign. He will be talking about his book\, So Rich\, So Poor: Why It’s So Hard to End Poverty in America\, published by The New Press in the spring of 2012. Edelman’s lecture is part of the 2013-14 Critical Issues in America The Great Society at Fifty: Democracy in America 1964/2014\, and is co-sponsored by the Walter H. Capps Center for the Study of Ethics\, Religion\, and Public Life.\nEvent Flyer
URL:https://www.history.ucsb.edu/events/so-rich-so-poor-why-its-so-hard-to-end-poverty-in-america/
LOCATION:CA
END:VEVENT
BEGIN:VEVENT
DTSTART;TZID=America/Denver:20131122T000000
DTEND;TZID=America/Denver:20131122T000000
DTSTAMP:20260417T181301
CREATED:20150928T112851Z
LAST-MODIFIED:20150928T112851Z
UID:10001901-1385078400-1385078400@www.history.ucsb.edu
SUMMARY:Mourning Tulli-a: The Shrine of Letters in ad Atticum 12 with Cicero and Lacan
DESCRIPTION:Sponsored by the Department of Classics.\njwil 08.ix.2013
URL:https://www.history.ucsb.edu/events/mourning-tulli-a-the-shrine-of-letters-in-ad-atticum-12-with-cicero-and-lacan/
LOCATION:CA
END:VEVENT
BEGIN:VEVENT
DTSTART;TZID=America/Denver:20131126T000000
DTEND;TZID=America/Denver:20131126T000000
DTSTAMP:20260417T181301
CREATED:20150928T112852Z
LAST-MODIFIED:20150928T112852Z
UID:10002187-1385424000-1385424000@www.history.ucsb.edu
SUMMARY:Robot Caregivers and Robo-therapy in Japan: Treating the "Trauma" of Aging
DESCRIPTION:After their own children\, elderly Japanese apparently prefer robot caregivers and companions to foreign ones (in the increasingly likely event of a severe shortage of ethnic Japanese nurses and social workers). Robots are perceived by seniors\, and by politicians too\, of eliminating the socio-cultural anxieties provoked by foreign laborers and caregivers.  (And for some right-wing conservatives\, limiting the number of foreigners reinforces a tenacious ideology of ethnic homogeneity.) Already high-tech homes for senior citizens are part of a booming industry\, and specialized robots are being developed to stabilize and even reverse the effects of aging-related dementia and depression.  Moreover\, those promoting the country’s robotization argue that US$21 billion of elderly insurance payments could be saved over the next decade by using robots instead of humans to monitor the health of senior citizens\, who now comprise 25% of the population. Sociable\, interactive robots have also become the primary subjects of a new field of study named “robot psychology” and “robo-therapy.” Robertson’s talk represents a shift in focus from the more usual association of trauma with the consequences of the experience or witnessing of graphic violence. In linking aging to trauma\, she is drawing from Ann Kaplan’s feminist scholarship in which she makes the case for aging as traumatic in the sense of the elderly being as vulnerable to identity crises as are adolescents.\nThis talk is part of the IHC Value of Care series and is co-sponsored by the RFG Reinventing Japan\, the East Asia Center\, the Center for Nanotechnology in Society\, the Department of East Asian Languages and Cultural Studies\, the Department of History\, the Department of Anthropology and the Department of Media Arts and Technology.   \nhm 9/26/13
URL:https://www.history.ucsb.edu/events/robot-caregivers-and-robo-therapy-in-japan-treating-the-trauma-of-aging/
LOCATION:CA
END:VEVENT
BEGIN:VEVENT
DTSTART;TZID=America/Denver:20131126T000000
DTEND;TZID=America/Denver:20131126T000000
DTSTAMP:20260417T181301
CREATED:20150928T112853Z
LAST-MODIFIED:20150928T112853Z
UID:10002207-1385424000-1385424000@www.history.ucsb.edu
SUMMARY:Big Humanities Data
DESCRIPTION:Patrik Svensson is a professor in the Humanities and information technologyand director of HUMlab\, Umeå University. His current research spans\ninformation technology and learning\, research infrastructure\, screen\ncultures and the digital humanities as an emerging field. Apart from having\nmain responsibility for HUMlab\, he is currently heavily involved in Umeå\nUniversity’s new Arts Campus and the creation of a new platform for digital\nmedia\, culture and representation: HUMlab-X. Another prioritized area at\nthis point is strengthening strategic collaboration with selected national\nand international partners.\nhttp://patrik.humlab.umu.se/ \nThis is an important talk for all those interested in the “digital humanities.” \nUCSB student Anne Cong-Huyen visited at HUMlab last year; Lindsay Thomas will be going in December; former students Lisa Swanstrom and Mike Frangos have had postdocs there. \nHosted by the Transcriptions Project. \nhm 11/22/13
URL:https://www.history.ucsb.edu/events/big-humanities-data/
LOCATION:CA
END:VEVENT
END:VCALENDAR