BEGIN:VCALENDAR
VERSION:2.0
PRODID:-//Department of History, UC Santa Barbara - ECPv6.15.12.1//NONSGML v1.0//EN
CALSCALE:GREGORIAN
METHOD:PUBLISH
X-WR-CALNAME:Department of History, UC Santa Barbara
X-ORIGINAL-URL:https://www.history.ucsb.edu
X-WR-CALDESC:Events for Department of History, UC Santa Barbara
REFRESH-INTERVAL;VALUE=DURATION:PT1H
X-Robots-Tag:noindex
X-PUBLISHED-TTL:PT1H
BEGIN:VTIMEZONE
TZID:America/Denver
BEGIN:DAYLIGHT
TZOFFSETFROM:-0700
TZOFFSETTO:-0600
TZNAME:MDT
DTSTART:20110313T090000
END:DAYLIGHT
BEGIN:STANDARD
TZOFFSETFROM:-0600
TZOFFSETTO:-0700
TZNAME:MST
DTSTART:20111106T080000
END:STANDARD
BEGIN:DAYLIGHT
TZOFFSETFROM:-0700
TZOFFSETTO:-0600
TZNAME:MDT
DTSTART:20120311T090000
END:DAYLIGHT
BEGIN:STANDARD
TZOFFSETFROM:-0600
TZOFFSETTO:-0700
TZNAME:MST
DTSTART:20121104T080000
END:STANDARD
BEGIN:DAYLIGHT
TZOFFSETFROM:-0700
TZOFFSETTO:-0600
TZNAME:MDT
DTSTART:20130310T090000
END:DAYLIGHT
BEGIN:STANDARD
TZOFFSETFROM:-0600
TZOFFSETTO:-0700
TZNAME:MST
DTSTART:20131103T080000
END:STANDARD
END:VTIMEZONE
BEGIN:VEVENT
DTSTART;TZID=America/Denver:20120202T000000
DTEND;TZID=America/Denver:20120202T000000
DTSTAMP:20260421T012326
CREATED:20150928T112835Z
LAST-MODIFIED:20150928T112835Z
UID:10002032-1328140800-1328140800@www.history.ucsb.edu
SUMMARY:The Port Huron Statement at 50
DESCRIPTION:University of California-Santa BarbaraFebruary 2-3\, 2012\nWe invite you to attend a conference which brings together historians\, social theorists\, contemporary student activists\, and Port Huron veterans to discuss the origins\, historical impact\, and contemporary relevance of the New Left’s founding manifesto. (conference website) \nKeynote speeches by: Michael Kazin and Tom Hayden\nand:\nPaul Booth\nCharles McDew\nJoshua Freeman\nLisa McGirr\nGrace Hale\nJames Miller\nGianpaolo Baiocchi\nAlice O’Connor\nRichard Flacks\nCharles Payne\nDaniel Geary\nBob Ross\nNelson Lichtenstein\nVivian Rothstein\nBen Manski\nMichael Vester\nJane Mansbridge\nHoward Winant\nSteve Max\nEric Olin Wright \n3:00 p.m. CONFERENCE WELCOME\nRichard Flacks\, Professor of Sociology emeritus\, UCSB \, “What Happened at Port Huron”\nHarrison Weber\, President\, UCSB Associated Students\,”Why students should care about Port Huron” \n3:30 p.m.  KEYNOTE ADDRESS \n    Tom Hayden\, principal drafter of the Port Huron Statement \n4:45 p.m.   PORT HURON AS AN EPISODE IN OUR LIVES: PARTICIPANTS REFLECT ON LEGACIES AND LESSONS\nChair: Richard Flacks \n    Chuck McDew\, founding chair of the Student Non-Violent Coordinating Committee (SNCC)\n    Bob Ross\, professor of sociology \, Clark University\n    Paul Booth\, Vice President of American Federation of State\, County and Municipal Workers\n    Michael Vester\, Professor of Political Science\, emeritus\, University of Hanover\, Germany\n    Maria Varela\, pioneering Latino organizer (not confirmed) \n7:00 p.m. DINNER AT THE FACULTY CLUB\nSPEAKER: Michael Kazin . Professor of History\, Georgetown University; Co-Editor of Dissent\,\n            “Two Cheers for Utopia: Port Huron and the Fate of the Not-so-New Left”  \nFriday February 3 at Miller McCune Conference Room\, Humanities and Social Science Building \n9:30 a.m.  THE HISTORICAL CONTEXT\nChair\, Joshua Freeman\,  Department of History\, City University of New York.           \n    Lisa McGirr\, Professor of History\, Harvard University\, “The Worldwide New Left in the Early 1960s.”\n    Dan Geary\, Senior Lecturer in History\, Trinity College\, Dublin\, “How the New Left Transformed American Liberalism”\n    Grace Hale\, Professor of History and American Studies\, University of Virginia\, “The Romance of Rebellion”\n    Nelson Lichtenstein\, MacArthur Foundation Chair in History\, UCSB\, “Why were the Students for a Democratic Society\n                                          Meeting at a United Auto Workers Summer Camp?” \n12:00-1:00 p.m. LUNCH \n1:30 p.m. THE FATE OF PARTICIPATORY DEMOCRACY\nChair: Howard Winant\, Professor of Sociology\, UCSB \n    James Miller\, Professor of Politics and Liberal Studies\, New School  for Social Research\,  “Is Democracy Still in the Streets?”\n    Erik Olin Wright\, Professor of Sociology\, University of Wisconsin\, Madison\, “Envisioning Real Utopias”\n    Jane Mansbridge\, Adams Professor of Political Leadership and Democratic  Values\, Kennedy School of Government\, Harvard University\, “Beyond Adversary Democracy.”\n    Gianpaolo Baiocchi\, Associate Professor of International Studies\, Brown University\, “Participatory Democracy in Brazil’ \n3:30 p.m. GENERATIONS OF ORGANIZERS: VETERAN ORGANIZERS IN DIALOG WITH A NEW GENERATION\nChair:  Alice O’Connor\, Department of History\, UCSB. \n    Steve Max\, Midwest Academy\n    Ben Manski\, Madison Wisconsin\, Liberty Tree Foundation for the Democratic Revolution\n    Charles Payne\, Frank P. Hixon Distinguished Service Professor\, School of Social Service Administration\, University of Chicago\n    Vivian Rothstein\, Los Angeles Alliance for a New Economy \nPANELISTS WILL LEAD BREAKOUT CIRCLES WITH CURRENT STUDENTS\n6:00 p.m. CLOSING RECEPTION \nSponsored by Dissent\, The Nation  and the\nUCSB Center for the Study of Work\, Labor\, and Democracy  \nhm 1/16/12
URL:https://www.history.ucsb.edu/events/the-port-huron-statement-at-50/
LOCATION:CA
END:VEVENT
BEGIN:VEVENT
DTSTART;TZID=America/Denver:20120208T000000
DTEND;TZID=America/Denver:20120208T000000
DTSTAMP:20260421T012326
CREATED:20150928T112836Z
LAST-MODIFIED:20150928T112836Z
UID:10001808-1328659200-1328659200@www.history.ucsb.edu
SUMMARY:Animal Spirits Revisited:  An Emotional History of Capitalism
DESCRIPTION:Despite its manifest absurdity\, the rational actor model continues to domi-nate discussions of modern capitalism. This lecture proposes an alterna-\ntive perspective\, by deepening and broadening Keynes’s brief mention of\n“animal spirits” in economic decisions. Building on the work of anthropolo-\ngists and cultural historians\, Lears explores the tangled relationships be-\ntween capitalism and emotional life\, on the shop floor as well as on the\ntrading floor\, around the kitchen table as well as in the executive suite.  \nAbbreviated Bio\nBoard of Governors Professor of History\, Rutgers University\nEditor-in-Chief\, Raritan: a Quarterly Review\nHe has been a regular contributor to The New Republic\, The Nation\, The Los\nAngeles Times\, The Washington Post\, and The New York Times\, among other publications.\nIn April 2009 he became a Fellow of the American Academy of Arts & Sciences.  \nPublications  \n. No Place of Grace: Antimodernism and the Transformation of American Culture\, 1880-\n1920 (New York: Pantheon\, 1981; reissued by University of Chicago Press\, 1994;\nJapanese translation by Shohakusha Publishing\, 2011)\n. Fables of Abundance: a Cultural History of Advertising in America (New York: Basic\nBooks\, 1994)\n. Something for Nothing: Luck in America (New York: Viking Penguin\, 2003)\n. Rebirth of a Nation\, the Making of Modern America\, 1877-1920 (Harper Collins\, 2009)  \nPresented through the Global & International Studies\nMaster of Arts Program  \nhm 1/27/12
URL:https://www.history.ucsb.edu/events/animal-spirits-revisited-an-emotional-history-of-capitalism/
LOCATION:CA
END:VEVENT
BEGIN:VEVENT
DTSTART;TZID=America/Denver:20120209T000000
DTEND;TZID=America/Denver:20120209T000000
DTSTAMP:20260421T012326
CREATED:20150928T112837Z
LAST-MODIFIED:20150928T112837Z
UID:10002040-1328745600-1328745600@www.history.ucsb.edu
SUMMARY:The Past\, Present\, and Future of Feminist Studies
DESCRIPTION:Conference ScheduleThe Past\, Present\, and Future of Feminist Studies\nFebruary 9th – 11th 2012 \nThursday\, February 9th\n7 – 9 pm\nOpening Remarks – Eileen Boris\, Hull Professor and Chair\, Feminist  Studies and Patricia Cline Cohen\, Professor of History \nGenders and Sexualities \nChair: Leila Rupp (UCSB)\nPanelists:\n”	Matt Richardson (University of Texas\, Austin)\n”	Lynn Sacco (University of Tennessee\, Knoxville)\n”	Siobhan Somerville (University of Illinois\, Urbana-Champaign) \n10:30 am – 12:00 pm\nThe Past\, Present and Future of Feminist Studies\nWelcome – Melvin Oliver\, Dean of Social Sciences\, College of Letters & Science \nChair: Jacqueline Bobo (UCSB)\nPanelists:\n”	Nan Alamilla Boyd (San Francisco State University)\n”	Ednie Garrison (University of South Florida)\n”	Valerie Ann Johnson (Bennett College)\n”	Alison Kafer (Southwestern University) \n3:30 pm- 5:30 pm\nProductive and Reproductive Labors \nChair: Laury Oaks (UCSB)\nPanelists:\n”	Melissa Forbis (Stony Brook University)\n”	Francisca James Hernandez (Pima Community College\, Research  Associate at the Southwest Institute for Research on Women (SIROW) at  The University of Arizona)\n”	Lilia Soto (University of Wyoming)\n”	Ruby Tapia (University of Michigan\, Ann Arbor)\n”	Chikako Takeshita (University of California\, Riverside) \nDinner 6 pm\nAt the Faculty Club for invited guests\, members of the department\, and  affiliates who worked with our former ABD scholars.  RSVP  required–Leigh Dodson\, ldodson@umail.ucsb.edu and Eileen Boris\,  boris@femst.ucsb.edu \nSaturday\, February 11th\n9 am- 11:30 am\nRace and Nation \nChair: Mireille Miller-Young (UCSB)\nPanelists:\n”	Maylei Blackwell (University of California\, Los Angeles)\n”	Emily Hobson (University of Southern California)\n”	Paula Ioanide (Ithica College) and Felice Black (UCSB)\n”	Priya Kurian (University of Waikato)\n”	Judy Rohrer (University of Connecticut) \n12 pm – 1 pm\nRethinking the Field\nConcluding and Discussion \nhm 2/5/12
URL:https://www.history.ucsb.edu/events/the-past-present-and-future-of-feminist-studies/
LOCATION:CA
END:VEVENT
BEGIN:VEVENT
DTSTART;TZID=America/Denver:20120216T000000
DTEND;TZID=America/Denver:20120216T000000
DTSTAMP:20260421T012326
CREATED:20150928T112836Z
LAST-MODIFIED:20150928T112836Z
UID:10001801-1329350400-1329350400@www.history.ucsb.edu
SUMMARY:Using the Ancient Greeks to Think about Public Goods: A Dialogue
DESCRIPTION:Using the Ancient Greeks to Think about Public Goods: A Dialogue with Josiah Ober (Classics and Political Science\, Stanford)Greg Anderson (History\, Ohio State University) and moderator Glenn Patten (Classics\, UCSB) \nClassical structures (such as the polis) and ideas (such as koinonia) are frequently invoked in discussions of the common good — either as the grounds from which modern ideas and structures developed\, or as marks of a fundamental break between ancient and bourgeois societies.  Two leading scholars offer complementary views\, exploring both civic decision-making and social practices\, Aristotelian theory and cultural context\, continuity of past with present and the distance between them.  Together they offer new perspectives on the problem of re-imagining the commons today. \nGreg Anderson is the Ohio State University Department of History’s  specialist in the history of ancient Greece. He is a graduate of the universities of Newcastle and London in his native Britain\, and holds MA\, MPhil\, and PhD degrees in Classics from Yale University. Anderson’s primary research areas are archaic Greece\, classical Athens\, and social theory. His work explores articulations between culture\, politics\, and the production of material life. His first book\, The Athenian Experiment (Ann Arbor: University of Michigan Press\, 2003)\, addressed the cultural implications of the shift from a narrow oligarchic regime to a more socially inclusive political formation in pre-classical Athens. Among his more recent publications\, one article reconsiders the cultural construction of “tyranny” in archaic Greece\, while another makes a case for seeing the classical Greek “state” as a cultural “effect\,” the product of a complex entanglement between the material and the ideational. His current book project (Illiberal Athens) is a postmodern Marxist “social ecology” of classical Athens\, an account of the inequalities\, the exploitations\, and the other costs of producing a “free society” in Greek antiquity. \nJosiah Ober\, the Constantine Mitsotakis Chair in the School of Humanities and Sciences at Stanford University\, specializes in the areas of ancient and modern political theory and historical institutionalism. He has a secondary appointment in the Department of Classics and a courtesy appointment in Philosophy. His most recent book\, Democracy and Knowledge: Innovation and Learning in Classical Athens\, was published by Princeton University Press in 2008. His ongoing work focuses on the theory and practice of democracy and the politics of knowledge and innovation\, Recent articles and working papers seek to explain economic growth in the ancient Greek world\, the relationship between democracy and dignity\, and the aggregation of expertise. \nHe is sole author of about 60 articles and chapters and several other books\, including Fortress Attica (1985)\, Mass and Elite in Democratic Athens (1989)\, The Athenian Revolution (1996)\, Political Dissent in Democratic Athens (1998)\, and Athenian Legacies (2005). He has held residential fellowships at the National Humanities Center\, Center for Hellenic Studies\, Univ. of New England (Australia)\, Clare Hall (Cambridge)\, Center for the Advanced Study of the Behavioral Sciences \, and Univ. of Sydney; research fellowships from the ACLS\, NEH\, and Guggenheim; and has been a visiting professor at University of Michigan\, Paris I-Sorbonne\, and UC-Irvine. Before coming to Stanford he taught at Montana State University (1980-1990) and Princeton University (1990-2006). \nSponsored by the Department of Classics\, the Department of History\, the Department of Political Science and the IHC’s Idee Levitan Endowment as part of its Public Goods series. \njwil 20.i.2012
URL:https://www.history.ucsb.edu/events/using-the-ancient-greeks-to-think-about-public-goods-a-dialogue/
LOCATION:CA
END:VEVENT
BEGIN:VEVENT
DTSTART;TZID=America/Denver:20120216T000000
DTEND;TZID=America/Denver:20120216T000000
DTSTAMP:20260421T012326
CREATED:20150928T112836Z
LAST-MODIFIED:20150928T112836Z
UID:10001805-1329350400-1329350400@www.history.ucsb.edu
SUMMARY:UCSB Associated Students History Initiatives
DESCRIPTION:[Note: This event was originally scheduled for Feb. 2.]\nThe Living History Project is an exciting new effort that uses a variety of media\, including archival materials\, interviews\, and video to bring together stories and remembrances about the role UCSB students have played in shaping the campus throughout the years. \nAssociated Students Living History Project Coordinator Mahader Tesfai will present his work developing the Associate Students’ Living History Project.\nA.S. Publications Coordinator Andy Doerr will give a brief overview of A.S. history and the A.S. Annual Report which he has produced since 2004. \nPlease rsvp to jpd@umail.ucsb.edu \nhm 1/23/12; 1/30/12
URL:https://www.history.ucsb.edu/events/ucsb-associated-students-history-initiatives/
LOCATION:CA
END:VEVENT
BEGIN:VEVENT
DTSTART;TZID=America/Denver:20120217T000000
DTEND;TZID=America/Denver:20120217T000000
DTSTAMP:20260421T012326
CREATED:20150928T112838Z
LAST-MODIFIED:20150928T112838Z
UID:10002041-1329436800-1329436800@www.history.ucsb.edu
SUMMARY:Chicano! A Conference on the Emerging Historiography of the Chicano Movement
DESCRIPTION:This is the first major confernce on the emerging historiography of the Chicano Movement as witnessed by the several scholars who will be presenting on their recently published books or on their book projects on the Movement.  More than 40 years after many of the key events of the Chicano Movement\, historians and other scholars with the distance of time are now rexamining and assessing the various aspects of the most significant civil rights and empowerment struggle by Chicanos in the United States.  This conference will call attention to the emergence of what we can now call Movement Studies as part of Chicano Studies.\nWe are very excited about the pathbreaking nature of this conference and I along with my colleagues and students in the Department of Chicana and Chicano Studies and the Chicano Studies Institute here at UCSB would like to invite you to join us for the conference. \nThank you\, \nMario T. Garcia\nProfessor of Chicana and Chicano Studies\nUC Santa Barbara\n(805)893-4074\ngarcia@history.ucsb.edu \nhm 2/8/12
URL:https://www.history.ucsb.edu/events/chicano-a-conference-on-the-emerging-historiography-of-the-chicano-movement/
LOCATION:CA
END:VEVENT
BEGIN:VEVENT
DTSTART;TZID=America/Denver:20120221T000000
DTEND;TZID=America/Denver:20120221T000000
DTSTAMP:20260421T012326
CREATED:20150928T112838Z
LAST-MODIFIED:20150928T112838Z
UID:10002042-1329782400-1329782400@www.history.ucsb.edu
SUMMARY:Questions and Answers about Nazi Art
DESCRIPTION:75 years ago\, the first Great German Art Exhibition (Große Deutsche Kunstausstellung) opened at the new „House of German Art“. The show was accompanied by the infamous exhibition „Degenerate Art“ („Entartete Kunst“)\, which was initiated by Joseph Goebbels and on view in the Munich Hofgarten close by. For the national socialist regime no other exhibition project had a comparably programmatic and propagandistic significance as the GDK. Explicitly intended to demonstrate the achievements of the regime’s cultural politics\, the sales and exhibitions mirrored both the way the „Third Reich“ conceived of art and of itself as a nation of culture and civilization. Numerous works were purchased by the national socialist elite\, but also by private customers.On October 20\, 2011\, the database GDK Research was launched. The paper will give a short introduction to the database\, explain its various sources\, and deliver a succinct historiography of the art of the national socialist regime. In particular\, however\, this talk will highlight some pertinent questions:  \nWhat was the impact of the eight shows (1937-1944)?\nHow do politics and ideology relate to landscapes\, genre scenes\, portraits and still lives?\nAnd where do we stand today?\nWhy is this research on Nazi art important and necessary?\nWhat does the media response to tell us? \nhm 2/14/12
URL:https://www.history.ucsb.edu/events/questions-and-answers-about-nazi-art/
LOCATION:CA
END:VEVENT
BEGIN:VEVENT
DTSTART;TZID=America/Denver:20120222T000000
DTEND;TZID=America/Denver:20120222T000000
DTSTAMP:20260421T012326
CREATED:20150928T112836Z
LAST-MODIFIED:20150928T112836Z
UID:10001811-1329868800-1329868800@www.history.ucsb.edu
SUMMARY:White Wash
DESCRIPTION:“White Wash” explores the complexity of race in America through the eyes of the ocean via the history of African Americans and water culture from slavery\, civil rights wade-ins to surfing in contemporary times. In examining the history of world water culture\, and the history of black identity as it triumphs and evolves in the minds of black surfers\, we learn about the power of transcending race as a constructive phenomenon. Discussion following the screening. Panelists include\, Ted Woods\, director; Rick Blocker\, UCSB Alum and founder of BlackSurfing.com; Alison Rose Jefferson\, Cultural Historian and UCSB Doctoral Graduate Student in HIstory; and Peter Neushul\, UCSB Lecturer on the History of Science and Surfing. 78 min.\, English\, USA.\nCO-SPONSORED BY THE CENTER FOR BLACK STUDIES RESEARCH\, THE HISTORY DEPARTMENT\,\nAND THE SURFRIDER FOUNDATION\, ISLA VISTA CHAPTER \nhm 2/2/12
URL:https://www.history.ucsb.edu/events/white-wash/
LOCATION:CA
END:VEVENT
BEGIN:VEVENT
DTSTART;TZID=America/Denver:20120223T000000
DTEND;TZID=America/Denver:20120223T000000
DTSTAMP:20260421T012326
CREATED:20150928T112836Z
LAST-MODIFIED:20150928T112836Z
UID:10001803-1329955200-1329955200@www.history.ucsb.edu
SUMMARY:Nuclear Weapons and Humanity's Future
DESCRIPTION:11th Annual Frank K. Kelly Lecture on Humanity’s Future\nDaniel Ellsberg is America’s best known whistleblower for his role\nin releasing the Pentagon Papers in 1971\, a move that harkened an end\nto U.S. involvement in the Vietnam War and exposed government deceit\nand illegality at the highest levels.\nIn the 1960s\, he became a strategic analyst at the RAND Corporation\nand consultant to the Department of Defense and the White House\,\nspecializing in the command and control of nuclear weapons\, nuclear\nwar plans\, and crisis decisionmaking.\nSince the end of the Vietnam War\, Daniel Ellsberg has\nbeen a lecturer\, writer and activist on the dangers of the nuclear era\nand unlawful interventions. \nThis FREE event is sponsored by the Nuclear Age Peace Foundation.\nAdmission will be on a first-come\, first-served basis. \nhm 1/20/12
URL:https://www.history.ucsb.edu/events/nuclear-weapons-and-humanitys-future/
LOCATION:CA
END:VEVENT
BEGIN:VEVENT
DTSTART;TZID=America/Denver:20120223T000000
DTEND;TZID=America/Denver:20120223T000000
DTSTAMP:20260421T012326
CREATED:20150928T112838Z
LAST-MODIFIED:20150928T112838Z
UID:10002044-1329955200-1329955200@www.history.ucsb.edu
SUMMARY:The Cold War\, Human Rights\, and Self-Determination
DESCRIPTION:During the Cold War countless peoples and movements in both the decolonizing world and the advanced industrial states mobilized under the banner of self-determination and sought to institutionalize its status as a human right in international law.  In this talk\, focusing on the end of European empire in the 1970s\, Professor Simpson explains why self-determination came to have such expansive and potentially disruptive meaning in the post-WWII era\, serving as a short-hand for a wide range of claims to sovereignty.\nBradley Simpson received his Ph.D. in history from Northwestern University in 2003.  He is assistant professor of history and international affairs at Princeton University and the author of ECONOMISTS WITH GUNS: AUTHORITARIAN DEVELOPMENT AND U.S.-INDONESIAN RELATIONS\, which was published by Stanford University Press in 2008.  Professor Simpson is currently working on two book projects\, an international history of the idea self-determination\, and a study of U.S.-Indonesian-international relations during the Suharto era (1966-1998). \nThe talk is sponsored by the Center for Cold War Studies and International History (CCWS) and cosponsored by the Interdisciplinary Humanities Center and by the Orfalea Center for Global and International Studies. \nThe event is free and open to the public.  A brief reception\, with refreshments\, will follow Prof. Simpson’s presentation.  Please join  us for this exciting event! \nhm 2/17/12
URL:https://www.history.ucsb.edu/events/the-cold-war-human-rights-and-self-determination/
LOCATION:CA
END:VEVENT
BEGIN:VEVENT
DTSTART;TZID=America/Denver:20120224T000000
DTEND;TZID=America/Denver:20120224T000000
DTSTAMP:20260421T012326
CREATED:20150928T112835Z
LAST-MODIFIED:20150928T112835Z
UID:10002034-1330041600-1330041600@www.history.ucsb.edu
SUMMARY:Civitates Permixtae: Cicero\, Arendt\, Augustine
DESCRIPTION:This talk is sponsored by the Department of Classics\, the Ancient Mediterranean Studies program\, and the UC Multi-Campus Research Group on Late Antiquity.\njwil 18.i.2012
URL:https://www.history.ucsb.edu/events/civitates-permixtae-cicero-arendt-augustine/
LOCATION:CA
END:VEVENT
BEGIN:VEVENT
DTSTART;TZID=America/Denver:20120224T000000
DTEND;TZID=America/Denver:20120224T000000
DTSTAMP:20260421T012326
CREATED:20150928T112835Z
LAST-MODIFIED:20150928T112835Z
UID:10002036-1330041600-1330041600@www.history.ucsb.edu
SUMMARY:From Material Exchange in Eurasia to Liberating Appropriations in World Art
DESCRIPTION:This talk will be divided into two parts. The first part will give two case studies of material exchange in Eurasia during the first millennium B.C. In the second part the implications of these examples of material exchange for the study of Chinese art will be given\, using illustrations mainly from later Chinese art\, after the introduction of Buddhism into China at the end of the Han dynasty to the early Qing dynasty.\nWang Haicheng is Assistant Professor of Art History at the University of Washington (Seattle).  He earned his MA at Peking University (2000) and PhD at Princeton University (2007). His research focuses on the art and archaeology of early China\, especially on comparative studies between Bronze Age China and other early civilizations. He is also interested in the art and archaeology of the Silk Routes. He has conducted archaeological fieldwork– both excavations and surveys– on both Neolithic and historic-period sites on the Silk Routes. \nThis talk is sponsored by East Asian Languages and Cultural Studies\, Art History & Architectures\, the Ancient Mediterranean Studies program\, the Ancient Borderlands Research Focus Group\, and the Interdisciplinary Humanities Center. \njwil 18.i.2012
URL:https://www.history.ucsb.edu/events/from-material-exchange-in-eurasia-to-liberating-appropriations-in-world-art/
LOCATION:CA
END:VEVENT
BEGIN:VEVENT
DTSTART;TZID=America/Denver:20120226T000000
DTEND;TZID=America/Denver:20120226T000000
DTSTAMP:20260421T012327
CREATED:20150928T112837Z
LAST-MODIFIED:20150928T112837Z
UID:10001815-1330214400-1330214400@www.history.ucsb.edu
SUMMARY:"John Quincy Adams Pimped for the Tsar!" Political Rhetoric in 19th-Century America
DESCRIPTION:Think America’s political discourse is nastier than it’s ever been? Think again. According to History Prof. John Majewski\, the political scene now is downright genteel compared to what it was like in the days when America was young. Come hear what politicos said about each other in that era when Prof. Majewski speaks on “Political Rhetoric in Nineteenth-Century America.”\nWe will meet at noon in the banquet room of Marmalade Restaurant in the La Cumbre Shopping Center (directly across the parking lot from Vons). A buffet lunch of sandwiches and salads will be served prior to Prof. Majewski’s talk. \nOur speaker\, UCSB History department Chair John Majewski\, is a 19th-Century U.S. historian who specializes in Civil War and economic history. He is the author\, most recently\, of Modernizing a Slave Economy: The Economic Imagination of the Confederate Nation (UNC Press\, 2009). \nSponsored by the UCSB History Associates. Please RSVP.\nThe cost is $22 for members\, $25 for non-members. \nhm 2/3/12
URL:https://www.history.ucsb.edu/events/john-quincy-adams-pimped-for-the-tsar-political-rhetoric-in-19th-century-america/
LOCATION:CA
END:VEVENT
END:VCALENDAR