BEGIN:VCALENDAR
VERSION:2.0
PRODID:-//Department of History, UC Santa Barbara - ECPv6.15.12.1//NONSGML v1.0//EN
CALSCALE:GREGORIAN
METHOD:PUBLISH
X-WR-CALNAME:Department of History, UC Santa Barbara
X-ORIGINAL-URL:https://www.history.ucsb.edu
X-WR-CALDESC:Events for Department of History, UC Santa Barbara
REFRESH-INTERVAL;VALUE=DURATION:PT1H
X-Robots-Tag:noindex
X-PUBLISHED-TTL:PT1H
BEGIN:VTIMEZONE
TZID:America/Denver
BEGIN:DAYLIGHT
TZOFFSETFROM:-0700
TZOFFSETTO:-0600
TZNAME:MDT
DTSTART:20080309T090000
END:DAYLIGHT
BEGIN:STANDARD
TZOFFSETFROM:-0600
TZOFFSETTO:-0700
TZNAME:MST
DTSTART:20081102T080000
END:STANDARD
BEGIN:DAYLIGHT
TZOFFSETFROM:-0700
TZOFFSETTO:-0600
TZNAME:MDT
DTSTART:20090308T090000
END:DAYLIGHT
BEGIN:STANDARD
TZOFFSETFROM:-0600
TZOFFSETTO:-0700
TZNAME:MST
DTSTART:20091101T080000
END:STANDARD
BEGIN:DAYLIGHT
TZOFFSETFROM:-0700
TZOFFSETTO:-0600
TZNAME:MDT
DTSTART:20100314T090000
END:DAYLIGHT
BEGIN:STANDARD
TZOFFSETFROM:-0600
TZOFFSETTO:-0700
TZNAME:MST
DTSTART:20101107T080000
END:STANDARD
END:VTIMEZONE
BEGIN:VEVENT
DTSTART;TZID=America/Denver:20091103T000000
DTEND;TZID=America/Denver:20091103T000000
DTSTAMP:20260419T234943
CREATED:20150928T112811Z
LAST-MODIFIED:20150928T112811Z
UID:10001597-1257206400-1257206400@www.history.ucsb.edu
SUMMARY:The  Paradox of Humanitarianism: The League of  Nations' Efforts to Rescue  Trafficked Women and Children in the Middle  East\, 1920-1927
DESCRIPTION:Drawn from Prof. Watenpaugh’s forthcoming book\, Bread from Stone: The Middle East and the Making of Modern Humanitarianism\, this talk  examines\nthe League of Nations’ efforts on behalf of displaced  Armenian\, Greek\, and\nAssyrian women and children in the early  post-World War I period. It\npresents a case in which the rescuing of  trafficked survivors of genocide\nand civil violence–a seemingly  unambiguous good–was at once a\nconstitutive act in drawing the  boundaries of the international community\,\na critical moment in the  definition of humanitarianism\, and a site of\nresistance to the  colonial presence in the post-Ottoman Eastern\nMediterranean. These  efforts helped to bind the international community to\nArmenian  communal survival and served as an ex post facto warrant for the\nWorld  War. They also threatened late-Ottoman ethnic\, religious\, and\ngendered  hierarchies\, and the unalloyed dominance of post-Ottoman society\nby  Turkish and Arabic speaking Sunni Muslims. \nKeith David Watenpaugh is Associate Professor of Modern Islam\, Human\nRights\, and Peace in the Religious Studies program at the University  of\nCalifornia\, Davis. He works on the multiple intersections of the  modern\ninternational human rights regime\, Islam\, and colonialism in  the\n20th-century Arab Middle East. Trained at UCLA\, Prof. Watenpaugh has lived\nand conducted research in Egypt\, Syria\, Lebanon\, Jordan\,  Turkey\, and Iraq.\nHe is the author of Being Modern in the Middle East:  Revolution\,\nNationalism\, Colonialism\, and the Arab Middle Class  (Princeton University\nPress\, 2006) and is now writing a book on  international humanitarian\nefforts and the modern Middle East. \nhm 10/28/09
URL:https://www.history.ucsb.edu/events/the-paradox-of-humanitarianism-the-league-of-nations-efforts-to-rescue-trafficked-women-and-children-in-the-middle-east-1920-1927/
LOCATION:CA
END:VEVENT
BEGIN:VEVENT
DTSTART;TZID=America/Denver:20091104T000000
DTEND;TZID=America/Denver:20091104T000000
DTSTAMP:20260419T234943
CREATED:20150928T112809Z
LAST-MODIFIED:20150928T112809Z
UID:10001721-1257292800-1257292800@www.history.ucsb.edu
SUMMARY:Environment Now: The Rebirth of  Environmentalism
DESCRIPTION:The 2009-10 Critical Issues in American topic is “Forty Years after the Big Spill – Looking Back\, Looking Ahead: 21st Century Environmental Challenges\nin a Global Context.” Led by Dehlsen Professor of Environmental Studies\nWilliam Freudenberg and supported by Water Policy Program Director Robert\nWilkinson\, the program references an historical benchmark – for the campus\nas well as the nation – and addresses a breadth of environmental challenges\nfor the 21st century with a strong\, interdisciplinary group of core faculty\nand key collaborators. \nhm 10/4/09
URL:https://www.history.ucsb.edu/events/environment-now-the-rebirth-of-environmentalism/
LOCATION:CA
END:VEVENT
BEGIN:VEVENT
DTSTART;TZID=America/Denver:20091106T000000
DTEND;TZID=America/Denver:20091106T000000
DTSTAMP:20260419T234943
CREATED:20150928T112809Z
LAST-MODIFIED:20150928T112809Z
UID:10001728-1257465600-1257465600@www.history.ucsb.edu
SUMMARY:Shaping Max Weber and W.E.B. Du Bois: Scholarship\, Politics\, and Protection
DESCRIPTION:Christopher McAuley’s The Mind of Oliver C. Cox appeared in 2004. He is writing a comparative study of the politics and scholarship of Max Weber and W.E.B. Du Bois\, a portion of which is the subject of his talk.\nThis talk is sponsored by the Center for Work\, Labor\, and Democracy.  For more information contact Leah Fernandez. \njwil 01.x.2009
URL:https://www.history.ucsb.edu/events/shaping-max-weber-and-w-e-b-du-bois-scholarship-politics-and-protection/
LOCATION:CA
END:VEVENT
BEGIN:VEVENT
DTSTART;TZID=America/Denver:20091106T000000
DTEND;TZID=America/Denver:20091106T000000
DTSTAMP:20260419T234943
CREATED:20150928T112810Z
LAST-MODIFIED:20150928T112810Z
UID:10001744-1257465600-1257465600@www.history.ucsb.edu
SUMMARY:Excavations at the Burial Tumulus of Lofkënd in Albania
DESCRIPTION:Between 2004 and 2008 UCLA archaeologists and their Albanian collaborators excavated one of the last remaining undisturbed prehistoric burial mounds in Albania. Dating from the Late Bronze and Early Iron Age (ca. 14th – 9th centuries B.C.)\, the cemetery yielded 100 graves and numerous spectacular finds in bronze\, gold\, iron\, clay\, semi-precious stone\, and glass. This presentation tells the story of the excavation of the tumulus\, as well as the survey around it\, the reconstruction of the mound at the end of the project\, and its ramifications for the prehistory of Europe.\nThis event is sponsored by the Archaeology and Ancient Borderlands Research Focus Groups. \njwil 04.x.2009
URL:https://www.history.ucsb.edu/events/excavations-at-the-burial-tumulus-of-lofkend-in-albania/
LOCATION:CA
END:VEVENT
BEGIN:VEVENT
DTSTART;TZID=America/Denver:20091106T000000
DTEND;TZID=America/Denver:20091106T000000
DTSTAMP:20260419T234943
CREATED:20150928T112811Z
LAST-MODIFIED:20150928T112811Z
UID:10001601-1257465600-1257465600@www.history.ucsb.edu
SUMMARY:Getting Hitched in Heian Kyoto: Investigating Marriage in Classical Japan
DESCRIPTION:Marriage in Heian era (794-1192) Japan differed greatly from modern forms and makes an excellent subject for the comparative study of gender relations. Prof. Piggot explores the subject\, basing her talk on a wide range of sources of the day\, and in particular the Shinsarugakuki\, a humorous account of carnival and family ties by the scholar\, Fujiwara Akihira (?-1066).\nJoan Piggott is Gordon L. MacDonald Professor of History and Director of the Project for Pre-modern Japan Studies at the University of Southern California. \njwil 29.xi.09
URL:https://www.history.ucsb.edu/events/getting-hitched-in-heian-kyoto-investigating-marriage-in-classical-japan/
LOCATION:CA
END:VEVENT
BEGIN:VEVENT
DTSTART;TZID=America/Denver:20091109T000000
DTEND;TZID=America/Denver:20091109T000000
DTSTAMP:20260419T234943
CREATED:20150928T112811Z
LAST-MODIFIED:20150928T112811Z
UID:10001604-1257724800-1257724800@www.history.ucsb.edu
SUMMARY:A Nuclear Winter's Tale: Science and Politics in the 1980s
DESCRIPTION:The Center for Science in Society and the Center for Cold War Studies and International  History (CCWS) are jointly hosting this event in the Lawrence\nBadash Distinguished Lecture Series. \nLawrence Badash\, professor emeritus of the history of science at UCSB\, will talk about his new book\, A  NUCLEAR WINTER’S TALE: SCIENCE AND POLITICS IN THE 1980s\, published by MIT Press.  Fuller descriptions of the book and the author are appended below. \nAfter making his presentation\, Prof. Badash will lead a discussion.\nFor this purpose he has kindly made available the first chapter of the\nbook\, which all attendees are invited to read in advance.  The chapter\nhas been uploaded to the Web and is available via the following url: \nhttp://www.history.ucsb.edu/projects/ccws/papers/\nPlease contact the CCWS for the\nLogin:\nPassword:  \nAbout the Book: \nThe nuclear winter phenomenon burst upon the public’s consciousness in\n1983. Added to the horror of a nuclear war’s immediate effects was the\nfear that the smoke from fires ignited by the explosions would block\nthe sun\, creating an extended “winter” that might kill more people\nworldwide than the initial nuclear strikes. In A NUCLEAR WINTER’S\nTALE\, Lawrence Badash maps the rise and fall of the science of nuclear\nwinter\, examining research activity\, the popularization of the\nconcept\, and the Reagan-era politics that combined to influence policy\nand public opinion. \nBadash traces the several sciences (including studies of volcanic\neruptions\, ozone depletion\, and dinosaur extinction) that merged to\nallow computer modeling of nuclear winter and its development as a\nscientific specialty. He places this in the political context of the\nReagan years\, discussing congressional interest\, media attention\, the\nadministration’s plans for a research program\, and the Defense\nDepartment’s claims that the arms buildup underway would prevent\nnuclear war\, and thus nuclear winter. \nA NUCLEAR WINTER’S TALE tells an important story but also provides a\nuseful illustration of the complex relationship between science and\nsociety. It examines the behavior of scientists in the public arena\nand in the scientific community\, and raises questions about the\nproblems faced by scientific Cassandras\, the implications when\nscientists go public with worst-case scenarios\, and the timing of\ngovernment reaction to startling scientific findings. \nAbout the Author: \nLawrence Badash is Professor Emeritus of History of Science at the\nUniversity of California\, Santa Barbara. He is author and co-author of\nnumerous books and articles on the history of science and technology\,\nincluding KAPITZA\, RUTHERFORD\, AND THE KREMLIN (1985) and SCIENTISTS\nAND THE DEVELOPMENT OF NUCLEAR WEAPONS: FROM FISSION TO THE LIMITED\nTEST BAN TREATY\, 1939-1963 (1995). \nhm 11/3/09
URL:https://www.history.ucsb.edu/events/a-nuclear-winters-tale-science-and-politics-in-the-1980s/
LOCATION:CA
END:VEVENT
BEGIN:VEVENT
DTSTART;TZID=America/Denver:20091109T000000
DTEND;TZID=America/Denver:20091109T000000
DTSTAMP:20260419T234943
CREATED:20150928T112811Z
LAST-MODIFIED:20150928T112811Z
UID:10001606-1257724800-1257724800@www.history.ucsb.edu
SUMMARY:The Taste of the Enemy: Food and Warfare in Asia\, 1937-1953
DESCRIPTION:Dr. Katarzyna Cwiertka is Europe’s premier expert on food culture in modern Japan. She is the author of three books\, including Modern Japanese Cuisine: Food\, Power and National Identity\, Kaiseki Recipes: Secrets of Japanese Cuisine\, and Asian Food: the Global and the Local. Along with the landscape\, climate and language\, food constitutes the most immediate articulation of the unfamiliar for soldiers fighting on a foreign soil. By tracing subsistence channels of the Japanese\, American and Korean forces\, this talk seeks to identify the relationships that developed during the 1940s and early 1950s between the military and the civilian populations.\nSponsored by the IHC’s Food Studies RFG\, the IHC’s East Asian Cultures RFG\, the East Asia Center\, the Dept. of East Asian Languages and Cultural Studies\, the History Dept. and the IHC. \njwil 03.xi.2009
URL:https://www.history.ucsb.edu/events/the-taste-of-the-enemy-food-and-warfare-in-asia-1937-1953/
LOCATION:CA
END:VEVENT
BEGIN:VEVENT
DTSTART;TZID=America/Denver:20091110T000000
DTEND;TZID=America/Denver:20091110T000000
DTSTAMP:20260419T234943
CREATED:20150928T112810Z
LAST-MODIFIED:20150928T112810Z
UID:10001736-1257811200-1257811200@www.history.ucsb.edu
SUMMARY:Learning the Lessons of the Exxon Valdez  Oil Spill
DESCRIPTION:The 2009-10 Critical Issues in American topic is “Forty Years after the Big Spill – Looking Back\, Looking Ahead: 21st Century Environmental Challenges\nin a Global Context.” Led by Dehlsen Professor of Environmental Studies\nWilliam Freudenberg and supported by Water Policy Program Director Robert\nWilkinson\, the program references an historical benchmark – for the campus\nas well as the nation – and addresses a breadth of environmental challenges\nfor the 21st century with a strong\, interdisciplinary group of core faculty\nand key collaborators. \nRiki Ott is the author of:\nNot One Drop – Betrayal and Courage in the Wake of the Exxon Valdez Oil Spill\nThis book illustrates in stirring fashion the oil industry’s 20-year trail of pollution and deception that lead to the tragic 1989 spill and delves deep into the disruption to the fishing community for the next 10 years.  \nSound Truth & Corporate Myth$ – The Legacy of the Exxon Valdez Oil Spill\nThis book exposes oil as a human and environmental health hazard\, based on stories of key witnesses and participants in the environmental tragedy that struck Prince William Sound in 1989. 2005 finalist for the Benjamin Franklin Book Award in Science and Environment.  \nhm 10/4/09
URL:https://www.history.ucsb.edu/events/learning-the-lessons-of-the-exxon-valdez-oil-spill/
LOCATION:CA
END:VEVENT
BEGIN:VEVENT
DTSTART;TZID=America/Denver:20091111T000000
DTEND;TZID=America/Denver:20091111T000000
DTSTAMP:20260419T234943
CREATED:20150928T112810Z
LAST-MODIFIED:20150928T112810Z
UID:10001750-1257897600-1257897600@www.history.ucsb.edu
SUMMARY:Film screening "The Promise" (1995)
DESCRIPTION:East Berlin\, 1961: shortly after the Berlin Wall goes up\, four friends make a daring escape while one remains behind. For the next 28 years (until 1989) they try to meet …\nDirected by Margarethe von Trotta\, 115 mins. \nhm 10/27/09
URL:https://www.history.ucsb.edu/events/film-screening-the-promise-1995/
LOCATION:CA
END:VEVENT
BEGIN:VEVENT
DTSTART;TZID=America/Denver:20091112T000000
DTEND;TZID=America/Denver:20091112T000000
DTSTAMP:20260419T234943
CREATED:20150928T112811Z
LAST-MODIFIED:20150928T112811Z
UID:10001599-1257984000-1257984000@www.history.ucsb.edu
SUMMARY:‘Galileo\, the Universe\, and God': UCSB Science and Humanities Faculty to Discuss Legacy of Galileo and his Astronomical Discoveries
DESCRIPTION:The intersection between religion and science and Galileo’s scientific and intellectual legacies will be the subject of “Galileo\, the Universe\, and God\,” an interdisciplinary event organized by a group of UC Santa Barbara science and humanities faculty that will take place on Thursday\, November 12\, at the Santa Barbara Museum of Natural History. The event\, which is open to the public\, also celebrates the International Year of Astronomy\, designated by the United Nations and the International Astronomical Union to commemorate Galileo’s first telescopic discoveries in 1609. It will feature a theatrical performance and presentations on history\, art\, and the future of astronomy\, including current developments in telescopes connected to the University of California and UCSB.\n“Galileo\, the Universe\, and God” was conceived by Tommaso Treu\, associate professor of physics and an astronomer\, and Stefania Tutino\, associate professor of religious studies and of history\, in collaboration with Jon Snyder\, professor of Italian studies. \nTo put the contemporary telescopes in historical perspective\, history professor Patrick McCray will discuss the history of the telescope. Complementing the presentations on history and astronomy will be discussions of Renaissance art\, by Robert Williams; and the literary value of Galileo’s writing\, by Snyder. One of the highlights of the evening will be a performance of scenes from Bertolt Brecht’s “Galileo” by Irwin Appel\, actor\, director\, and professor of theater. \nTickets to the event\, which begins at 7 p.m.\, are $8 for museum members and $10 for non-members\, and are on sale at the museum\, 2559 Puesta del Sol\, Santa Barbara\, or online at www.sbnature.org.
URL:https://www.history.ucsb.edu/events/galileo-the-universe-and-god-ucsb-science-and-humanities-faculty-to-discuss-legacy-of-galileo-and-his-astronomical-discoveries/
LOCATION:CA
END:VEVENT
BEGIN:VEVENT
DTSTART;TZID=America/Denver:20091113T000000
DTEND;TZID=America/Denver:20091113T000000
DTSTAMP:20260419T234943
CREATED:20150928T112808Z
LAST-MODIFIED:20150928T112808Z
UID:10001716-1258070400-1258070400@www.history.ucsb.edu
SUMMARY:Festschrift presentation in honor of Prof.  Humphreys
DESCRIPTION:On October 13\, 2007\, thirteen of Professor R. Stephen Humphreys’  former graduate students at the University of Chicago\, the University of Wisconsin\, Madison\, and the University of California\, Santa Barbara delivered papers at a Festschrift conference in his honor at the College of St. Benedict in St. Joseph\, Minnesota.\nThe papers  from the conference have been edited by Jim Lindsay (Wisconsin\, 1994) and Jon Armajani (UCSB\, 1998)\, and will be published in Historical Dimensions of Islam: Essays in Honor of R. Stephen Humphreys (Princeton: Darwin Press\, Fall 2009). (publisher’s book page). \nAfter opening comments from the editors\, the Festschrift participants and members of Steve’s family who are in attendance will be invited to speak. After those remarks\, Prof. Humphreys will offer some concluding comments. \nThe 6 contributors who have indicated they will  be coming are: \n1.    Jon Armajani (College of St. Benedict) \n2.    Anna Bigelow (North Carolina State) \n3.    Linda Darling (University of Arizona) \n4.    Rachel Howes (California State-Northridge) \n5.    Jim Lindsay (Colorado State) \n6.    Nancy Stockdale (University of North Texas) \nWe will conclude with a formal presentation of the Festschrift to Prof. Humphreys. \nWe hope to see many of you at the Festschrift presentation ceremony! \nJames E. Lindsay\nAssociate Professor of Middle East History\nDepartment of History\nColorado State University\nFort Collins\, CO  80523-1776 \nhm 8/30/09\, 10/14/09
URL:https://www.history.ucsb.edu/events/festschrift-presentation-in-honor-of-prof-humphreys/
LOCATION:CA
END:VEVENT
BEGIN:VEVENT
DTSTART;TZID=America/Denver:20091115T000000
DTEND;TZID=America/Denver:20091115T000000
DTSTAMP:20260419T234943
CREATED:20150928T112809Z
LAST-MODIFIED:20150928T112809Z
UID:10001725-1258243200-1258243200@www.history.ucsb.edu
SUMMARY:Artisans of Ancient China
DESCRIPTION:In viewing objects like those found at Mawangdui\, their anonymous creators generally remain in obscurity.  This lecture focuses on these oft forgotten individuals\, the men and women who crafted objects in private workshops and government factories during the Han Dynasty of China (202 BCE-220 CE).  Among the topics to be discussed are artisan training\, societal perception\, tools and techniques\, and marketing. Special attention will be given to lacquer workshops and artisans\, like those that produced the beautiful pieces in the current exhibition.\nLecturer Anthony Barbieri-Low is Associate Professor of Ancient China\, Chinese Archaeology\, and Epigraphy in the Department of History at UCSB. \nThis event description is excerpted from the web page of the Santa Barbara Museum of Art’s special exhibition web page on The Noble Tombs at Mawandui.  For more information visit the Santa Barbara Museum of Art web site\, or call the Museum at 805.963.4364. \njwil 29.ix.2009
URL:https://www.history.ucsb.edu/events/artisans-of-ancient-china/
LOCATION:CA
END:VEVENT
BEGIN:VEVENT
DTSTART;TZID=America/Denver:20091116T000000
DTEND;TZID=America/Denver:20091116T000000
DTSTAMP:20260419T234943
CREATED:20150928T112811Z
LAST-MODIFIED:20150928T112811Z
UID:10001612-1258329600-1258329600@www.history.ucsb.edu
SUMMARY:From Cooperative Wineries to Fair-Trade Wine: Small Wine Producers in Twentieth Century Chile
DESCRIPTION:This talk explores the history of cooperative wineries in Chile\, from their foundation in 1929 to the beginning of the process of AgrarianReform in 1964. While the Chilean state envisioned rural cooperatives as a mechanism to modernize the countryside and help impoverished\nsmall landowners\, the project’s implementation had major flaws. The cooperative project did not attempt to transform social and economic\nstructures in the countryside or to challenge the unequal relation between large-scale and small producers. In the long run\, traditional\nand large-scale wineries and not cooperatives became the engine of the modernization of the Chilean countryside. \njwil 13.xi.2009
URL:https://www.history.ucsb.edu/events/from-cooperative-wineries-to-fair-trade-wine-small-wine-producers-in-twentieth-century-chile/
LOCATION:CA
END:VEVENT
BEGIN:VEVENT
DTSTART;TZID=America/Denver:20091117T000000
DTEND;TZID=America/Denver:20091117T000000
DTSTAMP:20260419T234943
CREATED:20150928T112811Z
LAST-MODIFIED:20150928T112811Z
UID:10001614-1258416000-1258416000@www.history.ucsb.edu
SUMMARY:Colossus: The   Forbin Project
DESCRIPTION:“Colossus: The Forbin Project”\nAt the height of the Cold War\, the United States develops an enormous\ncomputer system in a top secret underground facility.  The machine’s\nsingle purpose is to keep America (and the planet) safe from nuclear\nwar.  The country’s entire arsenal is placed at its disposal.  As soon\nas the machine\, known as Colossus\, is brought online\, it learns that\nRussia might also be developing a large computer installation.\nColossus demands a network link to establish contact with this other\nartificial intelligence\, and gets it by threatening the humans with\ntheir own arsenal. \nOnce connected\, the two machines use the universal language of\nmathematics to establish a means of communicating with one another.\nThey quickly surpass human understanding and arrive at a conclusion:\nin order for the world to be a safe and peaceful place\, the humans\ncannot control it.  The machines then systematically revoke control of\neverything from the humans\, placing the entire planet under a new form\nof military dictatorship. \nhm11/17/09
URL:https://www.history.ucsb.edu/events/colossus-the-forbin-project/
LOCATION:CA
END:VEVENT
BEGIN:VEVENT
DTSTART;TZID=America/Denver:20091119T000000
DTEND;TZID=America/Denver:20091119T000000
DTSTAMP:20260419T234943
CREATED:20150928T112810Z
LAST-MODIFIED:20150928T112810Z
UID:10001751-1258588800-1258588800@www.history.ucsb.edu
SUMMARY:Film screening "Goodbye Lenin!" (2003)
DESCRIPTION:East Germany\, 1989: While a young man goes to the Oct. 3 40th anniversary ceremonies to protest\, his mother suffers a heart attack and falls into coma as she watches the police arrest him. The mother awakens months later\, when East Germany no longer exists. To avoid unduly exciting her\, her son tries to set up the GDR in her apartment. Ostalgie with a twist.\nDirected by Wolfgang Becker\, 121 mins. \nhm 10/27/09
URL:https://www.history.ucsb.edu/events/film-screening-goodbye-lenin-2003/
LOCATION:CA
END:VEVENT
BEGIN:VEVENT
DTSTART;TZID=America/Denver:20091120T000000
DTEND;TZID=America/Denver:20091120T000000
DTSTAMP:20260419T234943
CREATED:20150928T112809Z
LAST-MODIFIED:20150928T112809Z
UID:10001729-1258675200-1258675200@www.history.ucsb.edu
SUMMARY:"New Capitalism:" Rights\, Expectations\, and Fairness in the New Era Economy
DESCRIPTION:Mark Hendrickson’s research focuses on labor\, public policy\, capitalism and political economy in early twentieth century U.S. History.  He has held fellowships from the Social Science Research Council\, Aspen Institute\, and the Institute for Labor and Employment Studies. He took his PhD in History at UCSB in 2004.\nThis talk is sponsored by the Center for Work\, Labor\, and Democracy.  For more information contact Leah Fernandez. \njwil 01.x.2009
URL:https://www.history.ucsb.edu/events/new-capitalism-rights-expectations-and-fairness-in-the-new-era-economy/
LOCATION:CA
END:VEVENT
BEGIN:VEVENT
DTSTART;TZID=America/Denver:20091123T000000
DTEND;TZID=America/Denver:20091123T000000
DTSTAMP:20260419T234943
CREATED:20150928T112811Z
LAST-MODIFIED:20150928T112811Z
UID:10001608-1258934400-1258934400@www.history.ucsb.edu
SUMMARY:Mawangdui as a Pictorial Site of Transition
DESCRIPTION:No archaeological discoveries have provided more striking examples that demonstrate the excellence of early Chinese pictorial art than those at Mawangdui\, dated to the second century B.C.E. However\, scholars have exclusively focused on the famous T-banner from Tomb No. 1\, ignoring the pictorial context in which it was situated. To amend the imbalanced scholarship\, Professor Tseng will consider precisely the pictorial context for the deceased at Mawangdui in her talk\, including the T-banner and three decorated coffins. Based on the analysis of overlapping motifs\, Professor Tseng will discuss how the presence of images turned the containers of the corpse into a site of transition\, &nbsp&nbsp&nbsp&nbsp&nbsp&nbsp&nbsp&nbsp&nbsp&nbsp&nbsp&nbsp&nbsp&nbsp&nbsp&nbsp&nbsp&nbsp&nbsp&nbsp&nbsp&nbsp&nbsp&nbsp&nbsp&nbsp&nbsp&nbsp&nbsp&nbsp&nbsp&nbsp&nbsp&nbsp&nbsp&nbsp&nbsp&nbsp&nbsp&nbsp&nbsp&nbsp&nbsp&nbsp&nbsp&nbsp&nbsp&nbsp&nbsp&nbsp&nbsp&nbsp&nbsp&nbsp&nbsp&nbsp&nbsp&nbsp&nbsp&nbsp&nbsp&nbsp&nbsp&nbsp&nbsp&nbsp&nbsp&nbsp&nbsp&nbsp&nbsp&nbsp&nbsp&nbsp&nbsp&nbsp&nbsp&nbsp&nbsp&nbsp&nbsp&nbsp&nbsp&nbsp&nbsp&nbsp&nbsp&nbsp&nbsp&nbsp&nbsp&nbsp&nbsp&nbsp&nbsp&nbsp&nbsp&nbsp&nbsp&nbsp&nbsp&nbsp&nbsp&nbsp&nbsp facilitating the celestial ascent of the deceased.\nProfessor Lillian Lan-ying Tseng is Associate Professor in the Department of the History of Art\, Yale University.   \nThis lecture is part of the “Thinking through Media” lecture series organized by the Department of the History of Art and Architecture\, UCSB\, and is co-sponsored by the Departments of History\, East Asian Languages and Cultural Studies\, the East Asian Center\, the IHC\, and the WTF fund. \njwil 09.xi.09
URL:https://www.history.ucsb.edu/events/mawangdui-as-a-pictorial-site-of-transition/
LOCATION:CA
END:VEVENT
BEGIN:VEVENT
DTSTART;TZID=America/Denver:20091123T000000
DTEND;TZID=America/Denver:20091123T000000
DTSTAMP:20260419T234943
CREATED:20150928T112811Z
LAST-MODIFIED:20150928T112811Z
UID:10001610-1258934400-1258934400@www.history.ucsb.edu
SUMMARY:"Kill Happy"?: Understanding Military Amphetamine Use by the Allies in the Second World War
DESCRIPTION:That amphetamine was used on all sides in the Second World War is widely acknowledged but little discussed by historians.  Drawing on a range of primary sources Professor Rasmussen describes the ways British and American authorities evaluated amphetamine\, and ultimately approved and issued the drug for use in combat despite a failure to obtain the scientific justification that had originally been sought.  He argues that it is necessary to consider this adoption of amphetamine in the context of wartime psychiatric thinking about ‘combat fatigue’ and morale\, and that viewed in this broader context\, the drug was approved and tacitly employed by the Allies mainly because of its mood-altering rather than its waking effects.  Much more  work on the common soldier’s experience of the drug needs to be done through the study of wartime diaries and letters.\nNicolas Rasmussen is Associate Professor of History and Philosophy of Science at the University of New South Wales (Sydney\, Australia). \njwil 11.xi.2009
URL:https://www.history.ucsb.edu/events/kill-happy-understanding-military-amphetamine-use-by-the-allies-in-the-second-world-war/
LOCATION:CA
END:VEVENT
END:VCALENDAR