BEGIN:VCALENDAR
VERSION:2.0
PRODID:-//Department of History, UC Santa Barbara - ECPv6.15.12.1//NONSGML v1.0//EN
CALSCALE:GREGORIAN
METHOD:PUBLISH
X-WR-CALNAME:Department of History, UC Santa Barbara
X-ORIGINAL-URL:https://www.history.ucsb.edu
X-WR-CALDESC:Events for Department of History, UC Santa Barbara
REFRESH-INTERVAL;VALUE=DURATION:PT1H
X-Robots-Tag:noindex
X-PUBLISHED-TTL:PT1H
BEGIN:VTIMEZONE
TZID:America/Denver
BEGIN:DAYLIGHT
TZOFFSETFROM:-0700
TZOFFSETTO:-0600
TZNAME:MDT
DTSTART:20080309T090000
END:DAYLIGHT
BEGIN:STANDARD
TZOFFSETFROM:-0600
TZOFFSETTO:-0700
TZNAME:MST
DTSTART:20081102T080000
END:STANDARD
BEGIN:DAYLIGHT
TZOFFSETFROM:-0700
TZOFFSETTO:-0600
TZNAME:MDT
DTSTART:20090308T090000
END:DAYLIGHT
BEGIN:STANDARD
TZOFFSETFROM:-0600
TZOFFSETTO:-0700
TZNAME:MST
DTSTART:20091101T080000
END:STANDARD
BEGIN:DAYLIGHT
TZOFFSETFROM:-0700
TZOFFSETTO:-0600
TZNAME:MDT
DTSTART:20100314T090000
END:DAYLIGHT
BEGIN:STANDARD
TZOFFSETFROM:-0600
TZOFFSETTO:-0700
TZNAME:MST
DTSTART:20101107T080000
END:STANDARD
END:VTIMEZONE
BEGIN:VEVENT
DTSTART;TZID=America/Denver:20090205T000000
DTEND;TZID=America/Denver:20090205T000000
DTSTAMP:20260424T201558
CREATED:20150928T112800Z
LAST-MODIFIED:20150928T112800Z
UID:10001509-1233792000-1233792000@www.history.ucsb.edu
SUMMARY:The Wolf and the Dragon: Empire in Ancient Rome and China
DESCRIPTION:Anthony Barbieri-Low (UCSB) will provide a response to Professor Scheidel’s talk.\nThis event is part of the core seminar of the UCSB Ancient Borderlands Research Focus Group.  For more information\, visit the web page of the RFG. \njwil 23.i.09
URL:https://www.history.ucsb.edu/events/the-wolf-and-the-dragon-empire-in-ancient-rome-and-china/
LOCATION:CA
END:VEVENT
BEGIN:VEVENT
DTSTART;TZID=America/Denver:20090205T000000
DTEND;TZID=America/Denver:20090205T000000
DTSTAMP:20260424T201558
CREATED:20150928T112800Z
LAST-MODIFIED:20150928T112800Z
UID:10001620-1233792000-1233792000@www.history.ucsb.edu
SUMMARY:Taking Games Seriously
DESCRIPTION:Historians documenting the expanding influences of ʻsystems thinkingʼ in the UnitedStates during the Cold War period have emphasized the role of computers in spreading the\ngospel of systems to professional audiences while neglecting another simulation technology in\nbroader use. This presentation will examine efforts to teach systems analysis to the\ncommunities served by the federally-organized Model Cities program of the 1960s and 1970s\nusing that overlooked innovation: operational games. The story of the Model Cities games\nsuggests new directions for the history and historiography of systems analysis and simulation. \nJennifer S. Light is Associate Professor of Communication Studies\, History\, and Sociology\, and\nDirector of the Media\, Technology and Society PhD program at Northwestern University. She is\nthe author of two books: From Warfare to Welfare: Defense Intellectuals and Urban Problems\nin Cold War America  (2003) and The Nature of Cities: Ecological Visions and the American\nUrban Professions\,1920-1960  (2009)\, both with Johns Hopkins University Press. \nThis event is made possible with support from the History of Science\, Technology\,\nMedicine\, and Environment Program (Badash Fund) and the Center for Spatial Studies. \njwil 05.i.09
URL:https://www.history.ucsb.edu/events/taking-games-seriously/
LOCATION:CA
END:VEVENT
BEGIN:VEVENT
DTSTART;TZID=America/Denver:20090211T000000
DTEND;TZID=America/Denver:20090211T000000
DTSTAMP:20260424T201558
CREATED:20150928T112801Z
LAST-MODIFIED:20150928T112801Z
UID:10001623-1234310400-1234310400@www.history.ucsb.edu
SUMMARY:The Social Life of Muslim Women's Human Rights
DESCRIPTION:The Journal of Middle East Women’s Studies Distinguished Lecture\nThe concept of “Muslim women’s rights” has an extraordinarily active social life these days. It circulates across continents. It travels in and out of classrooms and government policy offices; UN forums in New York and Geneva and local women’s organizations in places like Egypt\, Malaysia\, and Palestine; racy television soap operas and sober mosque study groups; popular novels recognizable by the veiled women stamped on their covers and innovative model marriage contracts developed by Muslim feminists seeking equity within the religious tradition. What do we make of this intense concern with “Muslim women’s rights” and what do we make of its promiscuous travels? “Women’s rights” mean different things to women living complicated lives in villages and urban lawyers drawing seamlessly on the authority of CEDAW. What can we learn from tracking “rights talk\,” as an anthropologist would\, into everyday lives? \nLila Abu-Lughod is the Joseph L. Buttenwieser Professor of Social Science at Columbia University. \nThe event is sponsored by the Journal for Middle East Women’s Studies\, the UCSB Center for Middle East Studies\, UCSB Department of Feminist Studies\, UCSB Department of History\, the UCSB Divisions of Social Sciences and Humanities\,  the UCSB Interdisciplinary Humanities Center\, the UCLA Center for the Study of Women\, the UCLA Center for Near Eastern Studies\, the UCLA Department of Women’s Studies\, and the UCLA Dean of Social Sciences. \nFor more information contact Laura Pollick (telephone 893-4245). \njwil 08.ii.2009
URL:https://www.history.ucsb.edu/events/the-social-life-of-muslim-womens-human-rights/
LOCATION:CA
END:VEVENT
BEGIN:VEVENT
DTSTART;TZID=America/Denver:20090212T000000
DTEND;TZID=America/Denver:20090212T000000
DTSTAMP:20260424T201558
CREATED:20150928T112801Z
LAST-MODIFIED:20150928T112801Z
UID:10001630-1234396800-1234396800@www.history.ucsb.edu
SUMMARY:The Theory of the State in Machiavelli's Political Philosophy
DESCRIPTION:This event is sponsored by the Renaissance Studies Program.\njwil 11.ii.09
URL:https://www.history.ucsb.edu/events/the-theory-of-the-state-in-machiavellis-political-philosophy/
LOCATION:CA
END:VEVENT
BEGIN:VEVENT
DTSTART;TZID=America/Denver:20090212T000000
DTEND;TZID=America/Denver:20090212T000000
DTSTAMP:20260424T201558
CREATED:20150928T112801Z
LAST-MODIFIED:20150928T112801Z
UID:10001624-1234396800-1234396800@www.history.ucsb.edu
SUMMARY:The Seal of the Vision is Sealed from You: Esotericism and Identity in the Dead Sea Scrolls
DESCRIPTION:This talk is sponsored by the IHC Ancient Borderlands Research Focus Group.\nFor more information\, contact Christine Thomas. \njwil 09.ii.2009
URL:https://www.history.ucsb.edu/events/the-seal-of-the-vision-is-sealed-from-you-esotericism-and-identity-in-the-dead-sea-scrolls/
LOCATION:CA
END:VEVENT
BEGIN:VEVENT
DTSTART;TZID=America/Denver:20090217T000000
DTEND;TZID=America/Denver:20090217T000000
DTSTAMP:20260424T201558
CREATED:20150928T112801Z
LAST-MODIFIED:20150928T112801Z
UID:10001512-1234828800-1234828800@www.history.ucsb.edu
SUMMARY:Affective Communities: The Construction of State and Nations in the Russian Empire
DESCRIPTION:Sponsored by the IHC research focus group on Identity Studies.\njwil 06.ii.09
URL:https://www.history.ucsb.edu/events/affective-communities-the-construction-of-state-and-nations-in-the-russian-empire/
LOCATION:CA
END:VEVENT
BEGIN:VEVENT
DTSTART;TZID=America/Denver:20090218T000000
DTEND;TZID=America/Denver:20090218T000000
DTSTAMP:20260424T201558
CREATED:20150928T112801Z
LAST-MODIFIED:20150928T112801Z
UID:10001633-1234915200-1234915200@www.history.ucsb.edu
SUMMARY:"Gladiator": Film and Discussion
DESCRIPTION:Following the film\, Professor Drake will lead a discussion about Roman history.  Refreshments will be available.\nFor more information contact Phi Alpha Theta president Jason Smith. \njwil 16.ii.09
URL:https://www.history.ucsb.edu/events/gladiator-film-and-discussion/
LOCATION:CA
END:VEVENT
BEGIN:VEVENT
DTSTART;TZID=America/Denver:20090220T000000
DTEND;TZID=America/Denver:20090220T000000
DTSTAMP:20260424T201558
CREATED:20150928T112801Z
LAST-MODIFIED:20150928T112801Z
UID:10001631-1235088000-1235088000@www.history.ucsb.edu
SUMMARY:Social Movements\, Social Rights\, and the Courts in South Africa and the USA
DESCRIPTION:This talk is sponsored by the Center for the Study of Work\, Labor\, and Democracy and the Policy History Program. \njwil 13.ii.09
URL:https://www.history.ucsb.edu/events/social-movements-social-rights-and-the-courts-in-south-africa-and-the-usa/
LOCATION:CA
END:VEVENT
BEGIN:VEVENT
DTSTART;TZID=America/Denver:20090220T000000
DTEND;TZID=America/Denver:20090220T000000
DTSTAMP:20260424T201558
CREATED:20150928T112802Z
LAST-MODIFIED:20150928T112802Z
UID:10001644-1235088000-1235088000@www.history.ucsb.edu
SUMMARY:Wal-Mart's Long March to China: How a Mid-American Retailer Came to Stake its Future on the Chinese Economy
DESCRIPTION:The Commodities and Markets research  group will meet on Friday\, February 20\, from noon-1pm in HSSB 4041\, to discuss Nelson Lichtenstein’s paper\, entitled “Wal-Mart’s Long March to China: How a Mid-American Retailer Came to Stake its Future on the Chinese Economy.”  Nelson will give a short introduction but we will spend most of the hour discussing the paper.  All are  welcome.\nYou can contact Lisa Jacobson\, jacobson@history.ucsb.edu\, for a copy of the paper. \nhm 2/19/09
URL:https://www.history.ucsb.edu/events/wal-marts-long-march-to-china-how-a-mid-american-retailer-came-to-stake-its-future-on-the-chinese-economy/
LOCATION:CA
END:VEVENT
BEGIN:VEVENT
DTSTART;TZID=America/Denver:20090223T000000
DTEND;TZID=America/Denver:20090223T000000
DTSTAMP:20260424T201558
CREATED:20150928T112801Z
LAST-MODIFIED:20150928T112801Z
UID:10001627-1235347200-1235347200@www.history.ucsb.edu
SUMMARY:The Power of Disengagement: The Idea of Hermit Life in Early China
DESCRIPTION:Sponsored by the Department of East Asian Languages and Cultural Studies\, the East Asia Center\, and the IHC East Asian Cultures Research Focus Group.\nFor more information call 805.893.3907. \njwil 10.ii.2009
URL:https://www.history.ucsb.edu/events/the-power-of-disengagement-the-idea-of-hermit-life-in-early-china/
LOCATION:CA
END:VEVENT
BEGIN:VEVENT
DTSTART;TZID=America/Denver:20090223T000000
DTEND;TZID=America/Denver:20090223T000000
DTSTAMP:20260424T201558
CREATED:20150928T112801Z
LAST-MODIFIED:20150928T112801Z
UID:10001628-1235347200-1235347200@www.history.ucsb.edu
SUMMARY:The Evolution of the Mediterranean Diet from the Middle Ages
DESCRIPTION:The concept of the Mediterranean diet is a modern invention; the Middle Ages and Renaissance had some very different food values. This lecture presents a look at the recent construct and its relationship with overview of medieval and Renaissance diets. It ties the diets of the present and the past together.\nAllen J. Grieco is the Lila Acheson Wallace Assistant Director for Gardens and Grounds & Scholarly Programs at Villa I Tatti (The Harvard University Center for Renaissance Studies in Florence)\,  Director of the M. A. Program in Food Studies at the Universita` delle Scienze Gastronomiche\, and is presently a Visiting Professor in History at Harvard University.  He has taught courses on the history of food at the universities of Bologna and Tours. \nThis lecture is sponsored by the UCSB Medieval Studies Program.  For more information contact Ed English. \njwil 11.ii.09
URL:https://www.history.ucsb.edu/events/the-evolution-of-the-mediterranean-diet-from-the-middle-ages/
LOCATION:CA
END:VEVENT
BEGIN:VEVENT
DTSTART;TZID=America/Denver:20090223T000000
DTEND;TZID=America/Denver:20090223T000000
DTSTAMP:20260424T201558
CREATED:20150928T112801Z
LAST-MODIFIED:20150928T112801Z
UID:10001629-1235347200-1235347200@www.history.ucsb.edu
SUMMARY:Confronting Antisemitism in the Twenty-first Century
DESCRIPTION:Herman P. and Sophia Taubman Foundation Endowed Symposia in Jewish Studies at UCSBTALK: Confronting Antisemitism in the Twenty-first Century\nRobert Wistrich (Hebrew University of Jerusalem)\nMonday\, February 23 / 7:30 PM\nCongregation B’nai B’rith\, 1000 San Antonio Creek Road \nWhat are the most salient and significant features of the current offensive directed against the State of Israel and Jewish communities around the world? Robert Wistrich\, one of the world’s foremost authorities on the history of antisemitism and modern Jewry\, will examine key facets of the challenge and danger that emanates from the new antisemitism\, including its connections with the global Jihad. His many publications include The Jews of Vienna in the Age of Franz Joseph\, Antisemitism: The Longest Hatred\, which became a major PBS documentary\, and Hitler and the Holocaust. His latest book\, A Lethal Obsession: Antisemitism\, From Antiquity to the Global Jihad\, will be published in the fall of 2009. Courtesy of Borders\, copies of his books will be available for purchase and signing at this event. For additional information\, call 893-2317. \nWebsite: www.ihc.ucsb.edu/events/endowed/taubman.html\nSponsored by The Herman P. and Sophia Taubman Foundation Endowed Symposia in Jewish Studies at UC Santa Barbara\, a program of the Interdisciplinary Humanities Center\, is cosponsored by UCSB Arts & Lectures\, Department of Religious Studies\, Jewish Federation of Greater Santa Barbara\, Congregation B’nai B’rith\, and Santa Barbara Hillel. This event is also cosponsored by the Anti-Defamation League. \nhm 2/11/09
URL:https://www.history.ucsb.edu/events/confronting-antisemitism-in-the-twenty-first-century/
LOCATION:CA
END:VEVENT
BEGIN:VEVENT
DTSTART;TZID=America/Denver:20090223T000000
DTEND;TZID=America/Denver:20090223T000000
DTSTAMP:20260424T201558
CREATED:20150928T112802Z
LAST-MODIFIED:20150928T112802Z
UID:10001646-1235347200-1235347200@www.history.ucsb.edu
SUMMARY:Centennial Lecture of the UCSB Gevirtz Graduate School of Education
DESCRIPTION:Marian Wright Edelman\, the founder and president of the Children’s Defense Fund\, is the author of the bestseller The Measure of Our Success: A Letter to My Children and Yours and eight other books.  The first black woman admitted to the Mississippi Bar\, she worked as counsel for the Poor People’s Campaign begun by Dr. Martin Luther King\, Jr.  She is the recipient of the Presidential Medal of Freedom and the Robert F. Kennedy Lifetime Achievement Award. She will discuss her newest work\, The Sea is So Wide and My Boat is So Small: Charting a Course for the Next Generation.\nPresented by the Gevirtz Graduate School of Education\, UCSB Arts & Lectures and the Critical Issues Forum titled Economic Justice – Policy and the Political Imagination. \ntwa 02-19-2009\, jwil 19.ii.09
URL:https://www.history.ucsb.edu/events/centennial-lecture-of-the-ucsb-gevirtz-graduate-school-of-education/
LOCATION:CA
END:VEVENT
BEGIN:VEVENT
DTSTART;TZID=America/Denver:20090225T000000
DTEND;TZID=America/Denver:20090225T000000
DTSTAMP:20260424T201558
CREATED:20150928T112802Z
LAST-MODIFIED:20150928T112802Z
UID:10001642-1235520000-1235520000@www.history.ucsb.edu
SUMMARY:The Radical Legacy of Civil Rights & Feminist Movements for Contemporary Progressive Politics
DESCRIPTION:Barbara Ransby is Associate Professor of History and African-American Studies at the University of Illinois at Chicago.  Ransby published the book Ella Baker and the Black Freedom Movement: A Radical Democratic Vision and founded the organization “Ella’s Daughters” to advance activism in the tradition of Ella Baker (1903-1986).  Baker was a grassroots organizer in the black freedom struggle who worked in predominantly male political circles that included W.E.B. DuBois\, Thurgood Marshall\, and Martin Luther King Jr.  Ella’s Daughters embraces Ms. Baker’s political philosophy of working on multiple fronts at once\, borrowing from various ideologies to make sense of the world and to fashion a transformative strategy.\nThis is the 2009 Hull Chair Lecture\, sponsored by UCSB Feminist Studies and the UCSB Women’s Center\, with co-sponsorship from the Departments of History and Black Studies\, and other UCSB offices and organizations. \njwil 19.ii.09
URL:https://www.history.ucsb.edu/events/the-radical-legacy-of-civil-rights-feminist-movements-for-contemporary-progressive-politics/
LOCATION:CA
END:VEVENT
BEGIN:VEVENT
DTSTART;TZID=America/Denver:20090226T000000
DTEND;TZID=America/Denver:20090226T000000
DTSTAMP:20260424T201558
CREATED:20150928T112801Z
LAST-MODIFIED:20150928T112801Z
UID:10001625-1235606400-1235606400@www.history.ucsb.edu
SUMMARY:Beyond Ethnicity and Polybius: Was the Decision of the Ptolemies to Integrate Egyptians in the Army a Good One?
DESCRIPTION:This talk is sponsored by the IHC Ancient Borderlands Research Focus Group.  John Lee (UCSB) will provide a response.\nFor more information contact Christine Thomas. \njwil 09.ii.2009
URL:https://www.history.ucsb.edu/events/beyond-ethnicity-and-polybius-was-the-decision-of-the-ptolemies-to-integrate-egyptians-in-the-army-a-good-one/
LOCATION:CA
END:VEVENT
BEGIN:VEVENT
DTSTART;TZID=America/Denver:20090226T000000
DTEND;TZID=America/Denver:20090226T000000
DTSTAMP:20260424T201558
CREATED:20150928T112802Z
LAST-MODIFIED:20150928T112802Z
UID:10001635-1235606400-1235606400@www.history.ucsb.edu
SUMMARY:"Triumph Over Time": Film and Discussion
DESCRIPTION:“Triumph Over Time: The American School of Classical Studies at Athens in Post-War Greece” (1947\, 42 minutes)\nIn 1947\, the American School of Classical Studies at Athens commissioned a 42-minute color movie to accompany its fundraising campaign.  Directed by archaeologist Oscar Broneer and produced by numismatist Margaret Thompson with the aid of staff from Fox Studios\, the documentary shows Greece rebounding from the horrors of World War II and the staff of the American School hard at work preparing archaeological sites for presentation to post-war tourists.  The film contains footage of excavations at the Athenian Agora and ancient Corinth\, mixed with scenes of everyday Greek life\, and with shots of famous people\, including Greece’s King Paul and Queen Frederica (film description by Natalia Vogeikoff-Brogan). \n“Triumph Over Time” was one of the earliest documentary films about the archaeology and ancient history of Greece.  Produced during the time of the Greek Civil War (1944-1949)\, the film is a fascinating artifact of the early Cold War era\, as well as an invaluable visual record of traditional Greek village life and of the development of American archaeology in Greece. \nProfessors Erickson (UCSB Classics) and Lee (UCSB History) will introduce the film and lead a discussion afterwards.  Refreshments will be available.  For more information contact Phi Alpha Theta president Jason Smith. \njwil 16.ii.09
URL:https://www.history.ucsb.edu/events/triumph-over-time-film-and-discussion/
LOCATION:CA
END:VEVENT
END:VCALENDAR