BEGIN:VCALENDAR
VERSION:2.0
PRODID:-//Department of History, UC Santa Barbara - ECPv6.15.12.1//NONSGML v1.0//EN
CALSCALE:GREGORIAN
METHOD:PUBLISH
X-WR-CALNAME:Department of History, UC Santa Barbara
X-ORIGINAL-URL:https://www.history.ucsb.edu
X-WR-CALDESC:Events for Department of History, UC Santa Barbara
REFRESH-INTERVAL;VALUE=DURATION:PT1H
X-Robots-Tag:noindex
X-PUBLISHED-TTL:PT1H
BEGIN:VTIMEZONE
TZID:America/Los_Angeles
BEGIN:DAYLIGHT
TZOFFSETFROM:-0800
TZOFFSETTO:-0700
TZNAME:PDT
DTSTART:20210314T100000
END:DAYLIGHT
BEGIN:STANDARD
TZOFFSETFROM:-0700
TZOFFSETTO:-0800
TZNAME:PST
DTSTART:20211107T090000
END:STANDARD
BEGIN:DAYLIGHT
TZOFFSETFROM:-0800
TZOFFSETTO:-0700
TZNAME:PDT
DTSTART:20220313T100000
END:DAYLIGHT
BEGIN:STANDARD
TZOFFSETFROM:-0700
TZOFFSETTO:-0800
TZNAME:PST
DTSTART:20221106T090000
END:STANDARD
BEGIN:DAYLIGHT
TZOFFSETFROM:-0800
TZOFFSETTO:-0700
TZNAME:PDT
DTSTART:20230312T100000
END:DAYLIGHT
BEGIN:STANDARD
TZOFFSETFROM:-0700
TZOFFSETTO:-0800
TZNAME:PST
DTSTART:20231105T090000
END:STANDARD
END:VTIMEZONE
BEGIN:VEVENT
DTSTART;TZID=America/Los_Angeles:20220512T140000
DTEND;TZID=America/Los_Angeles:20220512T153000
DTSTAMP:20260422T113331
CREATED:20220509T192404Z
LAST-MODIFIED:20221026T183941Z
UID:10002884-1652364000-1652369400@www.history.ucsb.edu
SUMMARY:IHC RFG  |  Crossing Borderlands  |  Discussion with Stuart Tyson Smith: "Backwater Puritans”? Racism\, Egyptological Stereotype\, and the Intersection of Local and International at Kushite Tombos
DESCRIPTION:  \nClick here to Register and receive the Zoom link. \n Click here for the flyer
URL:https://www.history.ucsb.edu/events/ihc-rfg-crossing-borderlands-discussion-with-stuart-tyson-smith-backwater-puritans-racism-egyptological-stereotype-and-the-intersection-of-local-and-international-at-kushite-tombos/
LOCATION:HSSB 6056
CATEGORIES:Colloquium Event,Public Lecture,Webinar
END:VEVENT
END:VCALENDAR