BEGIN:VCALENDAR
VERSION:2.0
PRODID:-//Department of History, UC Santa Barbara - ECPv6.15.12.1//NONSGML v1.0//EN
CALSCALE:GREGORIAN
METHOD:PUBLISH
X-WR-CALNAME:Department of History, UC Santa Barbara
X-ORIGINAL-URL:https://www.history.ucsb.edu
X-WR-CALDESC:Events for Department of History, UC Santa Barbara
REFRESH-INTERVAL;VALUE=DURATION:PT1H
X-Robots-Tag:noindex
X-PUBLISHED-TTL:PT1H
BEGIN:VTIMEZONE
TZID:America/Los_Angeles
BEGIN:DAYLIGHT
TZOFFSETFROM:-0800
TZOFFSETTO:-0700
TZNAME:PDT
DTSTART:20230312T100000
END:DAYLIGHT
BEGIN:STANDARD
TZOFFSETFROM:-0700
TZOFFSETTO:-0800
TZNAME:PST
DTSTART:20231105T090000
END:STANDARD
BEGIN:DAYLIGHT
TZOFFSETFROM:-0800
TZOFFSETTO:-0700
TZNAME:PDT
DTSTART:20240310T100000
END:DAYLIGHT
BEGIN:STANDARD
TZOFFSETFROM:-0700
TZOFFSETTO:-0800
TZNAME:PST
DTSTART:20241103T090000
END:STANDARD
BEGIN:DAYLIGHT
TZOFFSETFROM:-0800
TZOFFSETTO:-0700
TZNAME:PDT
DTSTART:20250309T100000
END:DAYLIGHT
BEGIN:STANDARD
TZOFFSETFROM:-0700
TZOFFSETTO:-0800
TZNAME:PST
DTSTART:20251102T090000
END:STANDARD
END:VTIMEZONE
BEGIN:VEVENT
DTSTART;TZID=America/Los_Angeles:20240122T173000
DTEND;TZID=America/Los_Angeles:20240122T193000
DTSTAMP:20260420T001034
CREATED:20230929T200656Z
LAST-MODIFIED:20240129T184041Z
UID:10002969-1705944600-1705951800@www.history.ucsb.edu
SUMMARY:Nakba in the Age of Catastrophe: Lessons from Palestine
DESCRIPTION:Sherene Seikaly will give a talk called: \n“Nakba in the Age of Catastrophe: Lessons from Palestine” \nWhat can the history of Palestine teach us about surviving catastrophe? In this talk\, Professor Seikaly draws on one hundred years of history to reflect on land\, time\, and survival.  \nOn Monday\, January 22 at 5:30 pm  \nLocation: McCune Room 
URL:https://www.history.ucsb.edu/events/nakba-in-the-age-of-catastrophe-lessons-from-palestine/
LOCATION:CA
CATEGORIES:History Associates,Public Lecture
ATTACH;FMTTYPE=image/png:https://www.history.ucsb.edu/wp-content/uploads/Sherene-Seikaly_HA-talk_updated-logos-FINAL.png
END:VEVENT
END:VCALENDAR