BEGIN:VCALENDAR
VERSION:2.0
PRODID:-//Department of History, UC Santa Barbara - ECPv6.15.12.1//NONSGML v1.0//EN
CALSCALE:GREGORIAN
METHOD:PUBLISH
X-WR-CALNAME:Department of History, UC Santa Barbara
X-ORIGINAL-URL:https://www.history.ucsb.edu
X-WR-CALDESC:Events for Department of History, UC Santa Barbara
REFRESH-INTERVAL;VALUE=DURATION:PT1H
X-Robots-Tag:noindex
X-PUBLISHED-TTL:PT1H
BEGIN:VTIMEZONE
TZID:America/Los_Angeles
BEGIN:DAYLIGHT
TZOFFSETFROM:-0800
TZOFFSETTO:-0700
TZNAME:PDT
DTSTART:20220313T100000
END:DAYLIGHT
BEGIN:STANDARD
TZOFFSETFROM:-0700
TZOFFSETTO:-0800
TZNAME:PST
DTSTART:20221106T090000
END:STANDARD
BEGIN:DAYLIGHT
TZOFFSETFROM:-0800
TZOFFSETTO:-0700
TZNAME:PDT
DTSTART:20230312T100000
END:DAYLIGHT
BEGIN:STANDARD
TZOFFSETFROM:-0700
TZOFFSETTO:-0800
TZNAME:PST
DTSTART:20231105T090000
END:STANDARD
BEGIN:DAYLIGHT
TZOFFSETFROM:-0800
TZOFFSETTO:-0700
TZNAME:PDT
DTSTART:20240310T100000
END:DAYLIGHT
BEGIN:STANDARD
TZOFFSETFROM:-0700
TZOFFSETTO:-0800
TZNAME:PST
DTSTART:20241103T090000
END:STANDARD
END:VTIMEZONE
BEGIN:VEVENT
DTSTART;TZID=America/Los_Angeles:20230406T173000
DTEND;TZID=America/Los_Angeles:20230406T190000
DTSTAMP:20260422T052336
CREATED:20230301T191406Z
LAST-MODIFIED:20230402T203705Z
UID:10002933-1680802200-1680807600@www.history.ucsb.edu
SUMMARY:History Associates Talk | Lisa Jacobson "The Potent Politics of Weak Brews: How 3.2% Beer Helped End Prohibition"  |  Apr 6\, 5:30 PM  |  Draughtsmen Aleworks
DESCRIPTION: \nTo commemorate the 90th anniversary of beer’s re-legalization in the United States\, Lisa Jacobson will explain how a coalition of brewers\, scientists\, and labor leaders persuaded Congress that a beer capable of producing a mild euphoria could be legalized without violating the 18th Amendment’s ban on intoxicating beverages. Insisting that alcohol potency alone did not determine intoxication\, this anti-prohibitionist coalition promoted new understandings of pleasure and risk that have long since influenced how alcohol is regulated and sold in the United States.\nLisa Jacobson is an Associate Professor of History at UC Santa Barbara. She hopes that her book Fashioning New Cultures of Drink: The Reinvention of Wine\, Beer\, and Whiskey after Prohibition will be available for pre-order by the 91st anniversary of beer’s re-legalization.\n \nDownload the flyer here: Potent Politics of Weak Brews_2.24
URL:https://www.history.ucsb.edu/events/history-associates-potent-politics/
LOCATION:Draughstmen Aleworks\, University of California Santa Barbara\, Santa Barbara\, CA\, 93106\, United States
CATEGORIES:Academic Calendar,Book Talk,History Associates,Public Lecture
ATTACH;FMTTYPE=image/jpeg:https://www.history.ucsb.edu/wp-content/uploads/Potent-Politics-of-Weak-Brews_draft_2.24-scaled.jpg
END:VEVENT
BEGIN:VEVENT
DTSTART;TZID=America/Los_Angeles:20230412T130000
DTEND;TZID=America/Los_Angeles:20230412T150000
DTSTAMP:20260422T052336
CREATED:20230402T205413Z
LAST-MODIFIED:20230402T205413Z
UID:10002939-1681304400-1681311600@www.history.ucsb.edu
SUMMARY:Focal Point Dialogues in History: Conversations on Black life\, race\, and antiblackness in history with Prof. Nyasha Mboti and Prof. Steve Zipperstein
DESCRIPTION:The History Department’s Colloquium Committee warmly invites you to attend this year’s FOCAL POINT Dialogues in History series. Inspired by the History Department’s Statement on the George Floyd Uprising and its invocation to understand and interrogate our racialized past and the investments of disciplinary history within it\, the series brings together History faculty and graduate students to engage in a dialogue on Black life\, race\, and antiblackness in history. \nFor our FOCAL POINT Dialogues in History series this year\, the Colloquium Committee\, after careful discussion\, has decided to invite both Professor Steve Zipperstein and Professor Nyasha Mboti (Professor of Communication at the University of the Free State) to join us and have a dialogue with us on April 12 1-3PM at the McCune Conference Room. \nProfessor Zipperstein will talk about the important Waco/Branch Davidian standoff on its 30th anniversary. This talk will discuss how Waco (and a prior episode at Ruby Ridge\, Idaho) laid the groundwork for the dangerous rise of anti-government white nationalism in the United States\, leading to the January 2021 Trump-inspired attack on the U.S. Capitol. \nProfessor Mboti will talk about his new book\, Apartheid Studies: A Manifesto\, Vol. 1 (2023). The book utilizes the notion of “apartheid” as a paradigm and theoretical framework. It argues that apartheid is not quite what we were told or what we thought. Instead\, seen from the experience and point of view of the oppressed\, apartheid has astonishing virulence\, prevalence\, persistence\, and undetectability. Apartheid Studies\, in a word\, is an interdisciplinary invitation to study how oppression\, inequality\, injustice\, and harm persist\, and what to do about it. \nSteve and Nyasha will each talk for 30 minutes\, and they will then engage in a conversation with each other and comment on each other’s talk for 15-20 minutes. Steve and Nyasha address antiblackness from different perspectives and positionalities\, which will also greatly deepen our understanding of this issue. We will then open the floor and invite questions and comments from the audience. \nOur department has purchased 34 PDF copies of Apartheid Studies\, which have been made available on a Box folder. Graduate students: please contact Prof. Zheng if you want a copy of the book. Africa World Press has graciously agreed to share this book with interested graduate students.
URL:https://www.history.ucsb.edu/events/focal-point-dialogues-in-history-conversations-on-black-life-race-and-antiblackness-in-history-with-prof-nyasha-mboti-and-prof-steve-zipperstein/
LOCATION:HSSB 6020 (McCune Room)\, University of California Santa Barbara\, Santa Barbara\, CA\, 93106\, United States
CATEGORIES:Public Lecture
ATTACH;FMTTYPE=image/png:https://www.history.ucsb.edu/wp-content/uploads/FocalPointZippersteinMbotiUpdated.png
GEO:34.4142938;-119.8474306
X-APPLE-STRUCTURED-LOCATION;VALUE=URI;X-ADDRESS=HSSB 6020 (McCune Room) University of California Santa Barbara Santa Barbara CA 93106 United States;X-APPLE-RADIUS=500;X-TITLE=University of California Santa Barbara:geo:-119.8474306,34.4142938
END:VEVENT
BEGIN:VEVENT
DTSTART;TZID=America/Los_Angeles:20230412T160000
DTEND;TZID=America/Los_Angeles:20230412T173000
DTSTAMP:20260422T052336
CREATED:20230402T201525Z
LAST-MODIFIED:20230402T201525Z
UID:10002937-1681315200-1681320600@www.history.ucsb.edu
SUMMARY:The Deccani Trails of the St Andrews Qur'an Manuscript - Lecture by Dr. Keelan Overton
DESCRIPTION:Shortly after its production in Safavid Tabriz or Herat\, the single-volume Quran manuscript known as the “St Andrews Quran” traveled east to the Deccan region of southern India and circulated between four courtly contexts over the next two hundred years. The evidence for this dynamic life history is found in the codex itself\, and this talk summarizes the findings of a multi-year interdisciplinary archaeological excavation of the manuscript. Weaving between the object\, archive\, and political realities of the Deccan sultanates\, Mughal court\, and Tipu Sultan\, I consider how the St Andrews Quran inspires the writing of ground-based art histories that challenge prevailing taxonomies. \nThis event is organized by the King Abdul Aziz In Saud Chair in Islamic Studies.
URL:https://www.history.ucsb.edu/events/the-deccani-trails-of-the-st-andrews-quran-manuscript-lecture-by-dr-keelan-overton/
LOCATION:HSSB 3001E\, 3001E Humanities and Social Sciences Building\, UC Santa Barbara\, Santa Barbara\, CA\, 93106\, United States
CATEGORIES:Public Lecture
ATTACH;FMTTYPE=image/jpeg:https://www.history.ucsb.edu/wp-content/uploads/The-Deccani-Trails-of-the-St-Andrews-Quran-Manuscript.jpg
GEO:34.4139629;-119.848947
X-APPLE-STRUCTURED-LOCATION;VALUE=URI;X-ADDRESS=HSSB 3001E 3001E Humanities and Social Sciences Building UC Santa Barbara Santa Barbara CA 93106 United States;X-APPLE-RADIUS=500;X-TITLE=3001E Humanities and Social Sciences Building\, UC Santa Barbara:geo:-119.848947,34.4139629
END:VEVENT
BEGIN:VEVENT
DTSTART;TZID=America/Los_Angeles:20230417T160000
DTEND;TZID=America/Los_Angeles:20230417T180000
DTSTAMP:20260422T052336
CREATED:20230313T215649Z
LAST-MODIFIED:20230402T201302Z
UID:10002935-1681747200-1681754400@www.history.ucsb.edu
SUMMARY:The Pasha's New Clothes: The History Section of an 18th-Century Library from Acre - Lecture by Prof. Dana Sajdi (Boston College)
DESCRIPTION:This is an exploration of the history booklist found in a recently discovered ‘library catalogue’ from a college in 18th-century Acre. Endowed by the notorious Ottoman governor of the region Ahmad Pasha al-Jazzar (d. 1804)\, the library seems to have been one of the largest in the Ottoman Levant. In addition to introducing the larger ‘al-Jazzar Library Project’\, I will argue that the eclectic nature of the history collection exceeds the purposes of a college curriculum or the needs of local readers. Despite their variety\, the books were carefully chosen and cUrated to reflect the colorful career of the patron himself and to construct a heroic and royal image of him resembling that of imperial rulers. This is a vanity collection that the Pasha used to display his new clothes. \nThis event is organized by the King Abdul Aziz Ibn Saud Chair in Islamic Studies.
URL:https://www.history.ucsb.edu/events/the-pashas-new-clothes-the-history-section-of-an-18th-century-library-from-acre-a-lecture-by-professor-dana-sajdi-boston-college/
LOCATION:HSSB 4080\, University of California Santa Barbara\, Santa Barbara\, 93106\, United States
CATEGORIES:Public Lecture
ATTACH;FMTTYPE=image/jpeg:https://www.history.ucsb.edu/wp-content/uploads/Dana-Sajdi-Flyer.jpg
END:VEVENT
END:VCALENDAR