BEGIN:VCALENDAR
VERSION:2.0
PRODID:-//Department of History, UC Santa Barbara - ECPv6.15.12.1//NONSGML v1.0//EN
CALSCALE:GREGORIAN
METHOD:PUBLISH
X-WR-CALNAME:Department of History, UC Santa Barbara
X-ORIGINAL-URL:https://www.history.ucsb.edu
X-WR-CALDESC:Events for Department of History, UC Santa Barbara
REFRESH-INTERVAL;VALUE=DURATION:PT1H
X-Robots-Tag:noindex
X-PUBLISHED-TTL:PT1H
BEGIN:VTIMEZONE
TZID:America/Los_Angeles
BEGIN:DAYLIGHT
TZOFFSETFROM:-0800
TZOFFSETTO:-0700
TZNAME:PDT
DTSTART:20170312T100000
END:DAYLIGHT
BEGIN:STANDARD
TZOFFSETFROM:-0700
TZOFFSETTO:-0800
TZNAME:PST
DTSTART:20171105T090000
END:STANDARD
BEGIN:DAYLIGHT
TZOFFSETFROM:-0800
TZOFFSETTO:-0700
TZNAME:PDT
DTSTART:20180311T100000
END:DAYLIGHT
BEGIN:STANDARD
TZOFFSETFROM:-0700
TZOFFSETTO:-0800
TZNAME:PST
DTSTART:20181104T090000
END:STANDARD
BEGIN:DAYLIGHT
TZOFFSETFROM:-0800
TZOFFSETTO:-0700
TZNAME:PDT
DTSTART:20190310T100000
END:DAYLIGHT
BEGIN:STANDARD
TZOFFSETFROM:-0700
TZOFFSETTO:-0800
TZNAME:PST
DTSTART:20191103T090000
END:STANDARD
END:VTIMEZONE
BEGIN:VEVENT
DTSTART;TZID=America/Los_Angeles:20180414T140000
DTEND;TZID=America/Los_Angeles:20180414T160000
DTSTAMP:20260425T195113
CREATED:20180308T204122Z
LAST-MODIFIED:20180308T232220Z
UID:10002523-1523714400-1523721600@www.history.ucsb.edu
SUMMARY:Talk by Professor Emeritus Hal Drake on "A Century of Miracles"
DESCRIPTION:Professor Drake will be discussing his latest book\, A Century of Miracles: Christians\, Pagans\, Jews\, and the Supernatural\, 312-410. The book offers a fresh examination of a complex polytheistic period in Roman history\, surveying a wide range of faiths and belief systems during this eventful century. It offers a thoroughly researched assessment of the supernatural and its sociological and cultural effects on history down to the present. Anyone engaged in religious discourse will find the analysis especially illuminating.
URL:https://www.history.ucsb.edu/events/talk-by-professor-emeritus-hal-drake-on-a-century-of-miracles/
LOCATION:Santa Barbara Mission Archive Library\,\, 2201 Laguna Street\, Santa Barbara\, United States
CATEGORIES:Public Lecture
GEO:34.4380006;-119.71363
X-APPLE-STRUCTURED-LOCATION;VALUE=URI;X-ADDRESS=Santa Barbara Mission Archive Library 2201 Laguna Street Santa Barbara United States;X-APPLE-RADIUS=500;X-TITLE=2201 Laguna Street:geo:-119.71363,34.4380006
END:VEVENT
BEGIN:VEVENT
DTSTART;TZID=America/Los_Angeles:20180420T130000
DTEND;TZID=America/Los_Angeles:20180420T150000
DTSTAMP:20260425T195113
CREATED:20180412T165410Z
LAST-MODIFIED:20240410T190605Z
UID:10002536-1524229200-1524236400@www.history.ucsb.edu
SUMMARY:Rosie Bermudez\, Chican@ Studies\, UC Santa Barbara. "Economic Justice is a Women's Issue: The Chicana Welfare Rights Organization's Challenge to Welfare Reform in the 1970s."
DESCRIPTION:Rosie Cano Bermudez is a doctoral candidate in the department of Chicana and Chicano studies at UC Santa Barbara. Her dissertation “Doing Dignity Work: Alicia Escalante and the East Los Angeles Welfare Rights Organization\, 1967-1974\,” focuses on the human dignity struggles waged by single Chicana welfare mothers in East Los Angeles in the 1960s and 1970s at the confluence of multiple social movements. Her research interests are centered on the histories of Chicana and Mexican American women’s activism\, identity\, and feminisms during the second half of the Twentieth century in Los Angeles. She is currently a Woodrow Wilson Women’s Studies Fellow and Ford Fellow at UC Santa Barbara. \nHer chapter for discussion can found here. \nA light lunch will be served.
URL:https://www.history.ucsb.edu/events/rosie-bermudez-chican-studies-uc-santa-barbara-economic-justice-is-a-womens-issue-the-chicana-welfare-rights-organizations-challenge-to-welfare-reform-in-the-1970s/
LOCATION:HSSB 4041\, University of California Santa Barbara\, Santa Barbara\, CA\, 93106\, United States
CATEGORIES:Public Lecture
GEO:34.4142953;-119.8474491
X-APPLE-STRUCTURED-LOCATION;VALUE=URI;X-ADDRESS=HSSB 4041 University of California Santa Barbara Santa Barbara CA 93106 United States;X-APPLE-RADIUS=500;X-TITLE=University of California Santa Barbara:geo:-119.8474491,34.4142953
END:VEVENT
BEGIN:VEVENT
DTSTART;TZID=America/Los_Angeles:20180427T130000
DTEND;TZID=America/Los_Angeles:20180427T150000
DTSTAMP:20260425T195113
CREATED:20180412T165948Z
LAST-MODIFIED:20180412T165948Z
UID:10002538-1524834000-1524841200@www.history.ucsb.edu
SUMMARY:Nate Citino\, History\, Rice University\, "Envisioning the Arab Future: Modernization in U.S.-Arab Relations\, 1945-1967."
DESCRIPTION:Citino discusses his most recent book\, Envisioning the Arab Future: Modernization in U.S. – Arab Relations\, 1945-1967 (2017). He is also the author of From Arab Nationalism to OPEC: Eisenhower\, King Sa’ud\, and the making of U.S. – Saudi Relations (2002). Co-Sponsored with the Blum Center for Global Poverty Allevation and Sustainable Development. A chapter from his recent book can be found here. \nA light lunch will be served.
URL:https://www.history.ucsb.edu/events/nate-citino-history-rice-university-envisioning-the-arab-future-modernization-in-u-s-arab-relations-1945-1967/
LOCATION:HSSB 4041\, University of California Santa Barbara\, Santa Barbara\, CA\, 93106\, United States
CATEGORIES:Public Lecture
ATTACH;FMTTYPE=image/jpeg:https://www.history.ucsb.edu/wp-content/uploads/Nate.jpg
GEO:34.4142953;-119.8474491
X-APPLE-STRUCTURED-LOCATION;VALUE=URI;X-ADDRESS=HSSB 4041 University of California Santa Barbara Santa Barbara CA 93106 United States;X-APPLE-RADIUS=500;X-TITLE=University of California Santa Barbara:geo:-119.8474491,34.4142953
END:VEVENT
END:VCALENDAR