BEGIN:VCALENDAR
VERSION:2.0
PRODID:-//Department of History, UC Santa Barbara - ECPv6.15.12.1//NONSGML v1.0//EN
CALSCALE:GREGORIAN
METHOD:PUBLISH
X-WR-CALNAME:Department of History, UC Santa Barbara
X-ORIGINAL-URL:https://www.history.ucsb.edu
X-WR-CALDESC:Events for Department of History, UC Santa Barbara
REFRESH-INTERVAL;VALUE=DURATION:PT1H
X-Robots-Tag:noindex
X-PUBLISHED-TTL:PT1H
BEGIN:VTIMEZONE
TZID:America/Los_Angeles
BEGIN:DAYLIGHT
TZOFFSETFROM:-0800
TZOFFSETTO:-0700
TZNAME:PDT
DTSTART:20170312T100000
END:DAYLIGHT
BEGIN:STANDARD
TZOFFSETFROM:-0700
TZOFFSETTO:-0800
TZNAME:PST
DTSTART:20171105T090000
END:STANDARD
BEGIN:DAYLIGHT
TZOFFSETFROM:-0800
TZOFFSETTO:-0700
TZNAME:PDT
DTSTART:20180311T100000
END:DAYLIGHT
BEGIN:STANDARD
TZOFFSETFROM:-0700
TZOFFSETTO:-0800
TZNAME:PST
DTSTART:20181104T090000
END:STANDARD
BEGIN:DAYLIGHT
TZOFFSETFROM:-0800
TZOFFSETTO:-0700
TZNAME:PDT
DTSTART:20190310T100000
END:DAYLIGHT
BEGIN:STANDARD
TZOFFSETFROM:-0700
TZOFFSETTO:-0800
TZNAME:PST
DTSTART:20191103T090000
END:STANDARD
END:VTIMEZONE
BEGIN:VEVENT
DTSTART;TZID=America/Los_Angeles:20180302T130000
DTEND;TZID=America/Los_Angeles:20180302T150000
DTSTAMP:20260425T212702
CREATED:20180203T033734Z
LAST-MODIFIED:20180207T013824Z
UID:10002182-1519995600-1520002800@www.history.ucsb.edu
SUMMARY:Marcia Chatelain\, History\, Georgetown University\, “Burgers in the Age of Black Capitalism: Fast Food and the Remaking of Civil Rights after 1968”
DESCRIPTION:Chatelain is currently writing a book about race and fast food\, From Sit-In to Drive-Thru: Black America in the Age of Fast Food (under contract\, Liveright\, an imprint of W.W. Norton).  Her first book South Side Girls: Growing up in the Great Migration was published by Duke University Press in 2015. Chatelain co-edited\, with Britta Waldschmidt-Nelson\, Staging a Dream: Untold Stories and Transatlantic Legacies of the March on Washington (2015). \nChatelain is a regular commenter on current events and social issues across a variety of media platforms. She also created the Twitter campaign #Fergusonsyllabus in August 2014.
URL:https://www.history.ucsb.edu/events/marcia-chatelain-history-georgetown-university-burgers-in-the-age-of-black-capitalism-fast-food-and-the-remaking-of-civil-rights-after-1968/
LOCATION:HSSB 4041\, University of California Santa Barbara\, Santa Barbara\, CA\, 93106\, United States
CATEGORIES:Public Lecture
ATTACH;FMTTYPE=image/jpeg:https://www.history.ucsb.edu/wp-content/uploads/Chatelain.jpg
GEO:34.4142953;-119.8474491
X-APPLE-STRUCTURED-LOCATION;VALUE=URI;X-ADDRESS=HSSB 4041 University of California Santa Barbara Santa Barbara CA 93106 United States;X-APPLE-RADIUS=500;X-TITLE=University of California Santa Barbara:geo:-119.8474491,34.4142953
END:VEVENT
BEGIN:VEVENT
DTSTART;TZID=America/Los_Angeles:20180305T150000
DTEND;TZID=America/Los_Angeles:20180305T163000
DTSTAMP:20260425T212702
CREATED:20180223T234739Z
LAST-MODIFIED:20180223T234739Z
UID:10002194-1520262000-1520267400@www.history.ucsb.edu
SUMMARY:Onontio’s Reward: When Louis XIV’s head hung from Native American necks
DESCRIPTION:French royal medals crossed into a radically different cultural context when awarded to the Amerindian people of Canada in the late seventeenth and early eighteenth centuries. So it may come as a surprise that the symbolic potential of these medals was only fully realized by the indigenous warriors that they were gifted to. These small sculptures\, designed in emulation of ancient Roman coins\, are quintessentially Western objects designed to function as instruments of communication across spatial\, cultural and temporal divides. Small in scale and easily transported; relatively inexpensive\, depending on the material from which they were made; produced in large quantities—they had the potential to convey messages far and wide. \nThe guest lecture examines the fate of the Louis XIV Royal Family medal awarded to Amerindian allies. To Algonquin and Iroquois speaking warriors the king was Onontio\, the great mountain\, a father to their people. The concept of family that this medal represents thus functions an allegory for the bond between the King of France and his subjects; a powerful ideological message for those living in French colonies far from the center of empire. The positive reception of these medals by the Indigenous supporters of the French colonists reveals the shifting talismanic and political power that these objects could carry across surprisingly diverse cultural contexts. Functioning like the ornaments worn by Indigenous people for centuries before the arrival of European settlers\, French royal medals were endowed with new symbolic power by the First Nations people of Canada. \nRobert Wellington is a senior lecturer at the Centre for Art history and Art Theory at the Australian National University. His research focuses on the role of material culture in history making and cross-cultural exchange in ancien régime France. Robert Wellington’s monograph Antiquarianism and the Visual Histories of Louis XIV: Artifacts For a Future Past\, explores the place of medals in the project of documenting the history of Louis XIV for posterity.
URL:https://www.history.ucsb.edu/events/onontios-reward-when-louis-xivs-head-hung-from-native-american-necks/
LOCATION:HSSB 3001E\, 3001E Humanities and Social Sciences Building\, UC Santa Barbara\, Santa Barbara\, CA\, 93106\, United States
CATEGORIES:Public Lecture,workshop/brown bag/practicum
GEO:34.4139629;-119.848947
X-APPLE-STRUCTURED-LOCATION;VALUE=URI;X-ADDRESS=HSSB 3001E 3001E Humanities and Social Sciences Building UC Santa Barbara Santa Barbara CA 93106 United States;X-APPLE-RADIUS=500;X-TITLE=3001E Humanities and Social Sciences Building\, UC Santa Barbara:geo:-119.848947,34.4139629
END:VEVENT
BEGIN:VEVENT
DTSTART;TZID=America/Los_Angeles:20180311T140000
DTEND;TZID=America/Los_Angeles:20180311T160000
DTSTAMP:20260425T212702
CREATED:20180306T000446Z
LAST-MODIFIED:20180306T000446Z
UID:10002196-1520776800-1520784000@www.history.ucsb.edu
SUMMARY:5th Annual Van Gelderen Lecture: Ships and Saints: Mapping the World of Athanasius of Alexandra\, Chris Nofziger
DESCRIPTION:Please join us for this year’s Van Gelderen Lecture\, which will feature Chris Nofziger. Chris is currently an advanced PhD candidate in Roman history under the the direction of Beth Digeser. He will be presenting his work on Athanasius of Alexandria\, bishop of Alexandria from 328 to 373 CE. Athanasius was sent into exile five times by four different emperors during his forty-four year career. His bombastic rhetoric\, conspiracy theories\, and penchant for political troublemaking earned him followers who were fervent and enemies who were dangerous\, not the least of whom was the son of Constantine\, Constantius II. One can see many things in the writings of Athanasius: the image of a saint\, a gangster\, or simply an adherent of one kind of Christianity struggling with ideas of belonging and otherness  against the backdrop of imperial pressure toward the achievement of a single monolithic Christianity. Regardless of how one interprets his legacy\, Athanasius’s stories proved astonishingly resilient and continued to haunt Christians’ ideas of orthodoxy and their sense of history for millennia. New interdisciplinary and digital tools allow us to explore the other stories behind the persistence of Athanasius’s works and tell a different story of early Christianity: a story told from the shores of Alexandria where waves\, wind\, topography\, and a network that stretched from Indian to the shores of the Mediterranean Sea all play a role in the tale. \nAdmission $5 for members and guests; $7 for non-members; free for students. Please call (805) 300 4016 to reserve seats by March 9.
URL:https://www.history.ucsb.edu/events/5th-annual-van-gelderen-lecture-ships-and-saints-mapping-the-world-of-athanasius-of-alexandra-chris-nofziger/
LOCATION:HSSB 4020\, University of California Santa Barbara\, Santa Barbara\, CA\, 93106\, United States
CATEGORIES:Public Lecture
ATTACH;FMTTYPE=image/jpeg:https://www.history.ucsb.edu/wp-content/uploads/2018-Nofziger-flyer-page-001.jpg
GEO:34.4139629;-119.848947
X-APPLE-STRUCTURED-LOCATION;VALUE=URI;X-ADDRESS=HSSB 4020 University of California Santa Barbara Santa Barbara CA 93106 United States;X-APPLE-RADIUS=500;X-TITLE=University of California Santa Barbara:geo:-119.848947,34.4139629
END:VEVENT
BEGIN:VEVENT
DTSTART;TZID=America/Los_Angeles:20180313T160000
DTEND;TZID=America/Los_Angeles:20180313T180000
DTSTAMP:20260425T212702
CREATED:20180306T210658Z
LAST-MODIFIED:20180306T210658Z
UID:10002198-1520956800-1520964000@www.history.ucsb.edu
SUMMARY:Talk by Deborah Coen (Yale)\, "Climate Science in the Age of Empire"
DESCRIPTION:
URL:https://www.history.ucsb.edu/events/talk-by-deborah-coen-yale-climate-science-in-the-age-of-empire/
LOCATION:HSSB 4020\, University of California Santa Barbara\, Santa Barbara\, CA\, 93106\, United States
CATEGORIES:Book Talk,Public Lecture
GEO:34.4139629;-119.848947
X-APPLE-STRUCTURED-LOCATION;VALUE=URI;X-ADDRESS=HSSB 4020 University of California Santa Barbara Santa Barbara CA 93106 United States;X-APPLE-RADIUS=500;X-TITLE=University of California Santa Barbara:geo:-119.848947,34.4139629
END:VEVENT
END:VCALENDAR