BEGIN:VCALENDAR
VERSION:2.0
PRODID:-//Department of History, UC Santa Barbara - ECPv6.15.12.1//NONSGML v1.0//EN
CALSCALE:GREGORIAN
METHOD:PUBLISH
X-ORIGINAL-URL:https://www.history.ucsb.edu
X-WR-CALDESC:Events for Department of History, UC Santa Barbara
REFRESH-INTERVAL;VALUE=DURATION:PT1H
X-Robots-Tag:noindex
X-PUBLISHED-TTL:PT1H
BEGIN:VTIMEZONE
TZID:America/Los_Angeles
BEGIN:DAYLIGHT
TZOFFSETFROM:-0800
TZOFFSETTO:-0700
TZNAME:PDT
DTSTART:20180311T100000
END:DAYLIGHT
BEGIN:STANDARD
TZOFFSETFROM:-0700
TZOFFSETTO:-0800
TZNAME:PST
DTSTART:20181104T090000
END:STANDARD
BEGIN:DAYLIGHT
TZOFFSETFROM:-0800
TZOFFSETTO:-0700
TZNAME:PDT
DTSTART:20190310T100000
END:DAYLIGHT
BEGIN:STANDARD
TZOFFSETFROM:-0700
TZOFFSETTO:-0800
TZNAME:PST
DTSTART:20191103T090000
END:STANDARD
BEGIN:DAYLIGHT
TZOFFSETFROM:-0800
TZOFFSETTO:-0700
TZNAME:PDT
DTSTART:20200308T100000
END:DAYLIGHT
BEGIN:STANDARD
TZOFFSETFROM:-0700
TZOFFSETTO:-0800
TZNAME:PST
DTSTART:20201101T090000
END:STANDARD
END:VTIMEZONE
BEGIN:VEVENT
DTSTART;TZID=America/Los_Angeles:20191122T150000
DTEND;TZID=America/Los_Angeles:20191122T150000
DTSTAMP:20260424T090807
CREATED:20191024T164733Z
LAST-MODIFIED:20191118T015902Z
UID:10002809-1574434800-1574434800@www.history.ucsb.edu
SUMMARY:Lisa Jacobson\, "A Taste of Success: Whiskey Drinking\, Masculine Identities\, and the Sensory Imagination in the Postwar US"
DESCRIPTION:Join the Gender and Sexualities Research Cluster for a paper workshop on Lisa Jacobson‘s “A Taste of Success: Whiskey Drinking\, Masculine Identities\, and the Sensory Imagination in the Postwar US.” The event will take place in HSSB 4020 on November 22 at 3:00. To obtain the paper in advance\, email Jarett Henderson at jhenderson@history.ucsb.edu. \nPlease note that this event was originally scheduled for an earlier date\, so you may have seen posters with an incorrect date and time.
URL:https://www.history.ucsb.edu/events/lisa-jacobson-a-taste-of-success-whiskey-drinking-masculine-identities-and-the-sensory-imagination-in-the-postwar-us/
LOCATION:HSSB 4020\, University of California Santa Barbara\, Santa Barbara\, CA\, 93106\, United States
CATEGORIES:Colloquium Event,Paper Workshop
GEO:34.4139629;-119.848947
X-APPLE-STRUCTURED-LOCATION;VALUE=URI;X-ADDRESS=HSSB 4020 University of California Santa Barbara Santa Barbara CA 93106 United States;X-APPLE-RADIUS=500;X-TITLE=University of California Santa Barbara:geo:-119.848947,34.4139629
END:VEVENT
END:VCALENDAR