BEGIN:VCALENDAR
VERSION:2.0
PRODID:-//Department of History, UC Santa Barbara - ECPv6.15.12.1//NONSGML v1.0//EN
CALSCALE:GREGORIAN
METHOD:PUBLISH
X-WR-CALNAME:Department of History, UC Santa Barbara
X-ORIGINAL-URL:https://www.history.ucsb.edu
X-WR-CALDESC:Events for Department of History, UC Santa Barbara
REFRESH-INTERVAL;VALUE=DURATION:PT1H
X-Robots-Tag:noindex
X-PUBLISHED-TTL:PT1H
BEGIN:VTIMEZONE
TZID:America/Los_Angeles
BEGIN:DAYLIGHT
TZOFFSETFROM:-0800
TZOFFSETTO:-0700
TZNAME:PDT
DTSTART:20200308T100000
END:DAYLIGHT
BEGIN:STANDARD
TZOFFSETFROM:-0700
TZOFFSETTO:-0800
TZNAME:PST
DTSTART:20201101T090000
END:STANDARD
BEGIN:DAYLIGHT
TZOFFSETFROM:-0800
TZOFFSETTO:-0700
TZNAME:PDT
DTSTART:20210314T100000
END:DAYLIGHT
BEGIN:STANDARD
TZOFFSETFROM:-0700
TZOFFSETTO:-0800
TZNAME:PST
DTSTART:20211107T090000
END:STANDARD
BEGIN:DAYLIGHT
TZOFFSETFROM:-0800
TZOFFSETTO:-0700
TZNAME:PDT
DTSTART:20220313T100000
END:DAYLIGHT
BEGIN:STANDARD
TZOFFSETFROM:-0700
TZOFFSETTO:-0800
TZNAME:PST
DTSTART:20221106T090000
END:STANDARD
END:VTIMEZONE
BEGIN:VEVENT
DTSTART;TZID=America/Los_Angeles:20210209T180000
DTEND;TZID=America/Los_Angeles:20210209T193000
DTSTAMP:20260420T000423
CREATED:20210201T183928Z
LAST-MODIFIED:20230203T154954Z
UID:10002852-1612893600-1612899000@www.history.ucsb.edu
SUMMARY:Capps Center Event: Speech\, White Supremacy\, and Insurrection
DESCRIPTION:The January 6 insurrection at the United States Capitol brought to the fore the threat that white nationalist forces pose to our democracy. Join the Walter H. Capps Center for the Study of Ethics\, Religion\, and Public Life for a conversation about these forces\, their history\, and what can be done to resist them. Our guests will be UC Free Speech Fellows Ryan Coonerty (Santa Cruz County Supervisor) and Melissa Barthelemy (Public History doctoral candidate)\, and Dr. Katya Armistead (Assistant Vice Chancellor and Dean of Student Life). \nRegister via Zoom: https://ucsb.zoom.us/webinar/register/WN_-xSYflSySEGpGbop0ZfULg.
URL:https://www.history.ucsb.edu/events/capps-center-event-speech-white-supremacy-and-insurrection/
LOCATION:Zoom\, CA
CATEGORIES:Panel Discussion
ATTACH;FMTTYPE=image/jpeg:https://www.history.ucsb.edu/wp-content/uploads/Capps-Center-Speech-WhiteSupremacy-Insurrection-012821.jpg
END:VEVENT
END:VCALENDAR