BEGIN:VCALENDAR
VERSION:2.0
PRODID:-//Department of History, UC Santa Barbara - ECPv6.15.12.1//NONSGML v1.0//EN
CALSCALE:GREGORIAN
METHOD:PUBLISH
X-WR-CALNAME:Department of History, UC Santa Barbara
X-ORIGINAL-URL:https://www.history.ucsb.edu
X-WR-CALDESC:Events for Department of History, UC Santa Barbara
REFRESH-INTERVAL;VALUE=DURATION:PT1H
X-Robots-Tag:noindex
X-PUBLISHED-TTL:PT1H
BEGIN:VTIMEZONE
TZID:America/Los_Angeles
BEGIN:DAYLIGHT
TZOFFSETFROM:-0800
TZOFFSETTO:-0700
TZNAME:PDT
DTSTART:20180311T100000
END:DAYLIGHT
BEGIN:STANDARD
TZOFFSETFROM:-0700
TZOFFSETTO:-0800
TZNAME:PST
DTSTART:20181104T090000
END:STANDARD
BEGIN:DAYLIGHT
TZOFFSETFROM:-0800
TZOFFSETTO:-0700
TZNAME:PDT
DTSTART:20190310T100000
END:DAYLIGHT
BEGIN:STANDARD
TZOFFSETFROM:-0700
TZOFFSETTO:-0800
TZNAME:PST
DTSTART:20191103T090000
END:STANDARD
BEGIN:DAYLIGHT
TZOFFSETFROM:-0800
TZOFFSETTO:-0700
TZNAME:PDT
DTSTART:20200308T100000
END:DAYLIGHT
BEGIN:STANDARD
TZOFFSETFROM:-0700
TZOFFSETTO:-0800
TZNAME:PST
DTSTART:20201101T090000
END:STANDARD
END:VTIMEZONE
BEGIN:VEVENT
DTSTART;TZID=America/Los_Angeles:20191024T180000
DTEND;TZID=America/Los_Angeles:20191024T200000
DTSTAMP:20260421T121537
CREATED:20191008T080228Z
LAST-MODIFIED:20191009T161409Z
UID:10002802-1571940000-1571947200@www.history.ucsb.edu
SUMMARY:Building a Green New Deal: Community\, Coalition\, Organizing for Environmental Justice: A Public Forum
DESCRIPTION:In communities\, classrooms\, and protest sites across the country\, people have embraced the call for a Green New Deal as a way of recognizing that climate change presents us with an unprecedented historic challenge—and the need for comprehensive and transformational reform. California’s Central Coast has a powerful tradition of grassroots activism to draw on in rising to the challenge\, from the wide-ranging environmental movement sparked by the 1969 Santa Barbara oil spill to the multi-racial labor\, immigrant and indigenous people’s rights organizations leading the struggle for economic justice region-wide. Together\, these and allied organizations have formed the Central Coast Climate Justice Network\, a regional coalition dedicated to developing a collective vision and coalitional strategy for achieving holistic and intersectional environmental justice in our region. Featuring presentations from Network member organizations\, the aim of the forum is to launch a broad\, publicly engaged conversation about the need for transformational thought and action in response to the challenges of climate change\, and in the interest of a more equitable and resilient environmental future. \nCo-sponsored by: The Blum Center on Poverty\, Inequality\, and Democracy\, Environmental Studies Program\, Interdisciplinary Humanities Center\, the Fund for Santa Barbara\, and the Central Coast Climate Justice Network
URL:https://www.history.ucsb.edu/events/building-a-green-new-deal-community-coalition-organizing-for-environmental-justice-a-public-forum/
LOCATION:HSSB 6020\, University of California Santa Barbara\, Santa Barbara\, CA\, 93106\, United States
CATEGORIES:Academic Calendar,Panel Discussion
END:VEVENT
END:VCALENDAR