BEGIN:VCALENDAR
VERSION:2.0
PRODID:-//Department of History, UC Santa Barbara - ECPv6.15.12.1//NONSGML v1.0//EN
CALSCALE:GREGORIAN
METHOD:PUBLISH
X-WR-CALNAME:Department of History, UC Santa Barbara
X-ORIGINAL-URL:https://www.history.ucsb.edu
X-WR-CALDESC:Events for Department of History, UC Santa Barbara
REFRESH-INTERVAL;VALUE=DURATION:PT1H
X-Robots-Tag:noindex
X-PUBLISHED-TTL:PT1H
BEGIN:VTIMEZONE
TZID:America/Los_Angeles
BEGIN:DAYLIGHT
TZOFFSETFROM:-0800
TZOFFSETTO:-0700
TZNAME:PDT
DTSTART:20200308T100000
END:DAYLIGHT
BEGIN:STANDARD
TZOFFSETFROM:-0700
TZOFFSETTO:-0800
TZNAME:PST
DTSTART:20201101T090000
END:STANDARD
BEGIN:DAYLIGHT
TZOFFSETFROM:-0800
TZOFFSETTO:-0700
TZNAME:PDT
DTSTART:20210314T100000
END:DAYLIGHT
BEGIN:STANDARD
TZOFFSETFROM:-0700
TZOFFSETTO:-0800
TZNAME:PST
DTSTART:20211107T090000
END:STANDARD
BEGIN:DAYLIGHT
TZOFFSETFROM:-0800
TZOFFSETTO:-0700
TZNAME:PDT
DTSTART:20220313T100000
END:DAYLIGHT
BEGIN:STANDARD
TZOFFSETFROM:-0700
TZOFFSETTO:-0800
TZNAME:PST
DTSTART:20221106T090000
END:STANDARD
END:VTIMEZONE
BEGIN:VEVENT
DTSTART;TZID=America/Los_Angeles:20210406T160000
DTEND;TZID=America/Los_Angeles:20210406T160000
DTSTAMP:20260424T050725
CREATED:20210405T211016Z
LAST-MODIFIED:20230203T154809Z
UID:10002867-1617724800-1617724800@www.history.ucsb.edu
SUMMARY:ISRRAR Event--Dr. Maytha Alhassen\, "The Ummic Imperative: A Decolonial Approach to Malcolm X's Islam"
DESCRIPTION:Through an assemblage of multiple archives\, Dr. Maytha Alhassen tracks the Malcolm X’s political and spiritual project the last year of his life as he travels across decolonizing geographies. Alhassen contends that undergirding Malcolm X’s Black liberation framework is a praxical commitment to an “ummic imperative.” Engaging Malcolm’s spiritual political philosophies will also serve to interrogate and complicate Third World movement politics. \nJoin this Zoom event at tinyurl.com/isrrarTalk \nThis event is part of the ISRRAR Spring Quarter series.
URL:https://www.history.ucsb.edu/events/isrrar-event-dr-maytha-alhassen-the-ummic-imperative-a-decolonial-approach-to-malcolm-xs-islam/
LOCATION:Zoom\, CA
CATEGORIES:Colloquium Event,Graduate Program
ATTACH;FMTTYPE=image/png:https://www.history.ucsb.edu/wp-content/uploads/ISRRAR-Maytha-Alhassen.png
END:VEVENT
BEGIN:VEVENT
DTSTART;TZID=America/Los_Angeles:20210409T120000
DTEND;TZID=America/Los_Angeles:20210409T133000
DTSTAMP:20260424T050725
CREATED:20210322T184104Z
LAST-MODIFIED:20230402T204028Z
UID:10002865-1617969600-1617975000@www.history.ucsb.edu
SUMMARY:Public History Colloquium Event--"Presenting the Medieval Mediterranean: Museums and Archaeology in National Discourse"
DESCRIPTION:Join the History Department’s Colloquium in Public History on Friday\, April 9 at noon for a Zoom talk by William Tronzo (History of Art\, UC San Diego). \nFrom time immemorial\, material artifacts have played an important role in political discourse: think simply of the use of the crown (in the United Kingdom) or the throne (for example\, the throne of St. Peter in the Roman Catholic Church) in the process of national or institutional self-identification. Over the course of several years\, Tronzo co-directed a collaborative project with Kimberly Bowes (University of Pennsylvania) and an international group of scholars funded by the Getty Foundation and housed at the American Academy in Rome. In this colloquium session\, Tronzo describes the project and goes deeper\, considering some of the ways in which this relationship between the realms of materiality and discourse ramified with regard to the modern period in the nations that form the Mediterranean world. Looking at objects\, texts\, and whole sites\, Tronzo offers a number of case studies of such national self-fashioning\, negotiated and managed through archeology\, collecting\, display and translation\, and set to work within discourses that embrace narrative and ritual. \nRegister for this event at http://bit.ly/medieval-mediterranean \nRecommended Readings:\nAll from Memoirs of the American Academy in Rome\, vol. 62 (2017) (Available on JSTOR)\n \nTHE ROLE AND PERCEPTION OF ISLAMIC ART AND HISTORY IN THE CONSTRUCTION OF A\nSHARED IDENTITY IN SICILY (ca. 1780–1900)\, pp. 5-40\nSilvia Armando\nhttps://www.jstor.org/stable/26787018\n \n \nVISIGOTHS\, CROWNS\, CROSSES\, AND THE CONSTRUCTION OF SPAIN\, pp. 41-64\nFrancisco J. Moreno Martín\nhttps://www.jstor.org/stable/26787019\n \n \nZIONISM\, MEDIEVAL CULTURE\, AND NATIONAL DISCOURSE\, pp. 119-134\nJudith Bronstein\nhttps://www.jstor.org/stable/26787022\n \n \nPRE-ISLAMIC ARCHAEOLOGY IN TUNISIA: THE STAKES OF A COLONIAL SCIENCE\, pp. 193-208\nMoheddine Chaouali\nhttps://www.jstor.org/stable/26787025
URL:https://www.history.ucsb.edu/events/public-history-colloquium-event-presenting-the-medieval-mediterranean-museums-and-archaeology-in-national-discourse/
LOCATION:Zoom\, CA
CATEGORIES:Colloquium Event
ATTACH;FMTTYPE=image/png:https://www.history.ucsb.edu/wp-content/uploads/Tronzo-Event-Public-History.png
END:VEVENT
BEGIN:VEVENT
DTSTART;TZID=America/Los_Angeles:20210416T130000
DTEND;TZID=America/Los_Angeles:20210416T130000
DTSTAMP:20260424T050725
CREATED:20210408T215235Z
LAST-MODIFIED:20230402T204058Z
UID:10002868-1618578000-1618578000@www.history.ucsb.edu
SUMMARY:FOCAL POINT Dialogues in History Webinar III: Racial Capitalism and Liberalism
DESCRIPTION:Building on the collective knowledge shared in the two previous webinars\, the History Department’s Colloquium Committee warmly invites you to attend the third and final session of our FOCAL POINT Dialogues in History series.  Inspired by the History Department’s Statement on the George Floyd Uprising and its invocation to understand and interrogate our racialized past and the investments of disciplinary history within it\, the series brings together UCSB History faculty and graduate students who have volunteered to lead a dialogue on Black life\, race\, and antiblackness in history. The final webinar will engage Herman Bennett’s African Kings and Black Slaves\, as a focal point to discuss themes like racial capitalism and liberalism from different historical angles of vision. \nOur final webinar will transition into a Zoom meeting room format. Registration for the Zoom meeting is required. Please click on the link below to register\, after which you will receive a passcode and meeting link. You will need the passcode to enter the meeting. \nDate: April 16\, 2021 \nTime: 1:00 PM Pacific Time (US and Canada) \nWebinar III: Racial Capitalism and Liberalism \nZoom registration: Please register in advance for this webinar using the link below. \nhttps://ucsb.zoom.us/meeting/register/tZcud-yvrj4iE9O-rnuoC1Vo4oW2d61R6HzW \nFeaturing presentations by Alice O’Connor\, Manuel Covo\, Mattie Webb\, and Sherene Seikaly \nComment by Mhoze Chikowero \n\nAlice O’Connor is a historian of poverty\, capitalism\, inequality\, social science\, and public policy in the U.S. and the author of Poverty Knowledge (2001) and Social Science for What? (2007). \nManuel Covo is a historian of French imperialism\, the Atlantic World\, and the Haitian Revolution and the author of the forthcoming The Entrepot of Atlantic Revolutions. \nMattie Webb is a historian of U.S. foreign policy\, African History\, and comparative race and ethnicity. Mattie’s archival and oral-historical research combines social and diplomatic history to study the impact and awareness of the Sullivan Principles in South Africa during the apartheid era.  \nSherene Seikaly is a historian of political economy\, capitalism\, development\, race\, and dispossession in the modern Middle East and the author of Men of Capital (2016) and co-editor of A Critical Political Economy of the Middle East and North Africa (2021). \nMhoze Chikowero is a historian of music\, colonialism\, technology\, and urban space in Zimbabwe and southern Africa and the author of African Music\, Power\, and Being in Colonial Zimbabwe (2015).
URL:https://www.history.ucsb.edu/events/focal-point-dialogues-in-history-webinar-iii-racial-capitalism-and-liberalism/
LOCATION:Zoom\, CA
CATEGORIES:Colloquium Event
ATTACH;FMTTYPE=image/jpeg:https://www.history.ucsb.edu/wp-content/uploads/Webinar-III_Racial-Capitalism-and-Liberalism.jpg
END:VEVENT
BEGIN:VEVENT
DTSTART;TZID=America/Los_Angeles:20210420T160000
DTEND;TZID=America/Los_Angeles:20210420T160000
DTSTAMP:20260424T050725
CREATED:20210418T044525Z
LAST-MODIFIED:20230203T154742Z
UID:10002870-1618934400-1618934400@www.history.ucsb.edu
SUMMARY:ISRRAR Event–Dr. Vincent Brown\, "Tacky's Revolt: The Story of an Atlantic Slave War"
DESCRIPTION:Warfare migrates. This has never been more apparent than in the era when the violence of imperial expansion and enslavement transformed Europe\, Africa\, and the Americas\, as they interacted across the Atlantic Ocean. European imperial conflicts extended the dominion of capitalist agriculture. African battles fed captives to the transatlantic trade in slaves. Masters and their human property struggled with one another continuously. These clashes amounted to a borderless slave war: war to enslave\, war to expand slavery\, and war against slaves\, precipitating wars waged by the enslaved against slaveholders. In this sense\, Dr. Vincent Brown argues\, Tacky’s revolt was but a war within other wars\, which had diverging and overlapping provocations\, combat zones\, political alliances\, and enemy combatants. \nJoin this Zoom event at tinyurl.com/isrrarTalk \nThis event is part of the ISRRAR Spring Quarter series.
URL:https://www.history.ucsb.edu/events/isrrar-event-dr-vincent-brown-tackys-revolt-the-story-of-an-atlantic-slave-war/
LOCATION:Zoom\, CA
CATEGORIES:Colloquium Event,Graduate Program
ATTACH;FMTTYPE=image/png:https://www.history.ucsb.edu/wp-content/uploads/ISRRAR-Brown.png
END:VEVENT
END:VCALENDAR