BEGIN:VCALENDAR
VERSION:2.0
PRODID:-//Department of History, UC Santa Barbara - ECPv6.15.12.1//NONSGML v1.0//EN
CALSCALE:GREGORIAN
METHOD:PUBLISH
X-WR-CALNAME:Department of History, UC Santa Barbara
X-ORIGINAL-URL:https://www.history.ucsb.edu
X-WR-CALDESC:Events for Department of History, UC Santa Barbara
REFRESH-INTERVAL;VALUE=DURATION:PT1H
X-Robots-Tag:noindex
X-PUBLISHED-TTL:PT1H
BEGIN:VTIMEZONE
TZID:America/Los_Angeles
BEGIN:DAYLIGHT
TZOFFSETFROM:-0800
TZOFFSETTO:-0700
TZNAME:PDT
DTSTART:20240310T100000
END:DAYLIGHT
BEGIN:STANDARD
TZOFFSETFROM:-0700
TZOFFSETTO:-0800
TZNAME:PST
DTSTART:20241103T090000
END:STANDARD
BEGIN:DAYLIGHT
TZOFFSETFROM:-0800
TZOFFSETTO:-0700
TZNAME:PDT
DTSTART:20250309T100000
END:DAYLIGHT
BEGIN:STANDARD
TZOFFSETFROM:-0700
TZOFFSETTO:-0800
TZNAME:PST
DTSTART:20251102T090000
END:STANDARD
BEGIN:DAYLIGHT
TZOFFSETFROM:-0800
TZOFFSETTO:-0700
TZNAME:PDT
DTSTART:20260308T100000
END:DAYLIGHT
BEGIN:STANDARD
TZOFFSETFROM:-0700
TZOFFSETTO:-0800
TZNAME:PST
DTSTART:20261101T090000
END:STANDARD
BEGIN:DAYLIGHT
TZOFFSETFROM:-0800
TZOFFSETTO:-0700
TZNAME:PDT
DTSTART:20270314T100000
END:DAYLIGHT
BEGIN:STANDARD
TZOFFSETFROM:-0700
TZOFFSETTO:-0800
TZNAME:PST
DTSTART:20271107T090000
END:STANDARD
END:VTIMEZONE
BEGIN:VEVENT
DTSTART;TZID=America/Los_Angeles:20250115T160000
DTEND;TZID=America/Los_Angeles:20250115T173000
DTSTAMP:20260420T101948
CREATED:20250110T221653Z
LAST-MODIFIED:20250110T222554Z
UID:10003001-1736956800-1736962200@www.history.ucsb.edu
SUMMARY:Victor Seow\, "The Human Factor: Work as Science in Twentieth-Century China"
DESCRIPTION:In 1935\, the Commercial Press in Shanghai published a modest-sized volume on a subject most of its readers likely never heard of. Titled An Overview of Industrial Psychology (工業心理學概觀)\, this text was written by a young psychologist who was trained in and recently returned from Britain. It was the first in Chinese on the titular subject\, which promised to (amid other things) “restore the rightful place of human beings in processes of production.” What was industrial psychology\, and why did those who promoted or practiced it across multiple political and productive regimes choose to do so? In this talk\, Victor Seow will trace the history of industrial psychology in China from the 1930s to the 1990s\, focusing on how this science of work reflected shifts in the meaning and value of labor over those decades. \nVictor Seow is John L. Loeb Associate Professor of the Social Sciences at Harvard University. He is a historian of technology\, science\, and industry\, specializing in China and Japan in their global contexts and in histories of energy and work. \nEvent cosponsored by the Lawrence Badash Memorial Lecture Fund\, the IHC’s Machines\, People\, and Politics Research Focus Group\, and the Department of History’s History of Science field.
URL:https://www.history.ucsb.edu/events/victor-seow-the-human-factor-work-as-science-in-twentieth-century-china/
LOCATION:McCune Conference Room (HSSB 6020)\, Humanities and Social Sciences Bldg\, Santa Barbara\, CA\, 93106\, United States
CATEGORIES:All Events,IHC Research Focus Groups,The Lawrence Badash Memorial Lecture Series
ATTACH;FMTTYPE=image/png:https://www.history.ucsb.edu/wp-content/uploads/Featured-image.png
GEO:34.4139682;-119.8503034
X-APPLE-STRUCTURED-LOCATION;VALUE=URI;X-ADDRESS=McCune Conference Room (HSSB 6020) Humanities and Social Sciences Bldg Santa Barbara CA 93106 United States;X-APPLE-RADIUS=500;X-TITLE=Humanities and Social Sciences Bldg:geo:-119.8503034,34.4139682
END:VEVENT
BEGIN:VEVENT
DTSTART;TZID=America/Los_Angeles:20250220T180000
DTEND;TZID=America/Los_Angeles:20250220T190000
DTSTAMP:20260420T101948
CREATED:20250131T203550Z
LAST-MODIFIED:20250220T173202Z
UID:10003013-1740074400-1740078000@www.history.ucsb.edu
SUMMARY:Juan Cobo Betancourt\, "Christianity\, Colonialism\, & the Muisca peoples of the Northern Andes"
DESCRIPTION:Public Lecture: Juan Cobo Betancourt\, “Christianity\, Colonialism\, & the Muisca peoples of the Northern Andes” \nAlhecama Theatre\, 215 E. Canon Perdido Street\, located in El Presidio de Santa Bárbara State Historic Park \nFree and open to the public. RSVP to historyassociates@ia.ucsb.edu \nHow does colonialism work without a strong colonial state? How does religious conversion work without an effective missionary project? How can historians work with an archive full of fictions? Taking the history of the Muisca peoples of the Northern Andes of what is now Colombia\, who from the 1530s found themselves at the centre of efforts by Europeans to transform them into Catholic\, tribute-paying vassals of the Spanish crown\, this talk explores the complex and contradictory ways in which Christianity\, Spanish colonialism\, and Indigenous politics came together to produce a new kind of society to the disappointment of everyone involved. \nJuan Cobo Betancourt is Associate Professor of History and Director\nof the Latin American and Iberian Studies Program and\nCenter for Latin American and Iberian Research at UC Santa\nBarbara. He has written three books on questions of religion\,\nrace\, law\, and language in colonial Latin America.
URL:https://www.history.ucsb.edu/events/juan-cobo-betancourt-christianity-colonialism-the-muisca-peoples-of-the-northern-andes/
LOCATION:Alhecama Theater\, 215 A East Canon Perdido Street\, Santa Barbara\, 93101\, United States
CATEGORIES:Academic Calendar,All Events,Public Lecture
ATTACH;FMTTYPE=image/png:https://www.history.ucsb.edu/wp-content/uploads/Screenshot-7-e1738355698725.png
END:VEVENT
BEGIN:VEVENT
DTSTART;TZID=America/Los_Angeles:20250224T160000
DTEND;TZID=America/Los_Angeles:20250224T173000
DTSTAMP:20260420T101948
CREATED:20250129T220720Z
LAST-MODIFIED:20250131T205049Z
UID:10003011-1740412800-1740418200@www.history.ucsb.edu
SUMMARY:Michael Cooperson (UCLA)\, "Towards a New Arabic Literary History"
DESCRIPTION:Towards a new Arabic literary history \nMichael Cooperson\, Professor of Arabic\, NELC\, UCLA\nWhat did pre-modern authors writing in Arabic have to say about their own literary history? Many things\, as it turns out\, most of them non-linear. In this respect\, their accounts differ from the rise-and-fall story later promulgated by European scholars––a story which has now become the dominant one even in the Arab world. \n \nWhat’s next? One way forward\, I propose\, is to draw on non-linear approaches\, both pre-modern and modern––including\, for example\, the late-nineteenth century notion of Kulturgeschichte as applied to the cultural history of Arabic-speaking societies. A new literary history of Arabic––or at least\, the one I am trying to write––should grant equal weight to all periods and regions; should foreground reception\, especially translation\, as a critical part of the story; and should embrace avowedly pedagogical elements such as commentary\, digression\, and above all\, visual explanation. \nThe talk will include a sneak preview of this work in progress; comments and criticism are welcome! I am also very interested in hearing from participants about the state of literary history in their fields of expertise.
URL:https://www.history.ucsb.edu/events/michael-cooperson-ucla-towards-a-new-arabic-literary-history/
LOCATION:HSSB 4020
CATEGORIES:All Events,Public Lecture
ATTACH;FMTTYPE=image/png:https://www.history.ucsb.edu/wp-content/uploads/Screenshot-8-e1738355892992.png
END:VEVENT
BEGIN:VEVENT
DTSTART;TZID=America/Los_Angeles:20250302T150000
DTEND;TZID=America/Los_Angeles:20250302T163000
DTSTAMP:20260420T101948
CREATED:20250131T200347Z
LAST-MODIFIED:20250131T200526Z
UID:10003012-1740927600-1740933000@www.history.ucsb.edu
SUMMARY:UCSB History on Ice FUNdraiser
DESCRIPTION:Come skate with the UCSB History Department at Ice in Paradise on Sunday\, March 2\, 2025 from 3:00 – 4:30 PM. Ticket fee ($10 for undergrads/grads\, $15 for faculty) includes skate rental\, and as many laps of the studio rink as you can accomplish in an hour and a half. Don’t forget to RSVP here! \nAll funds raised will be split between the UCSB History Club (undergraduates) and the History Graduate Students Association (HGSA). Space is limited to 100 skaters. 
URL:https://www.history.ucsb.edu/events/ucsb-history-on-ice-fundraiser/
LOCATION:Ice in Paradise\, 6985 Santa Felicia Drive\, Goleta\, 93117\, United States
CATEGORIES:All Events,Community Event,People
ATTACH;FMTTYPE=image/jpeg:https://www.history.ucsb.edu/wp-content/uploads/unnamed-9-e1738353732182.jpg
END:VEVENT
BEGIN:VEVENT
DTSTART;TZID=America/Los_Angeles:20250507T170000
DTEND;TZID=America/Los_Angeles:20250507T190000
DTSTAMP:20260420T101948
CREATED:20250429T174734Z
LAST-MODIFIED:20250429T174734Z
UID:10003024-1746637200-1746644400@www.history.ucsb.edu
SUMMARY:Talk: Erin Trumble\, "Rebirth after Retirement: How Elderly Women Reinvented Femininity in Edo Japan"
DESCRIPTION:Speaker: Graduate Student Erin Trumble\n \n\n \n\nTitle: “Rebirth after Retirement: How Elderly Women Reinvented Femininity in Edo Japan”\n \nDescription: The talk will focus on retirement as a life stage and examine how it represented a time when women had both more freedom after being liberated from daily tasks and more authority due to their age. I will examine prescriptive literature and its silences around responsibilities for retired women\, as well as use examples from the lives of Nakako\, Ieko\, Shigako\, and Aijo to show how women engaged with travel\, literature\, and religion in new ways as a result of this freedom and authority.
URL:https://www.history.ucsb.edu/events/talk-erin-trumble-rebirth-after-retirement-how-elderly-women-reinvented-femininity-in-edo-japan/
LOCATION:McCune Conference Room (HSSB 6020)\, Humanities and Social Sciences Bldg\, Santa Barbara\, CA\, 93106\, United States
CATEGORIES:Academic Calendar,All Events,Public Lecture
ATTACH;FMTTYPE=image/png:https://www.history.ucsb.edu/wp-content/uploads/2025-Van-Gelderen-e1745948692359.png
GEO:34.4139682;-119.8503034
X-APPLE-STRUCTURED-LOCATION;VALUE=URI;X-ADDRESS=McCune Conference Room (HSSB 6020) Humanities and Social Sciences Bldg Santa Barbara CA 93106 United States;X-APPLE-RADIUS=500;X-TITLE=Humanities and Social Sciences Bldg:geo:-119.8503034,34.4139682
END:VEVENT
BEGIN:VEVENT
DTSTART;TZID=America/Los_Angeles:20260127T163000
DTEND;TZID=America/Los_Angeles:20260127T180000
DTSTAMP:20260420T101948
CREATED:20260120T195435Z
LAST-MODIFIED:20260120T195435Z
UID:10003046-1769531400-1769536800@www.history.ucsb.edu
SUMMARY:Lawrence Badash Memorial Lecture 2026 : "Reading Galileo's Letters:  Experiments in Friendship\, Knowledge\, and Community" by Paula Findlen
DESCRIPTION:Paula Findlen\, Ubalto Pierotti Professor in History and Italian Studies at Stanford University will be delivering The Lawrence Badash Memorial Lecture of 2026. Her talk will be on Tuesday\, January 27 at 4:30 pm in the McCune Room\, HSSB 6020. Her talk is titled:\n“Reading Galileo’s Letters:  Experiments in Friendship\, Knowledge\, and Community”\n \nAbstract:\nGalileo’s letters are an essential archive for understanding his life and work\, but what exactly was their role in the evolution and presentation of his science?  This talk explores the instrumental role of Galileo’s letters in the production and communication of scientific knowledge and the evolution of the scientific community with which he engaged.  It also explores the role of letters in the controversies surrounding his science and discusses why we should see Galileo’s letters as one of his important experiments.
URL:https://www.history.ucsb.edu/events/lawrence-badash-memorial-lecture-2026-reading-galileos-letters-experiments-in-friendship-knowledge-and-community-by-paula-findlen/
LOCATION:HSSB 6020 (McCune Room)\, University of California Santa Barbara\, Santa Barbara\, CA\, 93106\, United States
CATEGORIES:Academic Calendar,All Events,Colloquium Event,The Lawrence Badash Memorial Lecture Series
ATTACH;FMTTYPE=image/jpeg:https://www.history.ucsb.edu/wp-content/uploads/4-2.jpg
GEO:34.4142938;-119.8474306
X-APPLE-STRUCTURED-LOCATION;VALUE=URI;X-ADDRESS=HSSB 6020 (McCune Room) University of California Santa Barbara Santa Barbara CA 93106 United States;X-APPLE-RADIUS=500;X-TITLE=University of California Santa Barbara:geo:-119.8474306,34.4142938
END:VEVENT
BEGIN:VEVENT
DTSTART;TZID=America/Los_Angeles:20260409T170000
DTEND;TZID=America/Los_Angeles:20260409T183000
DTSTAMP:20260420T101948
CREATED:20260310T160324Z
LAST-MODIFIED:20260328T024834Z
UID:10003052-1775754000-1775759400@www.history.ucsb.edu
SUMMARY:Labor and Capitalism in Modern Egypt: Wages in a Sugar Factory\, 1847-1904
DESCRIPTION:This paper contributes to the global history of capitalism in rural contexts\, examining the impact of agro-industrial mechanization on wages in African rural communities through a case study of a sugar factory in 19th-century Egypt. Utilizing approximately fifty wage registers from the Rawda factory in Middle Egypt\, dating from 1849 to 1903 and now preserved in the Egyptian National Archives\, the study offers a detailed analysis of wage trends over this fifty-year period. By focusing on the monthly wages of various labor categories—ranging from European and local engineers to factory supervisors and\, notably\, accountants involved in sugar production—this research traces shifts in the value of skilled labor. Preliminary findings suggest a decline in the relative value of skill over time\, with technological innovation or labor shortages serving as key factors in any subsequent increases in skill valuation. \n  \nAdam Mestyan is a historian of the modern Middle East and the Ford Foundation Professor of Middle Eastern Studies in the Department of Near Eastern Languages and Civilizations at Harvard University. His research and teaching focus on how globalization and war have shaped Arab societies and cultures—especially Egypt\, Syria\, and the Red Sea region—from the late Ottoman Empire to today. He is the author of Modern Arab Kingship – Remaking the Ottoman Political Order in the Interwar Middle East (Princeton\, 2023); Primordial History\, Print Capitalism\, and Egyptology in Nineteenth-Century Cairo (Ifao\, 2021); and Arab Patriotism: The Ideology and Culture of Power in Late Ottoman Egypt (Princeton\, 2017). Currently he is writing a history of economic life in Egypt through the story of its sugar industry. \n 
URL:https://www.history.ucsb.edu/events/labor-and-capitalism-in-modern-egypt-wages-in-a-sugar-factory-1847-1904/
LOCATION:HSSB 4080\, 4080 Humanities and Social Sciences Building\, UC Santa Barbara\, Santa Barbara\, CA\, 93106\, United States
CATEGORIES:All Events
ATTACH;FMTTYPE=image/jpeg:https://www.history.ucsb.edu/wp-content/uploads/Mestyan-talk-flyer.jpg
GEO:34.4139629;-119.848947
X-APPLE-STRUCTURED-LOCATION;VALUE=URI;X-ADDRESS=HSSB 4080 4080 Humanities and Social Sciences Building UC Santa Barbara Santa Barbara CA 93106 United States;X-APPLE-RADIUS=500;X-TITLE=4080 Humanities and Social Sciences Building\, UC Santa Barbara:geo:-119.848947,34.4139629
END:VEVENT
END:VCALENDAR