BEGIN:VCALENDAR
VERSION:2.0
PRODID:-//Department of History, UC Santa Barbara - ECPv6.15.12.1//NONSGML v1.0//EN
CALSCALE:GREGORIAN
METHOD:PUBLISH
X-WR-CALNAME:Department of History, UC Santa Barbara
X-ORIGINAL-URL:https://www.history.ucsb.edu
X-WR-CALDESC:Events for Department of History, UC Santa Barbara
REFRESH-INTERVAL;VALUE=DURATION:PT1H
X-Robots-Tag:noindex
X-PUBLISHED-TTL:PT1H
BEGIN:VTIMEZONE
TZID:America/Los_Angeles
BEGIN:DAYLIGHT
TZOFFSETFROM:-0800
TZOFFSETTO:-0700
TZNAME:PDT
DTSTART:20230312T100000
END:DAYLIGHT
BEGIN:STANDARD
TZOFFSETFROM:-0700
TZOFFSETTO:-0800
TZNAME:PST
DTSTART:20231105T090000
END:STANDARD
BEGIN:DAYLIGHT
TZOFFSETFROM:-0800
TZOFFSETTO:-0700
TZNAME:PDT
DTSTART:20240310T100000
END:DAYLIGHT
BEGIN:STANDARD
TZOFFSETFROM:-0700
TZOFFSETTO:-0800
TZNAME:PST
DTSTART:20241103T090000
END:STANDARD
BEGIN:DAYLIGHT
TZOFFSETFROM:-0800
TZOFFSETTO:-0700
TZNAME:PDT
DTSTART:20250309T100000
END:DAYLIGHT
BEGIN:STANDARD
TZOFFSETFROM:-0700
TZOFFSETTO:-0800
TZNAME:PST
DTSTART:20251102T090000
END:STANDARD
END:VTIMEZONE
BEGIN:VEVENT
DTSTART;TZID=America/Los_Angeles:20240424T173000
DTEND;TZID=America/Los_Angeles:20240424T193000
DTSTAMP:20260416T103053
CREATED:20230929T202335Z
LAST-MODIFIED:20240418T192248Z
UID:10002971-1713979800-1713987000@www.history.ucsb.edu
SUMMARY:Women and Revolution: War\, Violence\, and Family Separations Across the U.S.-Mexico Borderlands
DESCRIPTION:Verónica Castillo-Muñoz will give a talk called: \n“Women and Revolution: War\, Violence\, and Family Separations Across the U.S.-Mexico Borderlands.” \nOn April 24 at 5:30pm \nAt Alhecama Theater\, 215 E. Canon Perdido
URL:https://www.history.ucsb.edu/events/women-and-revolution-war-violence-and-family-separations-across-the-u-s-mexico-borderlands/
LOCATION:Alhecama Theater\, 215 A East Canon Perdido Street\, Santa Barbara\, 93101\, United States
CATEGORIES:History Associates,Public Lecture
ATTACH;FMTTYPE=image/png:https://www.history.ucsb.edu/wp-content/uploads/Veronica-Castillo-Munoz-PDF.png
END:VEVENT
END:VCALENDAR