BEGIN:VCALENDAR
VERSION:2.0
PRODID:-//Department of History, UC Santa Barbara - ECPv6.15.12.1//NONSGML v1.0//EN
CALSCALE:GREGORIAN
METHOD:PUBLISH
X-WR-CALNAME:Department of History, UC Santa Barbara
X-ORIGINAL-URL:https://www.history.ucsb.edu
X-WR-CALDESC:Events for Department of History, UC Santa Barbara
REFRESH-INTERVAL;VALUE=DURATION:PT1H
X-Robots-Tag:noindex
X-PUBLISHED-TTL:PT1H
BEGIN:VTIMEZONE
TZID:America/Los_Angeles
BEGIN:DAYLIGHT
TZOFFSETFROM:-0800
TZOFFSETTO:-0700
TZNAME:PDT
DTSTART:20230312T100000
END:DAYLIGHT
BEGIN:STANDARD
TZOFFSETFROM:-0700
TZOFFSETTO:-0800
TZNAME:PST
DTSTART:20231105T090000
END:STANDARD
BEGIN:DAYLIGHT
TZOFFSETFROM:-0800
TZOFFSETTO:-0700
TZNAME:PDT
DTSTART:20240310T100000
END:DAYLIGHT
BEGIN:STANDARD
TZOFFSETFROM:-0700
TZOFFSETTO:-0800
TZNAME:PST
DTSTART:20241103T090000
END:STANDARD
BEGIN:DAYLIGHT
TZOFFSETFROM:-0800
TZOFFSETTO:-0700
TZNAME:PDT
DTSTART:20250309T100000
END:DAYLIGHT
BEGIN:STANDARD
TZOFFSETFROM:-0700
TZOFFSETTO:-0800
TZNAME:PST
DTSTART:20251102T090000
END:STANDARD
END:VTIMEZONE
BEGIN:VEVENT
DTSTART;TZID=America/Los_Angeles:20240221T173000
DTEND;TZID=America/Los_Angeles:20240221T193000
DTSTAMP:20260420T042956
CREATED:20230929T201859Z
LAST-MODIFIED:20231120T214615Z
UID:10002970-1708536600-1708543800@www.history.ucsb.edu
SUMMARY:The Atlantic Revolutions
DESCRIPTION:Manuel Covo will give a talk on Atlantic Revolutions\, title TBD \nOn Wednesday\, February 21 at 5:30 pm \nat the Goleta Library \n 
URL:https://www.history.ucsb.edu/events/the-atlantic-revolutions/
LOCATION:Goleta Library\, 500 N Fairview Ave\,\, Goleta\, California\, 93117\, United States
ATTACH;FMTTYPE=image/png:https://www.history.ucsb.edu/wp-content/uploads/Screen-Shot-2023-09-29-at-1.29.32-PM.png
END:VEVENT
END:VCALENDAR